Workbook
Name fav: INDEX(PlayersList,Dashboard!$J$4)
Name PlayersList: Dashboard!$D$7:$D$11

Sheet Info
B2: Excel WC2022 Sweepstake
C3: This is free version 09, Home edition for 5 players
C5: CELLS:
D6: Fill only
C8: WORKSHEETS:
C9: Info | D9: Current Info Sheet
C10: Dashboard | D10: Fully automated. Players selection Combo Box
C11: Schedule | D11: Power Query. Fully automated after refresh data
C12: (Name) | D12: Players Sheet. Type your predictions and name your Sheet
C13: SET | D13: Hidden Sheet Settings. You can declare point for each match or stage
C15: Sweepstake Rules of game
C16: The user fills the sheet in, only using the yellow boxes, players names and types of results of individual players for matches.
C17: The results of matches (Schedule) are taken from the website by Power query
C18: The system formula counts the number of points each player earned in each of the matches based on the following rules.
C19: 1. If the player correctly predicted the exact outcome of the match, (Result and Score) they will receive 3 points.
C20: 2. If the player correctly predicted the winner of the match or a draw, they will earn 1 point
C21: 3. In any other case, the player will receive 0 points.
C22: 4. If multiple players finish on the same number of points, there finishing order in the table will be decided based on whichever of the players predicted an accurate result the most times.
C23: 5. In other cases, players will take the same position.
C24: 6. These rules are automatically implemented; therefore, the table will sum up the results of all the players.
C25: 7. Betting in 90 Minutes means is the market you’re betting on will be resulted after 90 minutes, and will not include extra-time or penalties.
C26: However, it does include stoppage time added by the referee for injuries, penalties etc.
C28: UPGRADE:
D40: Prepared by EEXCEL

Sheet Dashboard
B2: Sweepstake Dashboard
G4: Select the Player >>> | J4: 2
C6: Rank | D6: Player | E6: Group | F6: 1/8 | G6: 1/4 | H6: 1/2 | I6: Third Place | J6: Final | K6: Total
C7: =RANK(K7,$K$7:$K$11) -> 1 | D7: ='04'!$A$1 -> 04 | E7: =SUMIF('04'!$C$4:$C$67,Dashboard!E$6,'04'!$J$4:$J$67) -> 0 | F7: =SUMIF('04'!$C$4:$C$67,Dashboard!F$6,'04'!$J$4:$J$67) -> 0 | G7: =SUMIF('04'!$C$4:$C$67,Dashboard!G$6,'04'!$J$4:$J$67) -> 0 | H7: =SUMIF('04'!$C$4:$C$67,Dashboard!H$6,'04'!$J$4:$J$67) -> 0 | I7: =SUMIF('04'!$C$4:$C$67,Dashboard!I$6,'04'!$J$4:$J$67) -> 0 | J7: =SUMIF('04'!$C$4:$C$67,Dashboard!J$6,'04'!$J$4:$J$67) -> 0 | K7: =SUM(E7:J7) -> 0
C8: =RANK(K8,$K$7:$K$11) -> 1 | D8: ='01'!$A$1 -> 01 | E8: =SUMIF('01'!$C$4:$C$67,Dashboard!E$6,'01'!$J$4:$J$67) -> 0 | F8: =SUMIF('01'!$C$4:$C$67,Dashboard!F$6,'01'!$J$4:$J$67) -> 0 | G8: =SUMIF('01'!$C$4:$C$67,Dashboard!G$6,'01'!$J$4:$J$67) -> 0 | H8: =SUMIF('01'!$C$4:$C$67,Dashboard!H$6,'01'!$J$4:$J$67) -> 0 | I8: =SUMIF('01'!$C$4:$C$67,Dashboard!I$6,'01'!$J$4:$J$67) -> 0 | J8: =SUMIF('01'!$C$4:$C$67,Dashboard!J$6,'01'!$J$4:$J$67) -> 0 | K8: =SUM(E8:J8) -> 0
C9: =RANK(K9,$K$7:$K$11) -> 1 | D9: ='05'!$A$1 -> 05 | E9: =SUMIF('05'!$C$4:$C$67,Dashboard!E$6,'05'!$J$4:$J$67) -> 0 | F9: =SUMIF('05'!$C$4:$C$67,Dashboard!F$6,'05'!$J$4:$J$67) -> 0 | G9: =SUMIF('05'!$C$4:$C$67,Dashboard!G$6,'05'!$J$4:$J$67) -> 0 | H9: =SUMIF('05'!$C$4:$C$67,Dashboard!H$6,'05'!$J$4:$J$67) -> 0 | I9: =SUMIF('05'!$C$4:$C$67,Dashboard!I$6,'05'!$J$4:$J$67) -> 0 | J9: =SUMIF('05'!$C$4:$C$67,Dashboard!J$6,'05'!$J$4:$J$67) -> 0 | K9: =SUM(E9:J9) -> 0
C10: =RANK(K10,$K$7:$K$11) -> 1 | D10: ='02'!$A$1 -> 02 | E10: =SUMIF('02'!$C$4:$C$67,Dashboard!E$6,'02'!$J$4:$J$67) -> 0 | F10: =SUMIF('02'!$C$4:$C$67,Dashboard!F$6,'02'!$J$4:$J$67) -> 0 | G10: =SUMIF('02'!$C$4:$C$67,Dashboard!G$6,'02'!$J$4:$J$67) -> 0 | H10: =SUMIF('02'!$C$4:$C$67,Dashboard!H$6,'02'!$J$4:$J$67) -> 0 | I10: =SUMIF('02'!$C$4:$C$67,Dashboard!I$6,'02'!$J$4:$J$67) -> 0 | J10: =SUMIF('02'!$C$4:$C$67,Dashboard!J$6,'02'!$J$4:$J$67) -> 0 | K10: =SUM(E10:J10) -> 0
C11: =RANK(K11,$K$7:$K$11) -> 1 | D11: ='03'!$A$1 -> 03 | E11: =SUMIF('03'!$C$4:$C$67,Dashboard!E$6,'03'!$J$4:$J$67) -> 0 | F11: =SUMIF('03'!$C$4:$C$67,Dashboard!F$6,'03'!$J$4:$J$67) -> 0 | G11: =SUMIF('03'!$C$4:$C$67,Dashboard!G$6,'03'!$J$4:$J$67) -> 0 | H11: =SUMIF('03'!$C$4:$C$67,Dashboard!H$6,'03'!$J$4:$J$67) -> 0 | I11: =SUMIF('03'!$C$4:$C$67,Dashboard!I$6,'03'!$J$4:$J$67) -> 0 | J11: =SUMIF('03'!$C$4:$C$67,Dashboard!J$6,'03'!$J$4:$J$67) -> 0 | K11: =SUM(E11:J11) -> 0

Sheet Schedule
A1: You can update data below, using option Refresh (Right click in data region and select Refresh)
A3: No | B3: Date | C3: Stage | D3: Team1 | E3: Team2 | F3: Goals1 | G3: Goals2 | H3: Match | I3: Ind
A4: 1 | B4: 44885 | C4: A | D4: Qatar | E4: Ecuador | F4: 2 | G4: 1 | H4: =NOT(OR(ISBLANK(F4),ISBLANK(G4))) -> TRUE | I4: =IF(H4=FALSE,0,IF(F4>G4,1,IF(G4>F4,2,3))) -> 1
A5: 2 | B5: 44886 | C5: A | D5: Senegal | E5: Netherlands | F5: 0 | G5: 3 | H5: =NOT(OR(ISBLANK(F5),ISBLANK(G5))) -> TRUE | I5: =IF(H5=FALSE,0,IF(F5>G5,1,IF(G5>F5,2,3))) -> 2
A6: 3 | B6: 44886 | C6: B | D6: England | E6: Iran | F6: 2 | G6: 1 | H6: =NOT(OR(ISBLANK(F6),ISBLANK(G6))) -> TRUE | I6: =IF(H6=FALSE,0,IF(F6>G6,1,IF(G6>F6,2,3))) -> 1
A7: 4 | B7: 44886 | C7: B | D7: United States | E7: Wales | F7: 1 | G7: 3 | H7: =NOT(OR(ISBLANK(F7),ISBLANK(G7))) -> TRUE | I7: =IF(H7=FALSE,0,IF(F7>G7,1,IF(G7>F7,2,3))) -> 2
A8: 5 | B8: 44887 | C8: D | D8: Denmark | E8: Tunisia | F8: 0 | G8: 1 | H8: =NOT(OR(ISBLANK(F8),ISBLANK(G8))) -> TRUE | I8: =IF(H8=FALSE,0,IF(F8>G8,1,IF(G8>F8,2,3))) -> 2
A9: 6 | B9: 44887 | C9: D | D9: France | E9: Australia | F9: 2 | G9: 1 | H9: =NOT(OR(ISBLANK(F9),ISBLANK(G9))) -> TRUE | I9: =IF(H9=FALSE,0,IF(F9>G9,1,IF(G9>F9,2,3))) -> 1
A10: 7 | B10: 44887 | C10: C | D10: Argentina | E10: Australia | F10: 2 | G10: 1 | H10: =NOT(OR(ISBLANK(F10),ISBLANK(G10))) -> TRUE | I10: =IF(H10=FALSE,0,IF(F10>G10,1,IF(G10>F10,2,3))) -> 1
A11: 8 | B11: 44887 | C11: C | D11: Mexico | E11: Poland | F11: 3 | G11: 1 | H11: =NOT(OR(ISBLANK(F11),ISBLANK(G11))) -> TRUE | I11: =IF(H11=FALSE,0,IF(F11>G11,1,IF(G11>F11,2,3))) -> 1
A12: 9 | B12: 44888 | C12: F | D12: Belgium | E12: Canada | F12: 1 | G12: 0 | H12: =NOT(OR(ISBLANK(F12),ISBLANK(G12))) -> TRUE | I12: =IF(H12=FALSE,0,IF(F12>G12,1,IF(G12>F12,2,3))) -> 1
A13: 10 | B13: 44888 | C13: E | D13: Spain | E13: Costa Rica | F13: 2 | G13: 1 | H13: =NOT(OR(ISBLANK(F13),ISBLANK(G13))) -> TRUE | I13: =IF(H13=FALSE,0,IF(F13>G13,1,IF(G13>F13,2,3))) -> 1
A14: 11 | B14: 44888 | C14: E | D14: Germany | E14: Japan | F14: 0 | G14: 3 | H14: =NOT(OR(ISBLANK(F14),ISBLANK(G14))) -> TRUE | I14: =IF(H14=FALSE,0,IF(F14>G14,1,IF(G14>F14,2,3))) -> 2
A15: 12 | B15: 44888 | C15: F | D15: Morocco | E15: Croatia | F15: 1 | G15: 4 | H15: =NOT(OR(ISBLANK(F15),ISBLANK(G15))) -> TRUE | I15: =IF(H15=FALSE,0,IF(F15>G15,1,IF(G15>F15,2,3))) -> 2
... A19: 16 | B19: 44889 | C19: G | D19: Brazil | E19: Serbia | F19: 3 | G19: 4 | H19: =NOT(OR(ISBLANK(F19),ISBLANK(G19))) -> TRUE | I19: =IF(H19=FALSE,0,IF(F19>G19,1,IF(G19>F19,2,3))) -> 2
A20: 17 | B20: 44890 | C20: B | D20: Wales | E20: Iran | H20: =NOT(OR(ISBLANK(F20),ISBLANK(G20))) -> FALSE | I20: =IF(H20=FALSE,0,IF(F20>G20,1,IF(G20>F20,2,3))) -> 0
A21: 18 | B21: 44890 | C21: A | D21: Qatar | E21: Senegal | H21: =NOT(OR(ISBLANK(F21),ISBLANK(G21))) -> FALSE | I21: =IF(H21=FALSE,0,IF(F21>G21,1,IF(G21>F21,2,3))) -> 0
A22: 19 | B22: 44890 | C22: A | D22: Netherlands | E22: Ecuador | H22: =NOT(OR(ISBLANK(F22),ISBLANK(G22))) -> FALSE | I22: =IF(H22=FALSE,0,IF(F22>G22,1,IF(G22>F22,2,3))) -> 0
A23: 20 | B23: 44890 | C23: B | D23: England | E23: United States | H23: =NOT(OR(ISBLANK(F23),ISBLANK(G23))) -> FALSE | I23: =IF(H23=FALSE,0,IF(F23>G23,1,IF(G23>F23,2,3))) -> 0
A24: 21 | B24: 44891 | C24: D | D24: Tunisia | E24: Australia | H24: =NOT(OR(ISBLANK(F24),ISBLANK(G24))) -> FALSE | I24: =IF(H24=FALSE,0,IF(F24>G24,1,IF(G24>F24,2,3))) -> 0
A25: 22 | B25: 44891 | C25: C | D25: Poland | E25: Saudi Arabia | H25: =NOT(OR(ISBLANK(F25),ISBLANK(G25))) -> FALSE | I25: =IF(H25=FALSE,0,IF(F25>G25,1,IF(G25>F25,2,3))) -> 0
A26: 23 | B26: 44891 | C26: D | D26: France | E26: Denmark | H26: =NOT(OR(ISBLANK(F26),ISBLANK(G26))) -> FALSE | I26: =IF(H26=FALSE,0,IF(F26>G26,1,IF(G26>F26,2,3))) -> 0
A27: 24 | B27: 44891 | C27: C | D27: Argentina | E27: Mexico | H27: =NOT(OR(ISBLANK(F27),ISBLANK(G27))) -> FALSE | I27: =IF(H27=FALSE,0,IF(F27>G27,1,IF(G27>F27,2,3))) -> 0
A28: 25 | B28: 44892 | C28: E | D28: Japan | E28: Costa Rica | H28: =NOT(OR(ISBLANK(F28),ISBLANK(G28))) -> FALSE | I28: =IF(H28=FALSE,0,IF(F28>G28,1,IF(G28>F28,2,3))) -> 0
A29: 26 | B29: 44892 | C29: F | D29: Belgium | E29: Morocco | H29: =NOT(OR(ISBLANK(F29),ISBLANK(G29))) -> FALSE | I29: =IF(H29=FALSE,0,IF(F29>G29,1,IF(G29>F29,2,3))) -> 0
A30: 27 | B30: 44892 | C30: F | D30: Croatia | E30: Canada | H30: =NOT(OR(ISBLANK(F30),ISBLANK(G30))) -> FALSE | I30: =IF(H30=FALSE,0,IF(F30>G30,1,IF(G30>F30,2,3))) -> 0
A31: 28 | B31: 44892 | C31: E | D31: Spain | E31: Germany | H31: =NOT(OR(ISBLANK(F31),ISBLANK(G31))) -> FALSE | I31: =IF(H31=FALSE,0,IF(F31>G31,1,IF(G31>F31,2,3))) -> 0
... A67: 64 | B67: 44913 | C67: Final | D67: W61 | E67: W62 | H67: =NOT(OR(ISBLANK(F67),ISBLANK(G67))) -> FALSE | I67: =IF(H67=FALSE,0,IF(F67>G67,1,IF(G67>F67,2,3))) -> 0

Sheet 01
A1: {=MID(CELL("filename",A1),FIND("]",CELL("filename",A1))+1,255)} -> 01
A3: No | B3: Date | C3: Stage | D3: T1 | E3: T2 | F3: G1 | G3: G2 | H3: Match | I3: Ind | J3: Points
A4: =IF(Schedule!A4="","",Schedule!A4) -> 1 | B4: =IF(Schedule!B4="","",Schedule!B4) -> 44885 | C4: Group | D4: =IF(Schedule!D4="","",Schedule!D4) -> Qatar | E4: =IF(Schedule!E4="","",Schedule!E4) -> Ecuador | H4: =NOT(OR(ISBLANK(F4),ISBLANK(G4))) -> FALSE | I4: =IF(H4=FALSE,0,IF(F4>G4,1,IF(G4>F4,2,3))) -> 0 | J4: =IFERROR(IF(OR(H4=FALSE,Schedule!H4=FALSE),0,IF(AND(F4=Schedule!F4,G4=Schedule!G4),VLOOKUP(A4,SET!$B$11:$E$74,3,0),IF(I4=Schedule!I4,VLOOKUP(A4,SET!$B$11:$E$74,4,0),0))),0) -> 0
A5: =IF(Schedule!A5="","",Schedule!A5) -> 2 | B5: =IF(Schedule!B5="","",Schedule!B5) -> 44886 | C5: Group | D5: =IF(Schedule!D5="","",Schedule!D5) -> Senegal | E5: =IF(Schedule!E5="","",Schedule!E5) -> Netherlands | H5: =NOT(OR(ISBLANK(F5),ISBLANK(G5))) -> FALSE | I5: =IF(H5=FALSE,0,IF(F5>G5,1,IF(G5>F5,2,3))) -> 0 | J5: =IFERROR(IF(OR(H5=FALSE,Schedule!H5=FALSE),0,IF(AND(F5=Schedule!F5,G5=Schedule!G5),VLOOKUP(A5,SET!$B$11:$E$74,3,0),IF(I5=Schedule!I5,VLOOKUP(A5,SET!$B$11:$E$74,4,0),0))),0) -> 0
A6: =IF(Schedule!A6="","",Schedule!A6) -> 3 | B6: =IF(Schedule!B6="","",Schedule!B6) -> 44886 | C6: Group | D6: =IF(Schedule!D6="","",Schedule!D6) -> England | E6: =IF(Schedule!E6="","",Schedule!E6) -> Iran | H6: =NOT(OR(ISBLANK(F6),ISBLANK(G6))) -> FALSE | I6: =IF(H6=FALSE,0,IF(F6>G6,1,IF(G6>F6,2,3))) -> 0 | J6: =IFERROR(IF(OR(H6=FALSE,Schedule!H6=FALSE),0,IF(AND(F6=Schedule!F6,G6=Schedule!G6),VLOOKUP(A6,SET!$B$11:$E$74,3,0),IF(I6=Schedule!I6,VLOOKUP(A6,SET!$B$11:$E$74,4,0),0))),0) -> 0
A7: =IF(Schedule!A7="","",Schedule!A7) -> 4 | B7: =IF(Schedule!B7="","",Schedule!B7) -> 44886 | C7: Group | D7: =IF(Schedule!D7="","",Schedule!D7) -> United States | E7: =IF(Schedule!E7="","",Schedule!E7) -> Wales | H7: =NOT(OR(ISBLANK(F7),ISBLANK(G7))) -> FALSE | I7: =IF(H7=FALSE,0,IF(F7>G7,1,IF(G7>F7,2,3))) -> 0 | J7: =IFERROR(IF(OR(H7=FALSE,Schedule!H7=FALSE),0,IF(AND(F7=Schedule!F7,G7=Schedule!G7),VLOOKUP(A7,SET!$B$11:$E$74,3,0),IF(I7=Schedule!I7,VLOOKUP(A7,SET!$B$11:$E$74,4,0),0))),0) -> 0
A8: =IF(Schedule!A8="","",Schedule!A8) -> 5 | B8: =IF(Schedule!B8="","",Schedule!B8) -> 44887 | C8: Group | D8: =IF(Schedule!D8="","",Schedule!D8) -> Denmark | E8: =IF(Schedule!E8="","",Schedule!E8) -> Tunisia | H8: =NOT(OR(ISBLANK(F8),ISBLANK(G8))) -> FALSE | I8: =IF(H8=FALSE,0,IF(F8>G8,1,IF(G8>F8,2,3))) -> 0 | J8: =IFERROR(IF(OR(H8=FALSE,Schedule!H8=FALSE),0,IF(AND(F8=Schedule!F8,G8=Schedule!G8),VLOOKUP(A8,SET!$B$11:$E$74,3,0),IF(I8=Schedule!I8,VLOOKUP(A8,SET!$B$11:$E$74,4,0),0))),0) -> 0
A9: =IF(Schedule!A9="","",Schedule!A9) -> 6 | B9: =IF(Schedule!B9="","",Schedule!B9) -> 44887 | C9: Group | D9: =IF(Schedule!D9="","",Schedule!D9) -> France | E9: =IF(Schedule!E9="","",Schedule!E9) -> Australia | H9: =NOT(OR(ISBLANK(F9),ISBLANK(G9))) -> FALSE | I9: =IF(H9=FALSE,0,IF(F9>G9,1,IF(G9>F9,2,3))) -> 0 | J9: =IFERROR(IF(OR(H9=FALSE,Schedule!H9=FALSE),0,IF(AND(F9=Schedule!F9,G9=Schedule!G9),VLOOKUP(A9,SET!$B$11:$E$74,3,0),IF(I9=Schedule!I9,VLOOKUP(A9,SET!$B$11:$E$74,4,0),0))),0) -> 0
A10: =IF(Schedule!A10="","",Schedule!A10) -> 7 | B10: =IF(Schedule!B10="","",Schedule!B10) -> 44887 | C10: Group | D10: =IF(Schedule!D10="","",Schedule!D10) -> Argentina | E10: =IF(Schedule!E10="","",Schedule!E10) -> Australia | H10: =NOT(OR(ISBLANK(F10),ISBLANK(G10))) -> FALSE | I10: =IF(H10=FALSE,0,IF(F10>G10,1,IF(G10>F10,2,3))) -> 0 | J10: =IFERROR(IF(OR(H10=FALSE,Schedule!H10=FALSE),0,IF(AND(F10=Schedule!F10,G10=Schedule!G10),VLOOKUP(A10,SET!$B$11:$E$74,3,0),IF(I10=Schedule!I10,VLOOKUP(A10,SET!$B$11:$E$74,4,0),0))),0) -> 0
A11: =IF(Schedule!A11="","",Schedule!A11) -> 8 | B11: =IF(Schedule!B11="","",Schedule!B11) -> 44887 | C11: Group | D11: =IF(Schedule!D11="","",Schedule!D11) -> Mexico | E11: =IF(Schedule!E11="","",Schedule!E11) -> Poland | H11: =NOT(OR(ISBLANK(F11),ISBLANK(G11))) -> FALSE | I11: =IF(H11=FALSE,0,IF(F11>G11,1,IF(G11>F11,2,3))) -> 0 | J11: =IFERROR(IF(OR(H11=FALSE,Schedule!H11=FALSE),0,IF(AND(F11=Schedule!F11,G11=Schedule!G11),VLOOKUP(A11,SET!$B$11:$E$74,3,0),IF(I11=Schedule!I11,VLOOKUP(A11,SET!$B$11:$E$74,4,0),0))),0) -> 0
A12: =IF(Schedule!A12="","",Schedule!A12) -> 9 | B12: =IF(Schedule!B12="","",Schedule!B12) -> 44888 | C12: Group | D12: =IF(Schedule!D12="","",Schedule!D12) -> Belgium | E12: =IF(Schedule!E12="","",Schedule!E12) -> Canada | H12: =NOT(OR(ISBLANK(F12),ISBLANK(G12))) -> FALSE | I12: =IF(H12=FALSE,0,IF(F12>G12,1,IF(G12>F12,2,3))) -> 0 | J12: =IFERROR(IF(OR(H12=FALSE,Schedule!H12=FALSE),0,IF(AND(F12=Schedule!F12,G12=Schedule!G12),VLOOKUP(A12,SET!$B$11:$E$74,3,0),IF(I12=Schedule!I12,VLOOKUP(A12,SET!$B$11:$E$74,4,0),0))),0) -> 0
A13: =IF(Schedule!A13="","",Schedule!A13) -> 10 | B13: =IF(Schedule!B13="","",Schedule!B13) -> 44888 | C13: Group | D13: =IF(Schedule!D13="","",Schedule!D13) -> Spain | E13: =IF(Schedule!E13="","",Schedule!E13) -> Costa Rica | H13: =NOT(OR(ISBLANK(F13),ISBLANK(G13))) -> FALSE | I13: =IF(H13=FALSE,0,IF(F13>G13,1,IF(G13>F13,2,3))) -> 0 | J13: =IFERROR(IF(OR(H13=FALSE,Schedule!H13=FALSE),0,IF(AND(F13=Schedule!F13,G13=Schedule!G13),VLOOKUP(A13,SET!$B$11:$E$74,3,0),IF(I13=Schedule!I13,VLOOKUP(A13,SET!$B$11:$E$74,4,0),0))),0) -> 0
A14: =IF(Schedule!A14="","",Schedule!A14) -> 11 | B14: =IF(Schedule!B14="","",Schedule!B14) -> 44888 | C14: Group | D14: =IF(Schedule!D14="","",Schedule!D14) -> Germany | E14: =IF(Schedule!E14="","",Schedule!E14) -> Japan | H14: =NOT(OR(ISBLANK(F14),ISBLANK(G14))) -> FALSE | I14: =IF(H14=FALSE,0,IF(F14>G14,1,IF(G14>F14,2,3))) -> 0 | J14: =IFERROR(IF(OR(H14=FALSE,Schedule!H14=FALSE),0,IF(AND(F14=Schedule!F14,G14=Schedule!G14),VLOOKUP(A14,SET!$B$11:$E$74,3,0),IF(I14=Schedule!I14,VLOOKUP(A14,SET!$B$11:$E$74,4,0),0))),0) -> 0
A15: =IF(Schedule!A15="","",Schedule!A15) -> 12 | B15: =IF(Schedule!B15="","",Schedule!B15) -> 44888 | C15: Group | D15: =IF(Schedule!D15="","",Schedule!D15) -> Morocco | E15: =IF(Schedule!E15="","",Schedule!E15) -> Croatia | H15: =NOT(OR(ISBLANK(F15),ISBLANK(G15))) -> FALSE | I15: =IF(H15=FALSE,0,IF(F15>G15,1,IF(G15>F15,2,3))) -> 0 | J15: =IFERROR(IF(OR(H15=FALSE,Schedule!H15=FALSE),0,IF(AND(F15=Schedule!F15,G15=Schedule!G15),VLOOKUP(A15,SET!$B$11:$E$74,3,0),IF(I15=Schedule!I15,VLOOKUP(A15,SET!$B$11:$E$74,4,0),0))),0) -> 0
... A67: =IF(Schedule!A67="","",Schedule!A67) -> 64 | B67: =IF(Schedule!B67="","",Schedule!B67) -> 44913 | C67: Final | D67: =IF(Schedule!D67="","",Schedule!D67) -> W61 | E67: =IF(Schedule!E67="","",Schedule!E67) -> W62 | H67: =NOT(OR(ISBLANK(F67),ISBLANK(G67))) -> FALSE | I67: =IF(H67=FALSE,0,IF(F67>G67,1,IF(G67>F67,2,3))) -> 0 | J67: =IFERROR(IF(OR(H67=FALSE,Schedule!H67=FALSE),0,IF(AND(F67=Schedule!F67,G67=Schedule!G67),VLOOKUP(A67,SET!$B$11:$E$74,3,0),IF(I67=Schedule!I67,VLOOKUP(A67,SET!$B$11:$E$74,4,0),0))),0) -> 0

Sheet 02
A1: {=MID(CELL("filename",A1),FIND("]",CELL("filename",A1))+1,255)} -> 02
A3: No | B3: Date | C3: Stage | D3: T1 | E3: T2 | F3: G1 | G3: G2 | H3: Match | I3: Ind | J3: Points
A4: =IF(Schedule!A4="","",Schedule!A4) -> 1 | B4: =IF(Schedule!B4="","",Schedule!B4) -> 44885 | C4: Group | D4: =IF(Schedule!D4="","",Schedule!D4) -> Qatar | E4: =IF(Schedule!E4="","",Schedule!E4) -> Ecuador | H4: =NOT(OR(ISBLANK(F4),ISBLANK(G4))) -> FALSE | I4: =IF(H4=FALSE,0,IF(F4>G4,1,IF(G4>F4,2,3))) -> 0 | J4: =IFERROR(IF(OR(H4=FALSE,Schedule!H4=FALSE),0,IF(AND(F4=Schedule!F4,G4=Schedule!G4),VLOOKUP(A4,SET!$B$11:$E$74,3,0),IF(I4=Schedule!I4,VLOOKUP(A4,SET!$B$11:$E$74,4,0),0))),0) -> 0
A5: =IF(Schedule!A5="","",Schedule!A5) -> 2 | B5: =IF(Schedule!B5="","",Schedule!B5) -> 44886 | C5: Group | D5: =IF(Schedule!D5="","",Schedule!D5) -> Senegal | E5: =IF(Schedule!E5="","",Schedule!E5) -> Netherlands | H5: =NOT(OR(ISBLANK(F5),ISBLANK(G5))) -> FALSE | I5: =IF(H5=FALSE,0,IF(F5>G5,1,IF(G5>F5,2,3))) -> 0 | J5: =IFERROR(IF(OR(H5=FALSE,Schedule!H5=FALSE),0,IF(AND(F5=Schedule!F5,G5=Schedule!G5),VLOOKUP(A5,SET!$B$11:$E$74,3,0),IF(I5=Schedule!I5,VLOOKUP(A5,SET!$B$11:$E$74,4,0),0))),0) -> 0
A6: =IF(Schedule!A6="","",Schedule!A6) -> 3 | B6: =IF(Schedule!B6="","",Schedule!B6) -> 44886 | C6: Group | D6: =IF(Schedule!D6="","",Schedule!D6) -> England | E6: =IF(Schedule!E6="","",Schedule!E6) -> Iran | H6: =NOT(OR(ISBLANK(F6),ISBLANK(G6))) -> FALSE | I6: =IF(H6=FALSE,0,IF(F6>G6,1,IF(G6>F6,2,3))) -> 0 | J6: =IFERROR(IF(OR(H6=FALSE,Schedule!H6=FALSE),0,IF(AND(F6=Schedule!F6,G6=Schedule!G6),VLOOKUP(A6,SET!$B$11:$E$74,3,0),IF(I6=Schedule!I6,VLOOKUP(A6,SET!$B$11:$E$74,4,0),0))),0) -> 0
A7: =IF(Schedule!A7="","",Schedule!A7) -> 4 | B7: =IF(Schedule!B7="","",Schedule!B7) -> 44886 | C7: Group | D7: =IF(Schedule!D7="","",Schedule!D7) -> United States | E7: =IF(Schedule!E7="","",Schedule!E7) -> Wales | H7: =NOT(OR(ISBLANK(F7),ISBLANK(G7))) -> FALSE | I7: =IF(H7=FALSE,0,IF(F7>G7,1,IF(G7>F7,2,3))) -> 0 | J7: =IFERROR(IF(OR(H7=FALSE,Schedule!H7=FALSE),0,IF(AND(F7=Schedule!F7,G7=Schedule!G7),VLOOKUP(A7,SET!$B$11:$E$74,3,0),IF(I7=Schedule!I7,VLOOKUP(A7,SET!$B$11:$E$74,4,0),0))),0) -> 0
A8: =IF(Schedule!A8="","",Schedule!A8) -> 5 | B8: =IF(Schedule!B8="","",Schedule!B8) -> 44887 | C8: Group | D8: =IF(Schedule!D8="","",Schedule!D8) -> Denmark | E8: =IF(Schedule!E8="","",Schedule!E8) -> Tunisia | H8: =NOT(OR(ISBLANK(F8),ISBLANK(G8))) -> FALSE | I8: =IF(H8=FALSE,0,IF(F8>G8,1,IF(G8>F8,2,3))) -> 0 | J8: =IFERROR(IF(OR(H8=FALSE,Schedule!H8=FALSE),0,IF(AND(F8=Schedule!F8,G8=Schedule!G8),VLOOKUP(A8,SET!$B$11:$E$74,3,0),IF(I8=Schedule!I8,VLOOKUP(A8,SET!$B$11:$E$74,4,0),0))),0) -> 0
A9: =IF(Schedule!A9="","",Schedule!A9) -> 6 | B9: =IF(Schedule!B9="","",Schedule!B9) -> 44887 | C9: Group | D9: =IF(Schedule!D9="","",Schedule!D9) -> France | E9: =IF(Schedule!E9="","",Schedule!E9) -> Australia | H9: =NOT(OR(ISBLANK(F9),ISBLANK(G9))) -> FALSE | I9: =IF(H9=FALSE,0,IF(F9>G9,1,IF(G9>F9,2,3))) -> 0 | J9: =IFERROR(IF(OR(H9=FALSE,Schedule!H9=FALSE),0,IF(AND(F9=Schedule!F9,G9=Schedule!G9),VLOOKUP(A9,SET!$B$11:$E$74,3,0),IF(I9=Schedule!I9,VLOOKUP(A9,SET!$B$11:$E$74,4,0),0))),0) -> 0
A10: =IF(Schedule!A10="","",Schedule!A10) -> 7 | B10: =IF(Schedule!B10="","",Schedule!B10) -> 44887 | C10: Group | D10: =IF(Schedule!D10="","",Schedule!D10) -> Argentina | E10: =IF(Schedule!E10="","",Schedule!E10) -> Australia | H10: =NOT(OR(ISBLANK(F10),ISBLANK(G10))) -> FALSE | I10: =IF(H10=FALSE,0,IF(F10>G10,1,IF(G10>F10,2,3))) -> 0 | J10: =IFERROR(IF(OR(H10=FALSE,Schedule!H10=FALSE),0,IF(AND(F10=Schedule!F10,G10=Schedule!G10),VLOOKUP(A10,SET!$B$11:$E$74,3,0),IF(I10=Schedule!I10,VLOOKUP(A10,SET!$B$11:$E$74,4,0),0))),0) -> 0
A11: =IF(Schedule!A11="","",Schedule!A11) -> 8 | B11: =IF(Schedule!B11="","",Schedule!B11) -> 44887 | C11: Group | D11: =IF(Schedule!D11="","",Schedule!D11) -> Mexico | E11: =IF(Schedule!E11="","",Schedule!E11) -> Poland | H11: =NOT(OR(ISBLANK(F11),ISBLANK(G11))) -> FALSE | I11: =IF(H11=FALSE,0,IF(F11>G11,1,IF(G11>F11,2,3))) -> 0 | J11: =IFERROR(IF(OR(H11=FALSE,Schedule!H11=FALSE),0,IF(AND(F11=Schedule!F11,G11=Schedule!G11),VLOOKUP(A11,SET!$B$11:$E$74,3,0),IF(I11=Schedule!I11,VLOOKUP(A11,SET!$B$11:$E$74,4,0),0))),0) -> 0
A12: =IF(Schedule!A12="","",Schedule!A12) -> 9 | B12: =IF(Schedule!B12="","",Schedule!B12) -> 44888 | C12: Group | D12: =IF(Schedule!D12="","",Schedule!D12) -> Belgium | E12: =IF(Schedule!E12="","",Schedule!E12) -> Canada | H12: =NOT(OR(ISBLANK(F12),ISBLANK(G12))) -> FALSE | I12: =IF(H12=FALSE,0,IF(F12>G12,1,IF(G12>F12,2,3))) -> 0 | J12: =IFERROR(IF(OR(H12=FALSE,Schedule!H12=FALSE),0,IF(AND(F12=Schedule!F12,G12=Schedule!G12),VLOOKUP(A12,SET!$B$11:$E$74,3,0),IF(I12=Schedule!I12,VLOOKUP(A12,SET!$B$11:$E$74,4,0),0))),0) -> 0
A13: =IF(Schedule!A13="","",Schedule!A13) -> 10 | B13: =IF(Schedule!B13="","",Schedule!B13) -> 44888 | C13: Group | D13: =IF(Schedule!D13="","",Schedule!D13) -> Spain | E13: =IF(Schedule!E13="","",Schedule!E13) -> Costa Rica | H13: =NOT(OR(ISBLANK(F13),ISBLANK(G13))) -> FALSE | I13: =IF(H13=FALSE,0,IF(F13>G13,1,IF(G13>F13,2,3))) -> 0 | J13: =IFERROR(IF(OR(H13=FALSE,Schedule!H13=FALSE),0,IF(AND(F13=Schedule!F13,G13=Schedule!G13),VLOOKUP(A13,SET!$B$11:$E$74,3,0),IF(I13=Schedule!I13,VLOOKUP(A13,SET!$B$11:$E$74,4,0),0))),0) -> 0
A14: =IF(Schedule!A14="","",Schedule!A14) -> 11 | B14: =IF(Schedule!B14="","",Schedule!B14) -> 44888 | C14: Group | D14: =IF(Schedule!D14="","",Schedule!D14) -> Germany | E14: =IF(Schedule!E14="","",Schedule!E14) -> Japan | H14: =NOT(OR(ISBLANK(F14),ISBLANK(G14))) -> FALSE | I14: =IF(H14=FALSE,0,IF(F14>G14,1,IF(G14>F14,2,3))) -> 0 | J14: =IFERROR(IF(OR(H14=FALSE,Schedule!H14=FALSE),0,IF(AND(F14=Schedule!F14,G14=Schedule!G14),VLOOKUP(A14,SET!$B$11:$E$74,3,0),IF(I14=Schedule!I14,VLOOKUP(A14,SET!$B$11:$E$74,4,0),0))),0) -> 0
A15: =IF(Schedule!A15="","",Schedule!A15) -> 12 | B15: =IF(Schedule!B15="","",Schedule!B15) -> 44888 | C15: Group | D15: =IF(Schedule!D15="","",Schedule!D15) -> Morocco | E15: =IF(Schedule!E15="","",Schedule!E15) -> Croatia | H15: =NOT(OR(ISBLANK(F15),ISBLANK(G15))) -> FALSE | I15: =IF(H15=FALSE,0,IF(F15>G15,1,IF(G15>F15,2,3))) -> 0 | J15: =IFERROR(IF(OR(H15=FALSE,Schedule!H15=FALSE),0,IF(AND(F15=Schedule!F15,G15=Schedule!G15),VLOOKUP(A15,SET!$B$11:$E$74,3,0),IF(I15=Schedule!I15,VLOOKUP(A15,SET!$B$11:$E$74,4,0),0))),0) -> 0
... A67: =IF(Schedule!A67="","",Schedule!A67) -> 64 | B67: =IF(Schedule!B67="","",Schedule!B67) -> 44913 | C67: Final | D67: =IF(Schedule!D67="","",Schedule!D67) -> W61 | E67: =IF(Schedule!E67="","",Schedule!E67) -> W62 | H67: =NOT(OR(ISBLANK(F67),ISBLANK(G67))) -> FALSE | I67: =IF(H67=FALSE,0,IF(F67>G67,1,IF(G67>F67,2,3))) -> 0 | J67: =IFERROR(IF(OR(H67=FALSE,Schedule!H67=FALSE),0,IF(AND(F67=Schedule!F67,G67=Schedule!G67),VLOOKUP(A67,SET!$B$11:$E$74,3,0),IF(I67=Schedule!I67,VLOOKUP(A67,SET!$B$11:$E$74,4,0),0))),0) -> 0

Sheet 03
A1: {=MID(CELL("filename",A1),FIND("]",CELL("filename",A1))+1,255)} -> 03
A3: No | B3: Date | C3: Stage | D3: T1 | E3: T2 | F3: G1 | G3: G2 | H3: Match | I3: Ind | J3: Points
A4: =IF(Schedule!A4="","",Schedule!A4) -> 1 | B4: =IF(Schedule!B4="","",Schedule!B4) -> 44885 | C4: Group | D4: =IF(Schedule!D4="","",Schedule!D4) -> Qatar | E4: =IF(Schedule!E4="","",Schedule!E4) -> Ecuador | H4: =NOT(OR(ISBLANK(F4),ISBLANK(G4))) -> FALSE | I4: =IF(H4=FALSE,0,IF(F4>G4,1,IF(G4>F4,2,3))) -> 0 | J4: =IFERROR(IF(OR(H4=FALSE,Schedule!H4=FALSE),0,IF(AND(F4=Schedule!F4,G4=Schedule!G4),VLOOKUP(A4,SET!$B$11:$E$74,3,0),IF(I4=Schedule!I4,VLOOKUP(A4,SET!$B$11:$E$74,4,0),0))),0) -> 0
A5: =IF(Schedule!A5="","",Schedule!A5) -> 2 | B5: =IF(Schedule!B5="","",Schedule!B5) -> 44886 | C5: Group | D5: =IF(Schedule!D5="","",Schedule!D5) -> Senegal | E5: =IF(Schedule!E5="","",Schedule!E5) -> Netherlands | H5: =NOT(OR(ISBLANK(F5),ISBLANK(G5))) -> FALSE | I5: =IF(H5=FALSE,0,IF(F5>G5,1,IF(G5>F5,2,3))) -> 0 | J5: =IFERROR(IF(OR(H5=FALSE,Schedule!H5=FALSE),0,IF(AND(F5=Schedule!F5,G5=Schedule!G5),VLOOKUP(A5,SET!$B$11:$E$74,3,0),IF(I5=Schedule!I5,VLOOKUP(A5,SET!$B$11:$E$74,4,0),0))),0) -> 0
A6: =IF(Schedule!A6="","",Schedule!A6) -> 3 | B6: =IF(Schedule!B6="","",Schedule!B6) -> 44886 | C6: Group | D6: =IF(Schedule!D6="","",Schedule!D6) -> England | E6: =IF(Schedule!E6="","",Schedule!E6) -> Iran | H6: =NOT(OR(ISBLANK(F6),ISBLANK(G6))) -> FALSE | I6: =IF(H6=FALSE,0,IF(F6>G6,1,IF(G6>F6,2,3))) -> 0 | J6: =IFERROR(IF(OR(H6=FALSE,Schedule!H6=FALSE),0,IF(AND(F6=Schedule!F6,G6=Schedule!G6),VLOOKUP(A6,SET!$B$11:$E$74,3,0),IF(I6=Schedule!I6,VLOOKUP(A6,SET!$B$11:$E$74,4,0),0))),0) -> 0
A7: =IF(Schedule!A7="","",Schedule!A7) -> 4 | B7: =IF(Schedule!B7="","",Schedule!B7) -> 44886 | C7: Group | D7: =IF(Schedule!D7="","",Schedule!D7) -> United States | E7: =IF(Schedule!E7="","",Schedule!E7) -> Wales | H7: =NOT(OR(ISBLANK(F7),ISBLANK(G7))) -> FALSE | I7: =IF(H7=FALSE,0,IF(F7>G7,1,IF(G7>F7,2,3))) -> 0 | J7: =IFERROR(IF(OR(H7=FALSE,Schedule!H7=FALSE),0,IF(AND(F7=Schedule!F7,G7=Schedule!G7),VLOOKUP(A7,SET!$B$11:$E$74,3,0),IF(I7=Schedule!I7,VLOOKUP(A7,SET!$B$11:$E$74,4,0),0))),0) -> 0
A8: =IF(Schedule!A8="","",Schedule!A8) -> 5 | B8: =IF(Schedule!B8="","",Schedule!B8) -> 44887 | C8: Group | D8: =IF(Schedule!D8="","",Schedule!D8) -> Denmark | E8: =IF(Schedule!E8="","",Schedule!E8) -> Tunisia | H8: =NOT(OR(ISBLANK(F8),ISBLANK(G8))) -> FALSE | I8: =IF(H8=FALSE,0,IF(F8>G8,1,IF(G8>F8,2,3))) -> 0 | J8: =IFERROR(IF(OR(H8=FALSE,Schedule!H8=FALSE),0,IF(AND(F8=Schedule!F8,G8=Schedule!G8),VLOOKUP(A8,SET!$B$11:$E$74,3,0),IF(I8=Schedule!I8,VLOOKUP(A8,SET!$B$11:$E$74,4,0),0))),0) -> 0
A9: =IF(Schedule!A9="","",Schedule!A9) -> 6 | B9: =IF(Schedule!B9="","",Schedule!B9) -> 44887 | C9: Group | D9: =IF(Schedule!D9="","",Schedule!D9) -> France | E9: =IF(Schedule!E9="","",Schedule!E9) -> Australia | H9: =NOT(OR(ISBLANK(F9),ISBLANK(G9))) -> FALSE | I9: =IF(H9=FALSE,0,IF(F9>G9,1,IF(G9>F9,2,3))) -> 0 | J9: =IFERROR(IF(OR(H9=FALSE,Schedule!H9=FALSE),0,IF(AND(F9=Schedule!F9,G9=Schedule!G9),VLOOKUP(A9,SET!$B$11:$E$74,3,0),IF(I9=Schedule!I9,VLOOKUP(A9,SET!$B$11:$E$74,4,0),0))),0) -> 0
A10: =IF(Schedule!A10="","",Schedule!A10) -> 7 | B10: =IF(Schedule!B10="","",Schedule!B10) -> 44887 | C10: Group | D10: =IF(Schedule!D10="","",Schedule!D10) -> Argentina | E10: =IF(Schedule!E10="","",Schedule!E10) -> Australia | H10: =NOT(OR(ISBLANK(F10),ISBLANK(G10))) -> FALSE | I10: =IF(H10=FALSE,0,IF(F10>G10,1,IF(G10>F10,2,3))) -> 0 | J10: =IFERROR(IF(OR(H10=FALSE,Schedule!H10=FALSE),0,IF(AND(F10=Schedule!F10,G10=Schedule!G10),VLOOKUP(A10,SET!$B$11:$E$74,3,0),IF(I10=Schedule!I10,VLOOKUP(A10,SET!$B$11:$E$74,4,0),0))),0) -> 0
A11: =IF(Schedule!A11="","",Schedule!A11) -> 8 | B11: =IF(Schedule!B11="","",Schedule!B11) -> 44887 | C11: Group | D11: =IF(Schedule!D11="","",Schedule!D11) -> Mexico | E11: =IF(Schedule!E11="","",Schedule!E11) -> Poland | H11: =NOT(OR(ISBLANK(F11),ISBLANK(G11))) -> FALSE | I11: =IF(H11=FALSE,0,IF(F11>G11,1,IF(G11>F11,2,3))) -> 0 | J11: =IFERROR(IF(OR(H11=FALSE,Schedule!H11=FALSE),0,IF(AND(F11=Schedule!F11,G11=Schedule!G11),VLOOKUP(A11,SET!$B$11:$E$74,3,0),IF(I11=Schedule!I11,VLOOKUP(A11,SET!$B$11:$E$74,4,0),0))),0) -> 0
A12: =IF(Schedule!A12="","",Schedule!A12) -> 9 | B12: =IF(Schedule!B12="","",Schedule!B12) -> 44888 | C12: Group | D12: =IF(Schedule!D12="","",Schedule!D12) -> Belgium | E12: =IF(Schedule!E12="","",Schedule!E12) -> Canada | H12: =NOT(OR(ISBLANK(F12),ISBLANK(G12))) -> FALSE | I12: =IF(H12=FALSE,0,IF(F12>G12,1,IF(G12>F12,2,3))) -> 0 | J12: =IFERROR(IF(OR(H12=FALSE,Schedule!H12=FALSE),0,IF(AND(F12=Schedule!F12,G12=Schedule!G12),VLOOKUP(A12,SET!$B$11:$E$74,3,0),IF(I12=Schedule!I12,VLOOKUP(A12,SET!$B$11:$E$74,4,0),0))),0) -> 0
A13: =IF(Schedule!A13="","",Schedule!A13) -> 10 | B13: =IF(Schedule!B13="","",Schedule!B13) -> 44888 | C13: Group | D13: =IF(Schedule!D13="","",Schedule!D13) -> Spain | E13: =IF(Schedule!E13="","",Schedule!E13) -> Costa Rica | H13: =NOT(OR(ISBLANK(F13),ISBLANK(G13))) -> FALSE | I13: =IF(H13=FALSE,0,IF(F13>G13,1,IF(G13>F13,2,3))) -> 0 | J13: =IFERROR(IF(OR(H13=FALSE,Schedule!H13=FALSE),0,IF(AND(F13=Schedule!F13,G13=Schedule!G13),VLOOKUP(A13,SET!$B$11:$E$74,3,0),IF(I13=Schedule!I13,VLOOKUP(A13,SET!$B$11:$E$74,4,0),0))),0) -> 0
A14: =IF(Schedule!A14="","",Schedule!A14) -> 11 | B14: =IF(Schedule!B14="","",Schedule!B14) -> 44888 | C14: Group | D14: =IF(Schedule!D14="","",Schedule!D14) -> Germany | E14: =IF(Schedule!E14="","",Schedule!E14) -> Japan | H14: =NOT(OR(ISBLANK(F14),ISBLANK(G14))) -> FALSE | I14: =IF(H14=FALSE,0,IF(F14>G14,1,IF(G14>F14,2,3))) -> 0 | J14: =IFERROR(IF(OR(H14=FALSE,Schedule!H14=FALSE),0,IF(AND(F14=Schedule!F14,G14=Schedule!G14),VLOOKUP(A14,SET!$B$11:$E$74,3,0),IF(I14=Schedule!I14,VLOOKUP(A14,SET!$B$11:$E$74,4,0),0))),0) -> 0
A15: =IF(Schedule!A15="","",Schedule!A15) -> 12 | B15: =IF(Schedule!B15="","",Schedule!B15) -> 44888 | C15: Group | D15: =IF(Schedule!D15="","",Schedule!D15) -> Morocco | E15: =IF(Schedule!E15="","",Schedule!E15) -> Croatia | H15: =NOT(OR(ISBLANK(F15),ISBLANK(G15))) -> FALSE | I15: =IF(H15=FALSE,0,IF(F15>G15,1,IF(G15>F15,2,3))) -> 0 | J15: =IFERROR(IF(OR(H15=FALSE,Schedule!H15=FALSE),0,IF(AND(F15=Schedule!F15,G15=Schedule!G15),VLOOKUP(A15,SET!$B$11:$E$74,3,0),IF(I15=Schedule!I15,VLOOKUP(A15,SET!$B$11:$E$74,4,0),0))),0) -> 0
... A67: =IF(Schedule!A67="","",Schedule!A67) -> 64 | B67: =IF(Schedule!B67="","",Schedule!B67) -> 44913 | C67: Final | D67: =IF(Schedule!D67="","",Schedule!D67) -> W61 | E67: =IF(Schedule!E67="","",Schedule!E67) -> W62 | H67: =NOT(OR(ISBLANK(F67),ISBLANK(G67))) -> FALSE | I67: =IF(H67=FALSE,0,IF(F67>G67,1,IF(G67>F67,2,3))) -> 0 | J67: =IFERROR(IF(OR(H67=FALSE,Schedule!H67=FALSE),0,IF(AND(F67=Schedule!F67,G67=Schedule!G67),VLOOKUP(A67,SET!$B$11:$E$74,3,0),IF(I67=Schedule!I67,VLOOKUP(A67,SET!$B$11:$E$74,4,0),0))),0) -> 0

Sheet 04
A1: {=MID(CELL("filename",A1),FIND("]",CELL("filename",A1))+1,255)} -> 04
A3: No | B3: Date | C3: Stage | D3: T1 | E3: T2 | F3: G1 | G3: G2 | H3: Match | I3: Ind | J3: Points
A4: =IF(Schedule!A4="","",Schedule!A4) -> 1 | B4: =IF(Schedule!B4="","",Schedule!B4) -> 44885 | C4: Group | D4: =IF(Schedule!D4="","",Schedule!D4) -> Qatar | E4: =IF(Schedule!E4="","",Schedule!E4) -> Ecuador | H4: =NOT(OR(ISBLANK(F4),ISBLANK(G4))) -> FALSE | I4: =IF(H4=FALSE,0,IF(F4>G4,1,IF(G4>F4,2,3))) -> 0 | J4: =IFERROR(IF(OR(H4=FALSE,Schedule!H4=FALSE),0,IF(AND(F4=Schedule!F4,G4=Schedule!G4),VLOOKUP(A4,SET!$B$11:$E$74,3,0),IF(I4=Schedule!I4,VLOOKUP(A4,SET!$B$11:$E$74,4,0),0))),0) -> 0
A5: =IF(Schedule!A5="","",Schedule!A5) -> 2 | B5: =IF(Schedule!B5="","",Schedule!B5) -> 44886 | C5: Group | D5: =IF(Schedule!D5="","",Schedule!D5) -> Senegal | E5: =IF(Schedule!E5="","",Schedule!E5) -> Netherlands | H5: =NOT(OR(ISBLANK(F5),ISBLANK(G5))) -> FALSE | I5: =IF(H5=FALSE,0,IF(F5>G5,1,IF(G5>F5,2,3))) -> 0 | J5: =IFERROR(IF(OR(H5=FALSE,Schedule!H5=FALSE),0,IF(AND(F5=Schedule!F5,G5=Schedule!G5),VLOOKUP(A5,SET!$B$11:$E$74,3,0),IF(I5=Schedule!I5,VLOOKUP(A5,SET!$B$11:$E$74,4,0),0))),0) -> 0
A6: =IF(Schedule!A6="","",Schedule!A6) -> 3 | B6: =IF(Schedule!B6="","",Schedule!B6) -> 44886 | C6: Group | D6: =IF(Schedule!D6="","",Schedule!D6) -> England | E6: =IF(Schedule!E6="","",Schedule!E6) -> Iran | H6: =NOT(OR(ISBLANK(F6),ISBLANK(G6))) -> FALSE | I6: =IF(H6=FALSE,0,IF(F6>G6,1,IF(G6>F6,2,3))) -> 0 | J6: =IFERROR(IF(OR(H6=FALSE,Schedule!H6=FALSE),0,IF(AND(F6=Schedule!F6,G6=Schedule!G6),VLOOKUP(A6,SET!$B$11:$E$74,3,0),IF(I6=Schedule!I6,VLOOKUP(A6,SET!$B$11:$E$74,4,0),0))),0) -> 0
A7: =IF(Schedule!A7="","",Schedule!A7) -> 4 | B7: =IF(Schedule!B7="","",Schedule!B7) -> 44886 | C7: Group | D7: =IF(Schedule!D7="","",Schedule!D7) -> United States | E7: =IF(Schedule!E7="","",Schedule!E7) -> Wales | H7: =NOT(OR(ISBLANK(F7),ISBLANK(G7))) -> FALSE | I7: =IF(H7=FALSE,0,IF(F7>G7,1,IF(G7>F7,2,3))) -> 0 | J7: =IFERROR(IF(OR(H7=FALSE,Schedule!H7=FALSE),0,IF(AND(F7=Schedule!F7,G7=Schedule!G7),VLOOKUP(A7,SET!$B$11:$E$74,3,0),IF(I7=Schedule!I7,VLOOKUP(A7,SET!$B$11:$E$74,4,0),0))),0) -> 0
A8: =IF(Schedule!A8="","",Schedule!A8) -> 5 | B8: =IF(Schedule!B8="","",Schedule!B8) -> 44887 | C8: Group | D8: =IF(Schedule!D8="","",Schedule!D8) -> Denmark | E8: =IF(Schedule!E8="","",Schedule!E8) -> Tunisia | H8: =NOT(OR(ISBLANK(F8),ISBLANK(G8))) -> FALSE | I8: =IF(H8=FALSE,0,IF(F8>G8,1,IF(G8>F8,2,3))) -> 0 | J8: =IFERROR(IF(OR(H8=FALSE,Schedule!H8=FALSE),0,IF(AND(F8=Schedule!F8,G8=Schedule!G8),VLOOKUP(A8,SET!$B$11:$E$74,3,0),IF(I8=Schedule!I8,VLOOKUP(A8,SET!$B$11:$E$74,4,0),0))),0) -> 0
A9: =IF(Schedule!A9="","",Schedule!A9) -> 6 | B9: =IF(Schedule!B9="","",Schedule!B9) -> 44887 | C9: Group | D9: =IF(Schedule!D9="","",Schedule!D9) -> France | E9: =IF(Schedule!E9="","",Schedule!E9) -> Australia | H9: =NOT(OR(ISBLANK(F9),ISBLANK(G9))) -> FALSE | I9: =IF(H9=FALSE,0,IF(F9>G9,1,IF(G9>F9,2,3))) -> 0 | J9: =IFERROR(IF(OR(H9=FALSE,Schedule!H9=FALSE),0,IF(AND(F9=Schedule!F9,G9=Schedule!G9),VLOOKUP(A9,SET!$B$11:$E$74,3,0),IF(I9=Schedule!I9,VLOOKUP(A9,SET!$B$11:$E$74,4,0),0))),0) -> 0
A10: =IF(Schedule!A10="","",Schedule!A10) -> 7 | B10: =IF(Schedule!B10="","",Schedule!B10) -> 44887 | C10: Group | D10: =IF(Schedule!D10="","",Schedule!D10) -> Argentina | E10: =IF(Schedule!E10="","",Schedule!E10) -> Australia | H10: =NOT(OR(ISBLANK(F10),ISBLANK(G10))) -> FALSE | I10: =IF(H10=FALSE,0,IF(F10>G10,1,IF(G10>F10,2,3))) -> 0 | J10: =IFERROR(IF(OR(H10=FALSE,Schedule!H10=FALSE),0,IF(AND(F10=Schedule!F10,G10=Schedule!G10),VLOOKUP(A10,SET!$B$11:$E$74,3,0),IF(I10=Schedule!I10,VLOOKUP(A10,SET!$B$11:$E$74,4,0),0))),0) -> 0
A11: =IF(Schedule!A11="","",Schedule!A11) -> 8 | B11: =IF(Schedule!B11="","",Schedule!B11) -> 44887 | C11: Group | D11: =IF(Schedule!D11="","",Schedule!D11) -> Mexico | E11: =IF(Schedule!E11="","",Schedule!E11) -> Poland | H11: =NOT(OR(ISBLANK(F11),ISBLANK(G11))) -> FALSE | I11: =IF(H11=FALSE,0,IF(F11>G11,1,IF(G11>F11,2,3))) -> 0 | J11: =IFERROR(IF(OR(H11=FALSE,Schedule!H11=FALSE),0,IF(AND(F11=Schedule!F11,G11=Schedule!G11),VLOOKUP(A11,SET!$B$11:$E$74,3,0),IF(I11=Schedule!I11,VLOOKUP(A11,SET!$B$11:$E$74,4,0),0))),0) -> 0
A12: =IF(Schedule!A12="","",Schedule!A12) -> 9 | B12: =IF(Schedule!B12="","",Schedule!B12) -> 44888 | C12: Group | D12: =IF(Schedule!D12="","",Schedule!D12) -> Belgium | E12: =IF(Schedule!E12="","",Schedule!E12) -> Canada | H12: =NOT(OR(ISBLANK(F12),ISBLANK(G12))) -> FALSE | I12: =IF(H12=FALSE,0,IF(F12>G12,1,IF(G12>F12,2,3))) -> 0 | J12: =IFERROR(IF(OR(H12=FALSE,Schedule!H12=FALSE),0,IF(AND(F12=Schedule!F12,G12=Schedule!G12),VLOOKUP(A12,SET!$B$11:$E$74,3,0),IF(I12=Schedule!I12,VLOOKUP(A12,SET!$B$11:$E$74,4,0),0))),0) -> 0
A13: =IF(Schedule!A13="","",Schedule!A13) -> 10 | B13: =IF(Schedule!B13="","",Schedule!B13) -> 44888 | C13: Group | D13: =IF(Schedule!D13="","",Schedule!D13) -> Spain | E13: =IF(Schedule!E13="","",Schedule!E13) -> Costa Rica | H13: =NOT(OR(ISBLANK(F13),ISBLANK(G13))) -> FALSE | I13: =IF(H13=FALSE,0,IF(F13>G13,1,IF(G13>F13,2,3))) -> 0 | J13: =IFERROR(IF(OR(H13=FALSE,Schedule!H13=FALSE),0,IF(AND(F13=Schedule!F13,G13=Schedule!G13),VLOOKUP(A13,SET!$B$11:$E$74,3,0),IF(I13=Schedule!I13,VLOOKUP(A13,SET!$B$11:$E$74,4,0),0))),0) -> 0
A14: =IF(Schedule!A14="","",Schedule!A14) -> 11 | B14: =IF(Schedule!B14="","",Schedule!B14) -> 44888 | C14: Group | D14: =IF(Schedule!D14="","",Schedule!D14) -> Germany | E14: =IF(Schedule!E14="","",Schedule!E14) -> Japan | H14: =NOT(OR(ISBLANK(F14),ISBLANK(G14))) -> FALSE | I14: =IF(H14=FALSE,0,IF(F14>G14,1,IF(G14>F14,2,3))) -> 0 | J14: =IFERROR(IF(OR(H14=FALSE,Schedule!H14=FALSE),0,IF(AND(F14=Schedule!F14,G14=Schedule!G14),VLOOKUP(A14,SET!$B$11:$E$74,3,0),IF(I14=Schedule!I14,VLOOKUP(A14,SET!$B$11:$E$74,4,0),0))),0) -> 0
A15: =IF(Schedule!A15="","",Schedule!A15) -> 12 | B15: =IF(Schedule!B15="","",Schedule!B15) -> 44888 | C15: Group | D15: =IF(Schedule!D15="","",Schedule!D15) -> Morocco | E15: =IF(Schedule!E15="","",Schedule!E15) -> Croatia | H15: =NOT(OR(ISBLANK(F15),ISBLANK(G15))) -> FALSE | I15: =IF(H15=FALSE,0,IF(F15>G15,1,IF(G15>F15,2,3))) -> 0 | J15: =IFERROR(IF(OR(H15=FALSE,Schedule!H15=FALSE),0,IF(AND(F15=Schedule!F15,G15=Schedule!G15),VLOOKUP(A15,SET!$B$11:$E$74,3,0),IF(I15=Schedule!I15,VLOOKUP(A15,SET!$B$11:$E$74,4,0),0))),0) -> 0
... A67: =IF(Schedule!A67="","",Schedule!A67) -> 64 | B67: =IF(Schedule!B67="","",Schedule!B67) -> 44913 | C67: Final | D67: =IF(Schedule!D67="","",Schedule!D67) -> W61 | E67: =IF(Schedule!E67="","",Schedule!E67) -> W62 | H67: =NOT(OR(ISBLANK(F67),ISBLANK(G67))) -> FALSE | I67: =IF(H67=FALSE,0,IF(F67>G67,1,IF(G67>F67,2,3))) -> 0 | J67: =IFERROR(IF(OR(H67=FALSE,Schedule!H67=FALSE),0,IF(AND(F67=Schedule!F67,G67=Schedule!G67),VLOOKUP(A67,SET!$B$11:$E$74,3,0),IF(I67=Schedule!I67,VLOOKUP(A67,SET!$B$11:$E$74,4,0),0))),0) -> 0

Sheet 05
A1: {=MID(CELL("filename",A1),FIND("]",CELL("filename",A1))+1,255)} -> 05
A3: No | B3: Date | C3: Stage | D3: T1 | E3: T2 | F3: G1 | G3: G2 | H3: Match | I3: Ind | J3: Points
A4: =IF(Schedule!A4="","",Schedule!A4) -> 1 | B4: =IF(Schedule!B4="","",Schedule!B4) -> 44885 | C4: Group | D4: =IF(Schedule!D4="","",Schedule!D4) -> Qatar | E4: =IF(Schedule!E4="","",Schedule!E4) -> Ecuador | H4: =NOT(OR(ISBLANK(F4),ISBLANK(G4))) -> FALSE | I4: =IF(H4=FALSE,0,IF(F4>G4,1,IF(G4>F4,2,3))) -> 0 | J4: =IFERROR(IF(OR(H4=FALSE,Schedule!H4=FALSE),0,IF(AND(F4=Schedule!F4,G4=Schedule!G4),VLOOKUP(A4,SET!$B$11:$E$74,3,0),IF(I4=Schedule!I4,VLOOKUP(A4,SET!$B$11:$E$74,4,0),0))),0) -> 0
A5: =IF(Schedule!A5="","",Schedule!A5) -> 2 | B5: =IF(Schedule!B5="","",Schedule!B5) -> 44886 | C5: Group | D5: =IF(Schedule!D5="","",Schedule!D5) -> Senegal | E5: =IF(Schedule!E5="","",Schedule!E5) -> Netherlands | H5: =NOT(OR(ISBLANK(F5),ISBLANK(G5))) -> FALSE | I5: =IF(H5=FALSE,0,IF(F5>G5,1,IF(G5>F5,2,3))) -> 0 | J5: =IFERROR(IF(OR(H5=FALSE,Schedule!H5=FALSE),0,IF(AND(F5=Schedule!F5,G5=Schedule!G5),VLOOKUP(A5,SET!$B$11:$E$74,3,0),IF(I5=Schedule!I5,VLOOKUP(A5,SET!$B$11:$E$74,4,0),0))),0) -> 0
A6: =IF(Schedule!A6="","",Schedule!A6) -> 3 | B6: =IF(Schedule!B6="","",Schedule!B6) -> 44886 | C6: Group | D6: =IF(Schedule!D6="","",Schedule!D6) -> England | E6: =IF(Schedule!E6="","",Schedule!E6) -> Iran | H6: =NOT(OR(ISBLANK(F6),ISBLANK(G6))) -> FALSE | I6: =IF(H6=FALSE,0,IF(F6>G6,1,IF(G6>F6,2,3))) -> 0 | J6: =IFERROR(IF(OR(H6=FALSE,Schedule!H6=FALSE),0,IF(AND(F6=Schedule!F6,G6=Schedule!G6),VLOOKUP(A6,SET!$B$11:$E$74,3,0),IF(I6=Schedule!I6,VLOOKUP(A6,SET!$B$11:$E$74,4,0),0))),0) -> 0
A7: =IF(Schedule!A7="","",Schedule!A7) -> 4 | B7: =IF(Schedule!B7="","",Schedule!B7) -> 44886 | C7: Group | D7: =IF(Schedule!D7="","",Schedule!D7) -> United States | E7: =IF(Schedule!E7="","",Schedule!E7) -> Wales | H7: =NOT(OR(ISBLANK(F7),ISBLANK(G7))) -> FALSE | I7: =IF(H7=FALSE,0,IF(F7>G7,1,IF(G7>F7,2,3))) -> 0 | J7: =IFERROR(IF(OR(H7=FALSE,Schedule!H7=FALSE),0,IF(AND(F7=Schedule!F7,G7=Schedule!G7),VLOOKUP(A7,SET!$B$11:$E$74,3,0),IF(I7=Schedule!I7,VLOOKUP(A7,SET!$B$11:$E$74,4,0),0))),0) -> 0
A8: =IF(Schedule!A8="","",Schedule!A8) -> 5 | B8: =IF(Schedule!B8="","",Schedule!B8) -> 44887 | C8: Group | D8: =IF(Schedule!D8="","",Schedule!D8) -> Denmark | E8: =IF(Schedule!E8="","",Schedule!E8) -> Tunisia | H8: =NOT(OR(ISBLANK(F8),ISBLANK(G8))) -> FALSE | I8: =IF(H8=FALSE,0,IF(F8>G8,1,IF(G8>F8,2,3))) -> 0 | J8: =IFERROR(IF(OR(H8=FALSE,Schedule!H8=FALSE),0,IF(AND(F8=Schedule!F8,G8=Schedule!G8),VLOOKUP(A8,SET!$B$11:$E$74,3,0),IF(I8=Schedule!I8,VLOOKUP(A8,SET!$B$11:$E$74,4,0),0))),0) -> 0
A9: =IF(Schedule!A9="","",Schedule!A9) -> 6 | B9: =IF(Schedule!B9="","",Schedule!B9) -> 44887 | C9: Group | D9: =IF(Schedule!D9="","",Schedule!D9) -> France | E9: =IF(Schedule!E9="","",Schedule!E9) -> Australia | H9: =NOT(OR(ISBLANK(F9),ISBLANK(G9))) -> FALSE | I9: =IF(H9=FALSE,0,IF(F9>G9,1,IF(G9>F9,2,3))) -> 0 | J9: =IFERROR(IF(OR(H9=FALSE,Schedule!H9=FALSE),0,IF(AND(F9=Schedule!F9,G9=Schedule!G9),VLOOKUP(A9,SET!$B$11:$E$74,3,0),IF(I9=Schedule!I9,VLOOKUP(A9,SET!$B$11:$E$74,4,0),0))),0) -> 0
A10: =IF(Schedule!A10="","",Schedule!A10) -> 7 | B10: =IF(Schedule!B10="","",Schedule!B10) -> 44887 | C10: Group | D10: =IF(Schedule!D10="","",Schedule!D10) -> Argentina | E10: =IF(Schedule!E10="","",Schedule!E10) -> Australia | H10: =NOT(OR(ISBLANK(F10),ISBLANK(G10))) -> FALSE | I10: =IF(H10=FALSE,0,IF(F10>G10,1,IF(G10>F10,2,3))) -> 0 | J10: =IFERROR(IF(OR(H10=FALSE,Schedule!H10=FALSE),0,IF(AND(F10=Schedule!F10,G10=Schedule!G10),VLOOKUP(A10,SET!$B$11:$E$74,3,0),IF(I10=Schedule!I10,VLOOKUP(A10,SET!$B$11:$E$74,4,0),0))),0) -> 0
A11: =IF(Schedule!A11="","",Schedule!A11) -> 8 | B11: =IF(Schedule!B11="","",Schedule!B11) -> 44887 | C11: Group | D11: =IF(Schedule!D11="","",Schedule!D11) -> Mexico | E11: =IF(Schedule!E11="","",Schedule!E11) -> Poland | H11: =NOT(OR(ISBLANK(F11),ISBLANK(G11))) -> FALSE | I11: =IF(H11=FALSE,0,IF(F11>G11,1,IF(G11>F11,2,3))) -> 0 | J11: =IFERROR(IF(OR(H11=FALSE,Schedule!H11=FALSE),0,IF(AND(F11=Schedule!F11,G11=Schedule!G11),VLOOKUP(A11,SET!$B$11:$E$74,3,0),IF(I11=Schedule!I11,VLOOKUP(A11,SET!$B$11:$E$74,4,0),0))),0) -> 0
A12: =IF(Schedule!A12="","",Schedule!A12) -> 9 | B12: =IF(Schedule!B12="","",Schedule!B12) -> 44888 | C12: Group | D12: =IF(Schedule!D12="","",Schedule!D12) -> Belgium | E12: =IF(Schedule!E12="","",Schedule!E12) -> Canada | H12: =NOT(OR(ISBLANK(F12),ISBLANK(G12))) -> FALSE | I12: =IF(H12=FALSE,0,IF(F12>G12,1,IF(G12>F12,2,3))) -> 0 | J12: =IFERROR(IF(OR(H12=FALSE,Schedule!H12=FALSE),0,IF(AND(F12=Schedule!F12,G12=Schedule!G12),VLOOKUP(A12,SET!$B$11:$E$74,3,0),IF(I12=Schedule!I12,VLOOKUP(A12,SET!$B$11:$E$74,4,0),0))),0) -> 0
A13: =IF(Schedule!A13="","",Schedule!A13) -> 10 | B13: =IF(Schedule!B13="","",Schedule!B13) -> 44888 | C13: Group | D13: =IF(Schedule!D13="","",Schedule!D13) -> Spain | E13: =IF(Schedule!E13="","",Schedule!E13) -> Costa Rica | H13: =NOT(OR(ISBLANK(F13),ISBLANK(G13))) -> FALSE | I13: =IF(H13=FALSE,0,IF(F13>G13,1,IF(G13>F13,2,3))) -> 0 | J13: =IFERROR(IF(OR(H13=FALSE,Schedule!H13=FALSE),0,IF(AND(F13=Schedule!F13,G13=Schedule!G13),VLOOKUP(A13,SET!$B$11:$E$74,3,0),IF(I13=Schedule!I13,VLOOKUP(A13,SET!$B$11:$E$74,4,0),0))),0) -> 0
A14: =IF(Schedule!A14="","",Schedule!A14) -> 11 | B14: =IF(Schedule!B14="","",Schedule!B14) -> 44888 | C14: Group | D14: =IF(Schedule!D14="","",Schedule!D14) -> Germany | E14: =IF(Schedule!E14="","",Schedule!E14) -> Japan | H14: =NOT(OR(ISBLANK(F14),ISBLANK(G14))) -> FALSE | I14: =IF(H14=FALSE,0,IF(F14>G14,1,IF(G14>F14,2,3))) -> 0 | J14: =IFERROR(IF(OR(H14=FALSE,Schedule!H14=FALSE),0,IF(AND(F14=Schedule!F14,G14=Schedule!G14),VLOOKUP(A14,SET!$B$11:$E$74,3,0),IF(I14=Schedule!I14,VLOOKUP(A14,SET!$B$11:$E$74,4,0),0))),0) -> 0
A15: =IF(Schedule!A15="","",Schedule!A15) -> 12 | B15: =IF(Schedule!B15="","",Schedule!B15) -> 44888 | C15: Group | D15: =IF(Schedule!D15="","",Schedule!D15) -> Morocco | E15: =IF(Schedule!E15="","",Schedule!E15) -> Croatia | H15: =NOT(OR(ISBLANK(F15),ISBLANK(G15))) -> FALSE | I15: =IF(H15=FALSE,0,IF(F15>G15,1,IF(G15>F15,2,3))) -> 0 | J15: =IFERROR(IF(OR(H15=FALSE,Schedule!H15=FALSE),0,IF(AND(F15=Schedule!F15,G15=Schedule!G15),VLOOKUP(A15,SET!$B$11:$E$74,3,0),IF(I15=Schedule!I15,VLOOKUP(A15,SET!$B$11:$E$74,4,0),0))),0) -> 0
... A67: =IF(Schedule!A67="","",Schedule!A67) -> 64 | B67: =IF(Schedule!B67="","",Schedule!B67) -> 44913 | C67: Final | D67: =IF(Schedule!D67="","",Schedule!D67) -> W61 | E67: =IF(Schedule!E67="","",Schedule!E67) -> W62 | H67: =NOT(OR(ISBLANK(F67),ISBLANK(G67))) -> FALSE | I67: =IF(H67=FALSE,0,IF(F67>G67,1,IF(G67>F67,2,3))) -> 0 | J67: =IFERROR(IF(OR(H67=FALSE,Schedule!H67=FALSE),0,IF(AND(F67=Schedule!F67,G67=Schedule!G67),VLOOKUP(A67,SET!$B$11:$E$74,3,0),IF(I67=Schedule!I67,VLOOKUP(A67,SET!$B$11:$E$74,4,0),0))),0) -> 0

Sheet SET
B2: points settings | H2: Ind
C3: group | D3: 3 | E3: 1 | H3: 0 | I3: no match
C4: 1/8 | D4: 3 | E4: 1 | H4: 1 | I4: winner 1st
C5: 1/4 | D5: 3 | E5: 1 | H5: 2 | I5: winner 2nd
C6: 1/2 | D6: 3 | E6: 1 | H6: 3 | I6: draw
C7: Third Place | D7: 3 | E7: 1
C8: Final | D8: 3 | E8: 1
B10: Match | C10: Stage | D10: exact | E10: porcial
B11: 1 | C11: Group | D11: =INDEX($D$3:$E$8,MATCH(C11,$C$3:$C$8,0),1) -> 3 | E11: =INDEX($D$3:$E$8,MATCH(C11,$C$3:$C$8,0),2) -> 1
B12: 2 | C12: Group | D12: =INDEX($D$3:$E$8,MATCH(C12,$C$3:$C$8,0),1) -> 3 | E12: =INDEX($D$3:$E$8,MATCH(C12,$C$3:$C$8,0),2) -> 1
B13: 3 | C13: Group | D13: =INDEX($D$3:$E$8,MATCH(C13,$C$3:$C$8,0),1) -> 3 | E13: =INDEX($D$3:$E$8,MATCH(C13,$C$3:$C$8,0),2) -> 1
B14: 4 | C14: Group | D14: =INDEX($D$3:$E$8,MATCH(C14,$C$3:$C$8,0),1) -> 3 | E14: =INDEX($D$3:$E$8,MATCH(C14,$C$3:$C$8,0),2) -> 1
B15: 5 | C15: Group | D15: =INDEX($D$3:$E$8,MATCH(C15,$C$3:$C$8,0),1) -> 3 | E15: =INDEX($D$3:$E$8,MATCH(C15,$C$3:$C$8,0),2) -> 1
B16: 6 | C16: Group | D16: =INDEX($D$3:$E$8,MATCH(C16,$C$3:$C$8,0),1) -> 3 | E16: =INDEX($D$3:$E$8,MATCH(C16,$C$3:$C$8,0),2) -> 1
B17: 7 | C17: Group | D17: =INDEX($D$3:$E$8,MATCH(C17,$C$3:$C$8,0),1) -> 3 | E17: =INDEX($D$3:$E$8,MATCH(C17,$C$3:$C$8,0),2) -> 1
B18: 8 | C18: Group | D18: =INDEX($D$3:$E$8,MATCH(C18,$C$3:$C$8,0),1) -> 3 | E18: =INDEX($D$3:$E$8,MATCH(C18,$C$3:$C$8,0),2) -> 1
B19: 9 | C19: Group | D19: =INDEX($D$3:$E$8,MATCH(C19,$C$3:$C$8,0),1) -> 3 | E19: =INDEX($D$3:$E$8,MATCH(C19,$C$3:$C$8,0),2) -> 1
B20: 10 | C20: Group | D20: =INDEX($D$3:$E$8,MATCH(C20,$C$3:$C$8,0),1) -> 3 | E20: =INDEX($D$3:$E$8,MATCH(C20,$C$3:$C$8,0),2) -> 1
B21: 11 | C21: Group | D21: =INDEX($D$3:$E$8,MATCH(C21,$C$3:$C$8,0),1) -> 3 | E21: =INDEX($D$3:$E$8,MATCH(C21,$C$3:$C$8,0),2) -> 1
B22: 12 | C22: Group | D22: =INDEX($D$3:$E$8,MATCH(C22,$C$3:$C$8,0),1) -> 3 | E22: =INDEX($D$3:$E$8,MATCH(C22,$C$3:$C$8,0),2) -> 1
... B74: 64 | C74: Final | D74: =INDEX($D$3:$E$8,MATCH(C74,$C$3:$C$8,0),1) -> 3 | E74: =INDEX($D$3:$E$8,MATCH(C74,$C$3:$C$8,0),2) -> 1
