Workbook
Name fav: INDEX(PlayersList,Dashboard!$K$4)
Name FavTeam: Schedule!$H$2
Name PlayersList: Dashboard!$D$7:$D$11
Name Table01: Schedule!$A$4:$J$54
Name TeamList: Schedule!$E$56:$E$79

Sheet Info
B2: EURO2024 Sweepstake
C3: Free of charge version 5 (May), home edition for 5 players
D5: <<< Fill only
C7: Scheets:
C8: Info | D8: Current Info Sheet
C9: Schedule | D9: Fill the result and Select favourite team
C10: Dashboard | D10: Select the player
C11: SET | D11: Sheet Settings. You can declare point for each match or stage
C12: (player) | D12: Players Sheet. Type your predictions and name your Sheet
C14: Sweepstake Rules of game
C15: The user fills the sheet in, only using the yellow boxes, players names and types of results of individual players for matches.
C16: The system formula counts the number of points each player earned in each of the matches based on the following rules.
C17: 1. If the player correctly predicted the exact outcome of the match, (Result and Score) they will receive 3 points.
C18: 2. If the player correctly predicted the winner of the match or a draw, they will earn 1 point
C19: 3. In any other case, the player will receive 0 points.
C23: UPGRADE to PRO version for 20 players or more, click >>> button

Sheet Schedule
E1: Select Team >>>
G2: 7 | H2: {=INDEX(TeamList,G2)} -> England
A3: No | B3: Stadium | C3: Date | D3: Round | E3: T1 | F3: T2 | G3: G1 | H3: G2 | I3: Match | J3: Ind | K3: Group
A4: 1 | B4: Munich | C4: 45457 | D4: Group | E4: Germany | F4: Scotland | I4: =NOT(OR(ISBLANK(G4),ISBLANK(H4))) -> FALSE | J4: =IF(I4=FALSE,0,IF(G4>H4,1,IF(H4>G4,2,3))) -> 0 | K4: A
A5: 2 | B5: Cologne | C5: 45458 | D5: Group | E5: Hungary | F5: Switzerland | I5: =NOT(OR(ISBLANK(G5),ISBLANK(H5))) -> FALSE | J5: =IF(I5=FALSE,0,IF(G5>H5,1,IF(H5>G5,2,3))) -> 0 | K5: A
A6: 3 | B6: Berlin | C6: 45458 | D6: Group | E6: Spain | F6: Croatia | I6: =NOT(OR(ISBLANK(G6),ISBLANK(H6))) -> FALSE | J6: =IF(I6=FALSE,0,IF(G6>H6,1,IF(H6>G6,2,3))) -> 0 | K6: B
A7: 4 | B7: Dortmund | C7: 45458 | D7: Group | E7: Italy | F7: Albania | I7: =NOT(OR(ISBLANK(G7),ISBLANK(H7))) -> FALSE | J7: =IF(I7=FALSE,0,IF(G7>H7,1,IF(H7>G7,2,3))) -> 0 | K7: B
A8: 5 | B8: Hamburg | C8: 45459 | D8: Group | E8: Poland | F8: Holland | I8: =NOT(OR(ISBLANK(G8),ISBLANK(H8))) -> FALSE | J8: =IF(I8=FALSE,0,IF(G8>H8,1,IF(H8>G8,2,3))) -> 0 | K8: D
A9: 6 | B9: Stuttgart | C9: 45459 | D9: Group | E9: Slovenia | F9: Denmark | I9: =NOT(OR(ISBLANK(G9),ISBLANK(H9))) -> FALSE | J9: =IF(I9=FALSE,0,IF(G9>H9,1,IF(H9>G9,2,3))) -> 0 | K9: C
A10: 7 | B10: Gelsenkirchen | C10: 45459 | D10: Group | E10: Serbia | F10: England | I10: =NOT(OR(ISBLANK(G10),ISBLANK(H10))) -> FALSE | J10: =IF(I10=FALSE,0,IF(G10>H10,1,IF(H10>G10,2,3))) -> 0 | K10: C
A11: 8 | B11: Munich | C11: 45460 | D11: Group | E11: Romania | F11: Ukraina | I11: =NOT(OR(ISBLANK(G11),ISBLANK(H11))) -> FALSE | J11: =IF(I11=FALSE,0,IF(G11>H11,1,IF(H11>G11,2,3))) -> 0 | K11: E
A12: 9 | B12: Frankfurt | C12: 45460 | D12: Group | E12: Belgium | F12: Slovakia | I12: =NOT(OR(ISBLANK(G12),ISBLANK(H12))) -> FALSE | J12: =IF(I12=FALSE,0,IF(G12>H12,1,IF(H12>G12,2,3))) -> 0 | K12: E
A13: 10 | B13: Duesseldorf | C13: 45460 | D13: Group | E13: Austria | F13: France | I13: =NOT(OR(ISBLANK(G13),ISBLANK(H13))) -> FALSE | J13: =IF(I13=FALSE,0,IF(G13>H13,1,IF(H13>G13,2,3))) -> 0 | K13: D
A14: 11 | B14: Dortmund | C14: 45461 | D14: Group | E14: Turkey | F14: Georgia | I14: =NOT(OR(ISBLANK(G14),ISBLANK(H14))) -> FALSE | J14: =IF(I14=FALSE,0,IF(G14>H14,1,IF(H14>G14,2,3))) -> 0 | K14: F
A15: 12 | B15: Leipzig | C15: 45461 | D15: Group | E15: Portugal | F15: Czech Republic | I15: =NOT(OR(ISBLANK(G15),ISBLANK(H15))) -> FALSE | J15: =IF(I15=FALSE,0,IF(G15>H15,1,IF(H15>G15,2,3))) -> 0 | K15: F
... A54: 51 | B54: Berlin | C54: 45487 | D54: Final | E54: W49 | F54: W50 | I54: =NOT(OR(ISBLANK(G54),ISBLANK(H54))) -> FALSE | J54: =IF(I54=FALSE,0,IF(G54>H54,1,IF(H54>G54,2,3))) -> 0 | K54: NA
E56: Albania
E57: Austria
E58: Belgium
E59: Croatia
E60: Czech Republic
E61: Denmark
E62: England
E63: France
E64: Georgia
E65: Germany
E66: Holland
E67: Hungary
... E79: Ukraina

Sheet Dashboard
B2: Dashboard Sweeepstakes
H4: Select Player >>> | K4: 1
C6: rank | D6: Player | E6: Group | F6: 1/8 | G6: 1/4 | H6: 1/2 | J6: Final | K6: Total
C7: =RANK(K7,$K$7:$K$11) -> 1 | D7: =Name01!$A$1 -> Name01 | E7: =SUMIF(Name01!$D$4:$D$54,Dashboard!E$6,Name01!$I$4:$I$54) -> 0 | F7: =SUMIF(Name01!$D$4:$D$54,Dashboard!F$6,Name01!$I$4:$I$54) -> 0 | G7: =SUMIF(Name01!$D$4:$D$54,Dashboard!G$6,Name01!$I$4:$I$54) -> 0 | H7: =SUMIF(Name01!$D$4:$D$54,Dashboard!H$6,Name01!$I$4:$I$54) -> 0 | J7: =SUMIF(Name01!$D$4:$D$54,Dashboard!J$6,Name01!$I$4:$I$54) -> 0 | K7: =SUM(E7:J7) -> 0
C8: =RANK(K8,$K$7:$K$11) -> 1 | D8: ='02'!$A$1 -> 02 | E8: =SUMIF('02'!$D$4:$D$54,Dashboard!E$6,'02'!$I$4:$I$54) -> 0 | F8: =SUMIF('02'!$D$4:$D$54,Dashboard!F$6,'02'!$I$4:$I$54) -> 0 | G8: =SUMIF('02'!$D$4:$D$54,Dashboard!G$6,'02'!$I$4:$I$54) -> 0 | H8: =SUMIF('02'!$D$4:$D$54,Dashboard!H$6,'02'!$I$4:$I$54) -> 0 | J8: =SUMIF('02'!$D$4:$D$54,Dashboard!J$6,'02'!$I$4:$I$54) -> 0 | K8: =SUM(E8:J8) -> 0
C9: =RANK(K9,$K$7:$K$11) -> 1 | D9: ='03'!$A$1 -> 03 | E9: =SUMIF('03'!$D$4:$D$54,Dashboard!E$6,'03'!$I$4:$I$54) -> 0 | F9: =SUMIF('03'!$D$4:$D$54,Dashboard!F$6,'03'!$I$4:$I$54) -> 0 | G9: =SUMIF('03'!$D$4:$D$54,Dashboard!G$6,'03'!$I$4:$I$54) -> 0 | H9: =SUMIF('03'!$D$4:$D$54,Dashboard!H$6,'03'!$I$4:$I$54) -> 0 | J9: =SUMIF('03'!$D$4:$D$54,Dashboard!J$6,'03'!$I$4:$I$54) -> 0 | K9: =SUM(E9:J9) -> 0
C10: =RANK(K10,$K$7:$K$11) -> 1 | D10: ='04'!$A$1 -> 04 | E10: =SUMIF('04'!$D$4:$D$54,Dashboard!E$6,'04'!$I$4:$I$54) -> 0 | F10: =SUMIF('04'!$D$4:$D$54,Dashboard!F$6,'04'!$I$4:$I$54) -> 0 | G10: =SUMIF('04'!$D$4:$D$54,Dashboard!G$6,'04'!$I$4:$I$54) -> 0 | H10: =SUMIF('04'!$D$4:$D$54,Dashboard!H$6,'04'!$I$4:$I$54) -> 0 | J10: =SUMIF('04'!$D$4:$D$54,Dashboard!J$6,'04'!$I$4:$I$54) -> 0 | K10: =SUM(E10:J10) -> 0
C11: =RANK(K11,$K$7:$K$11) -> 1 | D11: ='05'!$A$1 -> 05 | E11: =SUMIF('05'!$D$4:$D$54,Dashboard!E$6,'05'!$I$4:$I$54) -> 0 | F11: =SUMIF('05'!$D$4:$D$54,Dashboard!F$6,'05'!$I$4:$I$54) -> 0 | G11: =SUMIF('05'!$D$4:$D$54,Dashboard!G$6,'05'!$I$4:$I$54) -> 0 | H11: =SUMIF('05'!$D$4:$D$54,Dashboard!H$6,'05'!$I$4:$I$54) -> 0 | J11: =SUMIF('05'!$D$4:$D$54,Dashboard!J$6,'05'!$I$4:$I$54) -> 0 | K11: =SUM(E11:J11) -> 0

Sheet Name01
A1: {=MID(CELL("filename",A1),FIND("]",CELL("filename",A1))+1,255)} -> Name01
A3: No | B3: Stadium | C3: Date | D3: Stage | E3: T1 | F3: T2 | G3: G1 | H3: G2 | I3: Pkt | J3: Match | K3: Ind
A4: =Schedule!A4 -> 1 | B4: =Schedule!B4 -> Munich | C4: =Schedule!C4 -> 45457 | D4: =Schedule!D4 -> Group | E4: =Schedule!E4 -> Germany | F4: =Schedule!F4 -> Scotland | I4: =IFERROR(IF(OR(J4=FALSE,Schedule!I4=FALSE),0,IF(AND(G4=Schedule!G4,H4=Schedule!H4),3,IF(K4=Schedule!J4,1,0))),0) -> 0 | J4: =NOT(OR(ISBLANK(G4),ISBLANK(H4))) -> FALSE | K4: =IF(J4=FALSE,0,IF(G4>H4,1,IF(H4>G4,2,3))) -> 0
A5: =Schedule!A5 -> 2 | B5: =Schedule!B5 -> Cologne | C5: =Schedule!C5 -> 45458 | D5: =Schedule!D5 -> Group | E5: =Schedule!E5 -> Hungary | F5: =Schedule!F5 -> Switzerland | I5: =IFERROR(IF(OR(J5=FALSE,Schedule!I5=FALSE),0,IF(AND(G5=Schedule!G5,H5=Schedule!H5),3,IF(K5=Schedule!J5,1,0))),0) -> 0 | J5: =NOT(OR(ISBLANK(G5),ISBLANK(H5))) -> FALSE | K5: =IF(J5=FALSE,0,IF(G5>H5,1,IF(H5>G5,2,3))) -> 0
A6: =Schedule!A6 -> 3 | B6: =Schedule!B6 -> Berlin | C6: =Schedule!C6 -> 45458 | D6: =Schedule!D6 -> Group | E6: =Schedule!E6 -> Spain | F6: =Schedule!F6 -> Croatia | I6: =IFERROR(IF(OR(J6=FALSE,Schedule!I6=FALSE),0,IF(AND(G6=Schedule!G6,H6=Schedule!H6),3,IF(K6=Schedule!J6,1,0))),0) -> 0 | J6: =NOT(OR(ISBLANK(G6),ISBLANK(H6))) -> FALSE | K6: =IF(J6=FALSE,0,IF(G6>H6,1,IF(H6>G6,2,3))) -> 0
A7: =Schedule!A7 -> 4 | B7: =Schedule!B7 -> Dortmund | C7: =Schedule!C7 -> 45458 | D7: =Schedule!D7 -> Group | E7: =Schedule!E7 -> Italy | F7: =Schedule!F7 -> Albania | I7: =IFERROR(IF(OR(J7=FALSE,Schedule!I7=FALSE),0,IF(AND(G7=Schedule!G7,H7=Schedule!H7),3,IF(K7=Schedule!J7,1,0))),0) -> 0 | J7: =NOT(OR(ISBLANK(G7),ISBLANK(H7))) -> FALSE | K7: =IF(J7=FALSE,0,IF(G7>H7,1,IF(H7>G7,2,3))) -> 0
A8: =Schedule!A8 -> 5 | B8: =Schedule!B8 -> Hamburg | C8: =Schedule!C8 -> 45459 | D8: =Schedule!D8 -> Group | E8: =Schedule!E8 -> Poland | F8: =Schedule!F8 -> Holland | I8: =IFERROR(IF(OR(J8=FALSE,Schedule!I8=FALSE),0,IF(AND(G8=Schedule!G8,H8=Schedule!H8),3,IF(K8=Schedule!J8,1,0))),0) -> 0 | J8: =NOT(OR(ISBLANK(G8),ISBLANK(H8))) -> FALSE | K8: =IF(J8=FALSE,0,IF(G8>H8,1,IF(H8>G8,2,3))) -> 0
A9: =Schedule!A9 -> 6 | B9: =Schedule!B9 -> Stuttgart | C9: =Schedule!C9 -> 45459 | D9: =Schedule!D9 -> Group | E9: =Schedule!E9 -> Slovenia | F9: =Schedule!F9 -> Denmark | I9: =IFERROR(IF(OR(J9=FALSE,Schedule!I9=FALSE),0,IF(AND(G9=Schedule!G9,H9=Schedule!H9),3,IF(K9=Schedule!J9,1,0))),0) -> 0 | J9: =NOT(OR(ISBLANK(G9),ISBLANK(H9))) -> FALSE | K9: =IF(J9=FALSE,0,IF(G9>H9,1,IF(H9>G9,2,3))) -> 0
A10: =Schedule!A10 -> 7 | B10: =Schedule!B10 -> Gelsenkirchen | C10: =Schedule!C10 -> 45459 | D10: =Schedule!D10 -> Group | E10: =Schedule!E10 -> Serbia | F10: =Schedule!F10 -> England | I10: =IFERROR(IF(OR(J10=FALSE,Schedule!I10=FALSE),0,IF(AND(G10=Schedule!G10,H10=Schedule!H10),3,IF(K10=Schedule!J10,1,0))),0) -> 0 | J10: =NOT(OR(ISBLANK(G10),ISBLANK(H10))) -> FALSE | K10: =IF(J10=FALSE,0,IF(G10>H10,1,IF(H10>G10,2,3))) -> 0
A11: =Schedule!A11 -> 8 | B11: =Schedule!B11 -> Munich | C11: =Schedule!C11 -> 45460 | D11: =Schedule!D11 -> Group | E11: =Schedule!E11 -> Romania | F11: =Schedule!F11 -> Ukraina | I11: =IFERROR(IF(OR(J11=FALSE,Schedule!I11=FALSE),0,IF(AND(G11=Schedule!G11,H11=Schedule!H11),3,IF(K11=Schedule!J11,1,0))),0) -> 0 | J11: =NOT(OR(ISBLANK(G11),ISBLANK(H11))) -> FALSE | K11: =IF(J11=FALSE,0,IF(G11>H11,1,IF(H11>G11,2,3))) -> 0
A12: =Schedule!A12 -> 9 | B12: =Schedule!B12 -> Frankfurt | C12: =Schedule!C12 -> 45460 | D12: =Schedule!D12 -> Group | E12: =Schedule!E12 -> Belgium | F12: =Schedule!F12 -> Slovakia | I12: =IFERROR(IF(OR(J12=FALSE,Schedule!I12=FALSE),0,IF(AND(G12=Schedule!G12,H12=Schedule!H12),3,IF(K12=Schedule!J12,1,0))),0) -> 0 | J12: =NOT(OR(ISBLANK(G12),ISBLANK(H12))) -> FALSE | K12: =IF(J12=FALSE,0,IF(G12>H12,1,IF(H12>G12,2,3))) -> 0
A13: =Schedule!A13 -> 10 | B13: =Schedule!B13 -> Duesseldorf | C13: =Schedule!C13 -> 45460 | D13: =Schedule!D13 -> Group | E13: =Schedule!E13 -> Austria | F13: =Schedule!F13 -> France | I13: =IFERROR(IF(OR(J13=FALSE,Schedule!I13=FALSE),0,IF(AND(G13=Schedule!G13,H13=Schedule!H13),3,IF(K13=Schedule!J13,1,0))),0) -> 0 | J13: =NOT(OR(ISBLANK(G13),ISBLANK(H13))) -> FALSE | K13: =IF(J13=FALSE,0,IF(G13>H13,1,IF(H13>G13,2,3))) -> 0
A14: =Schedule!A14 -> 11 | B14: =Schedule!B14 -> Dortmund | C14: =Schedule!C14 -> 45461 | D14: =Schedule!D14 -> Group | E14: =Schedule!E14 -> Turkey | F14: =Schedule!F14 -> Georgia | I14: =IFERROR(IF(OR(J14=FALSE,Schedule!I14=FALSE),0,IF(AND(G14=Schedule!G14,H14=Schedule!H14),3,IF(K14=Schedule!J14,1,0))),0) -> 0 | J14: =NOT(OR(ISBLANK(G14),ISBLANK(H14))) -> FALSE | K14: =IF(J14=FALSE,0,IF(G14>H14,1,IF(H14>G14,2,3))) -> 0
A15: =Schedule!A15 -> 12 | B15: =Schedule!B15 -> Leipzig | C15: =Schedule!C15 -> 45461 | D15: =Schedule!D15 -> Group | E15: =Schedule!E15 -> Portugal | F15: =Schedule!F15 -> Czech Republic | I15: =IFERROR(IF(OR(J15=FALSE,Schedule!I15=FALSE),0,IF(AND(G15=Schedule!G15,H15=Schedule!H15),3,IF(K15=Schedule!J15,1,0))),0) -> 0 | J15: =NOT(OR(ISBLANK(G15),ISBLANK(H15))) -> FALSE | K15: =IF(J15=FALSE,0,IF(G15>H15,1,IF(H15>G15,2,3))) -> 0
... A54: =Schedule!A54 -> 51 | B54: =Schedule!B54 -> Berlin | C54: =Schedule!C54 -> 45487 | D54: =Schedule!D54 -> Final | E54: =Schedule!E54 -> W49 | F54: =Schedule!F54 -> W50 | I54: =IFERROR(IF(OR(J54=FALSE,Schedule!I54=FALSE),0,IF(AND(G54=Schedule!G54,H54=Schedule!H54),3,IF(K54=Schedule!J54,1,0))),0) -> 0 | J54: =NOT(OR(ISBLANK(G54),ISBLANK(H54))) -> FALSE | K54: =IF(J54=FALSE,0,IF(G54>H54,1,IF(H54>G54,2,3))) -> 0

Sheet 02
A1: {=MID(CELL("filename",A1),FIND("]",CELL("filename",A1))+1,255)} -> 02
A3: No | B3: Stadium | C3: Date | D3: Stage | E3: T1 | F3: T2 | G3: G1 | H3: G2 | I3: Pkt | J3: Match | K3: Ind
A4: =Schedule!A4 -> 1 | B4: =Schedule!B4 -> Munich | C4: =Schedule!C4 -> 45457 | D4: =Schedule!D4 -> Group | E4: =Schedule!E4 -> Germany | F4: =Schedule!F4 -> Scotland | I4: =IFERROR(IF(OR(J4=FALSE,Schedule!I4=FALSE),0,IF(AND(G4=Schedule!G4,H4=Schedule!H4),3,IF(K4=Schedule!J4,1,0))),0) -> 0 | J4: =NOT(OR(ISBLANK(G4),ISBLANK(H4))) -> FALSE | K4: =IF(J4=FALSE,0,IF(G4>H4,1,IF(H4>G4,2,3))) -> 0
A5: =Schedule!A5 -> 2 | B5: =Schedule!B5 -> Cologne | C5: =Schedule!C5 -> 45458 | D5: =Schedule!D5 -> Group | E5: =Schedule!E5 -> Hungary | F5: =Schedule!F5 -> Switzerland | I5: =IFERROR(IF(OR(J5=FALSE,Schedule!I5=FALSE),0,IF(AND(G5=Schedule!G5,H5=Schedule!H5),3,IF(K5=Schedule!J5,1,0))),0) -> 0 | J5: =NOT(OR(ISBLANK(G5),ISBLANK(H5))) -> FALSE | K5: =IF(J5=FALSE,0,IF(G5>H5,1,IF(H5>G5,2,3))) -> 0
A6: =Schedule!A6 -> 3 | B6: =Schedule!B6 -> Berlin | C6: =Schedule!C6 -> 45458 | D6: =Schedule!D6 -> Group | E6: =Schedule!E6 -> Spain | F6: =Schedule!F6 -> Croatia | I6: =IFERROR(IF(OR(J6=FALSE,Schedule!I6=FALSE),0,IF(AND(G6=Schedule!G6,H6=Schedule!H6),3,IF(K6=Schedule!J6,1,0))),0) -> 0 | J6: =NOT(OR(ISBLANK(G6),ISBLANK(H6))) -> FALSE | K6: =IF(J6=FALSE,0,IF(G6>H6,1,IF(H6>G6,2,3))) -> 0
A7: =Schedule!A7 -> 4 | B7: =Schedule!B7 -> Dortmund | C7: =Schedule!C7 -> 45458 | D7: =Schedule!D7 -> Group | E7: =Schedule!E7 -> Italy | F7: =Schedule!F7 -> Albania | I7: =IFERROR(IF(OR(J7=FALSE,Schedule!I7=FALSE),0,IF(AND(G7=Schedule!G7,H7=Schedule!H7),3,IF(K7=Schedule!J7,1,0))),0) -> 0 | J7: =NOT(OR(ISBLANK(G7),ISBLANK(H7))) -> FALSE | K7: =IF(J7=FALSE,0,IF(G7>H7,1,IF(H7>G7,2,3))) -> 0
A8: =Schedule!A8 -> 5 | B8: =Schedule!B8 -> Hamburg | C8: =Schedule!C8 -> 45459 | D8: =Schedule!D8 -> Group | E8: =Schedule!E8 -> Poland | F8: =Schedule!F8 -> Holland | I8: =IFERROR(IF(OR(J8=FALSE,Schedule!I8=FALSE),0,IF(AND(G8=Schedule!G8,H8=Schedule!H8),3,IF(K8=Schedule!J8,1,0))),0) -> 0 | J8: =NOT(OR(ISBLANK(G8),ISBLANK(H8))) -> FALSE | K8: =IF(J8=FALSE,0,IF(G8>H8,1,IF(H8>G8,2,3))) -> 0
A9: =Schedule!A9 -> 6 | B9: =Schedule!B9 -> Stuttgart | C9: =Schedule!C9 -> 45459 | D9: =Schedule!D9 -> Group | E9: =Schedule!E9 -> Slovenia | F9: =Schedule!F9 -> Denmark | I9: =IFERROR(IF(OR(J9=FALSE,Schedule!I9=FALSE),0,IF(AND(G9=Schedule!G9,H9=Schedule!H9),3,IF(K9=Schedule!J9,1,0))),0) -> 0 | J9: =NOT(OR(ISBLANK(G9),ISBLANK(H9))) -> FALSE | K9: =IF(J9=FALSE,0,IF(G9>H9,1,IF(H9>G9,2,3))) -> 0
A10: =Schedule!A10 -> 7 | B10: =Schedule!B10 -> Gelsenkirchen | C10: =Schedule!C10 -> 45459 | D10: =Schedule!D10 -> Group | E10: =Schedule!E10 -> Serbia | F10: =Schedule!F10 -> England | I10: =IFERROR(IF(OR(J10=FALSE,Schedule!I10=FALSE),0,IF(AND(G10=Schedule!G10,H10=Schedule!H10),3,IF(K10=Schedule!J10,1,0))),0) -> 0 | J10: =NOT(OR(ISBLANK(G10),ISBLANK(H10))) -> FALSE | K10: =IF(J10=FALSE,0,IF(G10>H10,1,IF(H10>G10,2,3))) -> 0
A11: =Schedule!A11 -> 8 | B11: =Schedule!B11 -> Munich | C11: =Schedule!C11 -> 45460 | D11: =Schedule!D11 -> Group | E11: =Schedule!E11 -> Romania | F11: =Schedule!F11 -> Ukraina | I11: =IFERROR(IF(OR(J11=FALSE,Schedule!I11=FALSE),0,IF(AND(G11=Schedule!G11,H11=Schedule!H11),3,IF(K11=Schedule!J11,1,0))),0) -> 0 | J11: =NOT(OR(ISBLANK(G11),ISBLANK(H11))) -> FALSE | K11: =IF(J11=FALSE,0,IF(G11>H11,1,IF(H11>G11,2,3))) -> 0
A12: =Schedule!A12 -> 9 | B12: =Schedule!B12 -> Frankfurt | C12: =Schedule!C12 -> 45460 | D12: =Schedule!D12 -> Group | E12: =Schedule!E12 -> Belgium | F12: =Schedule!F12 -> Slovakia | I12: =IFERROR(IF(OR(J12=FALSE,Schedule!I12=FALSE),0,IF(AND(G12=Schedule!G12,H12=Schedule!H12),3,IF(K12=Schedule!J12,1,0))),0) -> 0 | J12: =NOT(OR(ISBLANK(G12),ISBLANK(H12))) -> FALSE | K12: =IF(J12=FALSE,0,IF(G12>H12,1,IF(H12>G12,2,3))) -> 0
A13: =Schedule!A13 -> 10 | B13: =Schedule!B13 -> Duesseldorf | C13: =Schedule!C13 -> 45460 | D13: =Schedule!D13 -> Group | E13: =Schedule!E13 -> Austria | F13: =Schedule!F13 -> France | I13: =IFERROR(IF(OR(J13=FALSE,Schedule!I13=FALSE),0,IF(AND(G13=Schedule!G13,H13=Schedule!H13),3,IF(K13=Schedule!J13,1,0))),0) -> 0 | J13: =NOT(OR(ISBLANK(G13),ISBLANK(H13))) -> FALSE | K13: =IF(J13=FALSE,0,IF(G13>H13,1,IF(H13>G13,2,3))) -> 0
A14: =Schedule!A14 -> 11 | B14: =Schedule!B14 -> Dortmund | C14: =Schedule!C14 -> 45461 | D14: =Schedule!D14 -> Group | E14: =Schedule!E14 -> Turkey | F14: =Schedule!F14 -> Georgia | I14: =IFERROR(IF(OR(J14=FALSE,Schedule!I14=FALSE),0,IF(AND(G14=Schedule!G14,H14=Schedule!H14),3,IF(K14=Schedule!J14,1,0))),0) -> 0 | J14: =NOT(OR(ISBLANK(G14),ISBLANK(H14))) -> FALSE | K14: =IF(J14=FALSE,0,IF(G14>H14,1,IF(H14>G14,2,3))) -> 0
A15: =Schedule!A15 -> 12 | B15: =Schedule!B15 -> Leipzig | C15: =Schedule!C15 -> 45461 | D15: =Schedule!D15 -> Group | E15: =Schedule!E15 -> Portugal | F15: =Schedule!F15 -> Czech Republic | I15: =IFERROR(IF(OR(J15=FALSE,Schedule!I15=FALSE),0,IF(AND(G15=Schedule!G15,H15=Schedule!H15),3,IF(K15=Schedule!J15,1,0))),0) -> 0 | J15: =NOT(OR(ISBLANK(G15),ISBLANK(H15))) -> FALSE | K15: =IF(J15=FALSE,0,IF(G15>H15,1,IF(H15>G15,2,3))) -> 0
... A54: =Schedule!A54 -> 51 | B54: =Schedule!B54 -> Berlin | C54: =Schedule!C54 -> 45487 | D54: =Schedule!D54 -> Final | E54: =Schedule!E54 -> W49 | F54: =Schedule!F54 -> W50 | I54: =IFERROR(IF(OR(J54=FALSE,Schedule!I54=FALSE),0,IF(AND(G54=Schedule!G54,H54=Schedule!H54),3,IF(K54=Schedule!J54,1,0))),0) -> 0 | J54: =NOT(OR(ISBLANK(G54),ISBLANK(H54))) -> FALSE | K54: =IF(J54=FALSE,0,IF(G54>H54,1,IF(H54>G54,2,3))) -> 0

Sheet 03
A1: {=MID(CELL("filename",A1),FIND("]",CELL("filename",A1))+1,255)} -> 03
A3: No | B3: Stadium | C3: Date | D3: Stage | E3: T1 | F3: T2 | G3: G1 | H3: G2 | I3: Pkt | J3: Match | K3: Ind
A4: =Schedule!A4 -> 1 | B4: =Schedule!B4 -> Munich | C4: =Schedule!C4 -> 45457 | D4: =Schedule!D4 -> Group | E4: =Schedule!E4 -> Germany | F4: =Schedule!F4 -> Scotland | I4: =IFERROR(IF(OR(J4=FALSE,Schedule!I4=FALSE),0,IF(AND(G4=Schedule!G4,H4=Schedule!H4),3,IF(K4=Schedule!J4,1,0))),0) -> 0 | J4: =NOT(OR(ISBLANK(G4),ISBLANK(H4))) -> FALSE | K4: =IF(J4=FALSE,0,IF(G4>H4,1,IF(H4>G4,2,3))) -> 0
A5: =Schedule!A5 -> 2 | B5: =Schedule!B5 -> Cologne | C5: =Schedule!C5 -> 45458 | D5: =Schedule!D5 -> Group | E5: =Schedule!E5 -> Hungary | F5: =Schedule!F5 -> Switzerland | I5: =IFERROR(IF(OR(J5=FALSE,Schedule!I5=FALSE),0,IF(AND(G5=Schedule!G5,H5=Schedule!H5),3,IF(K5=Schedule!J5,1,0))),0) -> 0 | J5: =NOT(OR(ISBLANK(G5),ISBLANK(H5))) -> FALSE | K5: =IF(J5=FALSE,0,IF(G5>H5,1,IF(H5>G5,2,3))) -> 0
A6: =Schedule!A6 -> 3 | B6: =Schedule!B6 -> Berlin | C6: =Schedule!C6 -> 45458 | D6: =Schedule!D6 -> Group | E6: =Schedule!E6 -> Spain | F6: =Schedule!F6 -> Croatia | I6: =IFERROR(IF(OR(J6=FALSE,Schedule!I6=FALSE),0,IF(AND(G6=Schedule!G6,H6=Schedule!H6),3,IF(K6=Schedule!J6,1,0))),0) -> 0 | J6: =NOT(OR(ISBLANK(G6),ISBLANK(H6))) -> FALSE | K6: =IF(J6=FALSE,0,IF(G6>H6,1,IF(H6>G6,2,3))) -> 0
A7: =Schedule!A7 -> 4 | B7: =Schedule!B7 -> Dortmund | C7: =Schedule!C7 -> 45458 | D7: =Schedule!D7 -> Group | E7: =Schedule!E7 -> Italy | F7: =Schedule!F7 -> Albania | I7: =IFERROR(IF(OR(J7=FALSE,Schedule!I7=FALSE),0,IF(AND(G7=Schedule!G7,H7=Schedule!H7),3,IF(K7=Schedule!J7,1,0))),0) -> 0 | J7: =NOT(OR(ISBLANK(G7),ISBLANK(H7))) -> FALSE | K7: =IF(J7=FALSE,0,IF(G7>H7,1,IF(H7>G7,2,3))) -> 0
A8: =Schedule!A8 -> 5 | B8: =Schedule!B8 -> Hamburg | C8: =Schedule!C8 -> 45459 | D8: =Schedule!D8 -> Group | E8: =Schedule!E8 -> Poland | F8: =Schedule!F8 -> Holland | I8: =IFERROR(IF(OR(J8=FALSE,Schedule!I8=FALSE),0,IF(AND(G8=Schedule!G8,H8=Schedule!H8),3,IF(K8=Schedule!J8,1,0))),0) -> 0 | J8: =NOT(OR(ISBLANK(G8),ISBLANK(H8))) -> FALSE | K8: =IF(J8=FALSE,0,IF(G8>H8,1,IF(H8>G8,2,3))) -> 0
A9: =Schedule!A9 -> 6 | B9: =Schedule!B9 -> Stuttgart | C9: =Schedule!C9 -> 45459 | D9: =Schedule!D9 -> Group | E9: =Schedule!E9 -> Slovenia | F9: =Schedule!F9 -> Denmark | I9: =IFERROR(IF(OR(J9=FALSE,Schedule!I9=FALSE),0,IF(AND(G9=Schedule!G9,H9=Schedule!H9),3,IF(K9=Schedule!J9,1,0))),0) -> 0 | J9: =NOT(OR(ISBLANK(G9),ISBLANK(H9))) -> FALSE | K9: =IF(J9=FALSE,0,IF(G9>H9,1,IF(H9>G9,2,3))) -> 0
A10: =Schedule!A10 -> 7 | B10: =Schedule!B10 -> Gelsenkirchen | C10: =Schedule!C10 -> 45459 | D10: =Schedule!D10 -> Group | E10: =Schedule!E10 -> Serbia | F10: =Schedule!F10 -> England | I10: =IFERROR(IF(OR(J10=FALSE,Schedule!I10=FALSE),0,IF(AND(G10=Schedule!G10,H10=Schedule!H10),3,IF(K10=Schedule!J10,1,0))),0) -> 0 | J10: =NOT(OR(ISBLANK(G10),ISBLANK(H10))) -> FALSE | K10: =IF(J10=FALSE,0,IF(G10>H10,1,IF(H10>G10,2,3))) -> 0
A11: =Schedule!A11 -> 8 | B11: =Schedule!B11 -> Munich | C11: =Schedule!C11 -> 45460 | D11: =Schedule!D11 -> Group | E11: =Schedule!E11 -> Romania | F11: =Schedule!F11 -> Ukraina | I11: =IFERROR(IF(OR(J11=FALSE,Schedule!I11=FALSE),0,IF(AND(G11=Schedule!G11,H11=Schedule!H11),3,IF(K11=Schedule!J11,1,0))),0) -> 0 | J11: =NOT(OR(ISBLANK(G11),ISBLANK(H11))) -> FALSE | K11: =IF(J11=FALSE,0,IF(G11>H11,1,IF(H11>G11,2,3))) -> 0
A12: =Schedule!A12 -> 9 | B12: =Schedule!B12 -> Frankfurt | C12: =Schedule!C12 -> 45460 | D12: =Schedule!D12 -> Group | E12: =Schedule!E12 -> Belgium | F12: =Schedule!F12 -> Slovakia | I12: =IFERROR(IF(OR(J12=FALSE,Schedule!I12=FALSE),0,IF(AND(G12=Schedule!G12,H12=Schedule!H12),3,IF(K12=Schedule!J12,1,0))),0) -> 0 | J12: =NOT(OR(ISBLANK(G12),ISBLANK(H12))) -> FALSE | K12: =IF(J12=FALSE,0,IF(G12>H12,1,IF(H12>G12,2,3))) -> 0
A13: =Schedule!A13 -> 10 | B13: =Schedule!B13 -> Duesseldorf | C13: =Schedule!C13 -> 45460 | D13: =Schedule!D13 -> Group | E13: =Schedule!E13 -> Austria | F13: =Schedule!F13 -> France | I13: =IFERROR(IF(OR(J13=FALSE,Schedule!I13=FALSE),0,IF(AND(G13=Schedule!G13,H13=Schedule!H13),3,IF(K13=Schedule!J13,1,0))),0) -> 0 | J13: =NOT(OR(ISBLANK(G13),ISBLANK(H13))) -> FALSE | K13: =IF(J13=FALSE,0,IF(G13>H13,1,IF(H13>G13,2,3))) -> 0
A14: =Schedule!A14 -> 11 | B14: =Schedule!B14 -> Dortmund | C14: =Schedule!C14 -> 45461 | D14: =Schedule!D14 -> Group | E14: =Schedule!E14 -> Turkey | F14: =Schedule!F14 -> Georgia | I14: =IFERROR(IF(OR(J14=FALSE,Schedule!I14=FALSE),0,IF(AND(G14=Schedule!G14,H14=Schedule!H14),3,IF(K14=Schedule!J14,1,0))),0) -> 0 | J14: =NOT(OR(ISBLANK(G14),ISBLANK(H14))) -> FALSE | K14: =IF(J14=FALSE,0,IF(G14>H14,1,IF(H14>G14,2,3))) -> 0
A15: =Schedule!A15 -> 12 | B15: =Schedule!B15 -> Leipzig | C15: =Schedule!C15 -> 45461 | D15: =Schedule!D15 -> Group | E15: =Schedule!E15 -> Portugal | F15: =Schedule!F15 -> Czech Republic | I15: =IFERROR(IF(OR(J15=FALSE,Schedule!I15=FALSE),0,IF(AND(G15=Schedule!G15,H15=Schedule!H15),3,IF(K15=Schedule!J15,1,0))),0) -> 0 | J15: =NOT(OR(ISBLANK(G15),ISBLANK(H15))) -> FALSE | K15: =IF(J15=FALSE,0,IF(G15>H15,1,IF(H15>G15,2,3))) -> 0
... A54: =Schedule!A54 -> 51 | B54: =Schedule!B54 -> Berlin | C54: =Schedule!C54 -> 45487 | D54: =Schedule!D54 -> Final | E54: =Schedule!E54 -> W49 | F54: =Schedule!F54 -> W50 | I54: =IFERROR(IF(OR(J54=FALSE,Schedule!I54=FALSE),0,IF(AND(G54=Schedule!G54,H54=Schedule!H54),3,IF(K54=Schedule!J54,1,0))),0) -> 0 | J54: =NOT(OR(ISBLANK(G54),ISBLANK(H54))) -> FALSE | K54: =IF(J54=FALSE,0,IF(G54>H54,1,IF(H54>G54,2,3))) -> 0

Sheet 04
A1: {=MID(CELL("filename",A1),FIND("]",CELL("filename",A1))+1,255)} -> 04
A3: No | B3: Stadium | C3: Date | D3: Stage | E3: T1 | F3: T2 | G3: G1 | H3: G2 | I3: Pkt | J3: Match | K3: Ind
A4: =Schedule!A4 -> 1 | B4: =Schedule!B4 -> Munich | C4: =Schedule!C4 -> 45457 | D4: =Schedule!D4 -> Group | E4: =Schedule!E4 -> Germany | F4: =Schedule!F4 -> Scotland | I4: =IFERROR(IF(OR(J4=FALSE,Schedule!I4=FALSE),0,IF(AND(G4=Schedule!G4,H4=Schedule!H4),3,IF(K4=Schedule!J4,1,0))),0) -> 0 | J4: =NOT(OR(ISBLANK(G4),ISBLANK(H4))) -> FALSE | K4: =IF(J4=FALSE,0,IF(G4>H4,1,IF(H4>G4,2,3))) -> 0
A5: =Schedule!A5 -> 2 | B5: =Schedule!B5 -> Cologne | C5: =Schedule!C5 -> 45458 | D5: =Schedule!D5 -> Group | E5: =Schedule!E5 -> Hungary | F5: =Schedule!F5 -> Switzerland | I5: =IFERROR(IF(OR(J5=FALSE,Schedule!I5=FALSE),0,IF(AND(G5=Schedule!G5,H5=Schedule!H5),3,IF(K5=Schedule!J5,1,0))),0) -> 0 | J5: =NOT(OR(ISBLANK(G5),ISBLANK(H5))) -> FALSE | K5: =IF(J5=FALSE,0,IF(G5>H5,1,IF(H5>G5,2,3))) -> 0
A6: =Schedule!A6 -> 3 | B6: =Schedule!B6 -> Berlin | C6: =Schedule!C6 -> 45458 | D6: =Schedule!D6 -> Group | E6: =Schedule!E6 -> Spain | F6: =Schedule!F6 -> Croatia | I6: =IFERROR(IF(OR(J6=FALSE,Schedule!I6=FALSE),0,IF(AND(G6=Schedule!G6,H6=Schedule!H6),3,IF(K6=Schedule!J6,1,0))),0) -> 0 | J6: =NOT(OR(ISBLANK(G6),ISBLANK(H6))) -> FALSE | K6: =IF(J6=FALSE,0,IF(G6>H6,1,IF(H6>G6,2,3))) -> 0
A7: =Schedule!A7 -> 4 | B7: =Schedule!B7 -> Dortmund | C7: =Schedule!C7 -> 45458 | D7: =Schedule!D7 -> Group | E7: =Schedule!E7 -> Italy | F7: =Schedule!F7 -> Albania | I7: =IFERROR(IF(OR(J7=FALSE,Schedule!I7=FALSE),0,IF(AND(G7=Schedule!G7,H7=Schedule!H7),3,IF(K7=Schedule!J7,1,0))),0) -> 0 | J7: =NOT(OR(ISBLANK(G7),ISBLANK(H7))) -> FALSE | K7: =IF(J7=FALSE,0,IF(G7>H7,1,IF(H7>G7,2,3))) -> 0
A8: =Schedule!A8 -> 5 | B8: =Schedule!B8 -> Hamburg | C8: =Schedule!C8 -> 45459 | D8: =Schedule!D8 -> Group | E8: =Schedule!E8 -> Poland | F8: =Schedule!F8 -> Holland | I8: =IFERROR(IF(OR(J8=FALSE,Schedule!I8=FALSE),0,IF(AND(G8=Schedule!G8,H8=Schedule!H8),3,IF(K8=Schedule!J8,1,0))),0) -> 0 | J8: =NOT(OR(ISBLANK(G8),ISBLANK(H8))) -> FALSE | K8: =IF(J8=FALSE,0,IF(G8>H8,1,IF(H8>G8,2,3))) -> 0
A9: =Schedule!A9 -> 6 | B9: =Schedule!B9 -> Stuttgart | C9: =Schedule!C9 -> 45459 | D9: =Schedule!D9 -> Group | E9: =Schedule!E9 -> Slovenia | F9: =Schedule!F9 -> Denmark | I9: =IFERROR(IF(OR(J9=FALSE,Schedule!I9=FALSE),0,IF(AND(G9=Schedule!G9,H9=Schedule!H9),3,IF(K9=Schedule!J9,1,0))),0) -> 0 | J9: =NOT(OR(ISBLANK(G9),ISBLANK(H9))) -> FALSE | K9: =IF(J9=FALSE,0,IF(G9>H9,1,IF(H9>G9,2,3))) -> 0
A10: =Schedule!A10 -> 7 | B10: =Schedule!B10 -> Gelsenkirchen | C10: =Schedule!C10 -> 45459 | D10: =Schedule!D10 -> Group | E10: =Schedule!E10 -> Serbia | F10: =Schedule!F10 -> England | I10: =IFERROR(IF(OR(J10=FALSE,Schedule!I10=FALSE),0,IF(AND(G10=Schedule!G10,H10=Schedule!H10),3,IF(K10=Schedule!J10,1,0))),0) -> 0 | J10: =NOT(OR(ISBLANK(G10),ISBLANK(H10))) -> FALSE | K10: =IF(J10=FALSE,0,IF(G10>H10,1,IF(H10>G10,2,3))) -> 0
A11: =Schedule!A11 -> 8 | B11: =Schedule!B11 -> Munich | C11: =Schedule!C11 -> 45460 | D11: =Schedule!D11 -> Group | E11: =Schedule!E11 -> Romania | F11: =Schedule!F11 -> Ukraina | I11: =IFERROR(IF(OR(J11=FALSE,Schedule!I11=FALSE),0,IF(AND(G11=Schedule!G11,H11=Schedule!H11),3,IF(K11=Schedule!J11,1,0))),0) -> 0 | J11: =NOT(OR(ISBLANK(G11),ISBLANK(H11))) -> FALSE | K11: =IF(J11=FALSE,0,IF(G11>H11,1,IF(H11>G11,2,3))) -> 0
A12: =Schedule!A12 -> 9 | B12: =Schedule!B12 -> Frankfurt | C12: =Schedule!C12 -> 45460 | D12: =Schedule!D12 -> Group | E12: =Schedule!E12 -> Belgium | F12: =Schedule!F12 -> Slovakia | I12: =IFERROR(IF(OR(J12=FALSE,Schedule!I12=FALSE),0,IF(AND(G12=Schedule!G12,H12=Schedule!H12),3,IF(K12=Schedule!J12,1,0))),0) -> 0 | J12: =NOT(OR(ISBLANK(G12),ISBLANK(H12))) -> FALSE | K12: =IF(J12=FALSE,0,IF(G12>H12,1,IF(H12>G12,2,3))) -> 0
A13: =Schedule!A13 -> 10 | B13: =Schedule!B13 -> Duesseldorf | C13: =Schedule!C13 -> 45460 | D13: =Schedule!D13 -> Group | E13: =Schedule!E13 -> Austria | F13: =Schedule!F13 -> France | I13: =IFERROR(IF(OR(J13=FALSE,Schedule!I13=FALSE),0,IF(AND(G13=Schedule!G13,H13=Schedule!H13),3,IF(K13=Schedule!J13,1,0))),0) -> 0 | J13: =NOT(OR(ISBLANK(G13),ISBLANK(H13))) -> FALSE | K13: =IF(J13=FALSE,0,IF(G13>H13,1,IF(H13>G13,2,3))) -> 0
A14: =Schedule!A14 -> 11 | B14: =Schedule!B14 -> Dortmund | C14: =Schedule!C14 -> 45461 | D14: =Schedule!D14 -> Group | E14: =Schedule!E14 -> Turkey | F14: =Schedule!F14 -> Georgia | I14: =IFERROR(IF(OR(J14=FALSE,Schedule!I14=FALSE),0,IF(AND(G14=Schedule!G14,H14=Schedule!H14),3,IF(K14=Schedule!J14,1,0))),0) -> 0 | J14: =NOT(OR(ISBLANK(G14),ISBLANK(H14))) -> FALSE | K14: =IF(J14=FALSE,0,IF(G14>H14,1,IF(H14>G14,2,3))) -> 0
A15: =Schedule!A15 -> 12 | B15: =Schedule!B15 -> Leipzig | C15: =Schedule!C15 -> 45461 | D15: =Schedule!D15 -> Group | E15: =Schedule!E15 -> Portugal | F15: =Schedule!F15 -> Czech Republic | I15: =IFERROR(IF(OR(J15=FALSE,Schedule!I15=FALSE),0,IF(AND(G15=Schedule!G15,H15=Schedule!H15),3,IF(K15=Schedule!J15,1,0))),0) -> 0 | J15: =NOT(OR(ISBLANK(G15),ISBLANK(H15))) -> FALSE | K15: =IF(J15=FALSE,0,IF(G15>H15,1,IF(H15>G15,2,3))) -> 0
... A54: =Schedule!A54 -> 51 | B54: =Schedule!B54 -> Berlin | C54: =Schedule!C54 -> 45487 | D54: =Schedule!D54 -> Final | E54: =Schedule!E54 -> W49 | F54: =Schedule!F54 -> W50 | I54: =IFERROR(IF(OR(J54=FALSE,Schedule!I54=FALSE),0,IF(AND(G54=Schedule!G54,H54=Schedule!H54),3,IF(K54=Schedule!J54,1,0))),0) -> 0 | J54: =NOT(OR(ISBLANK(G54),ISBLANK(H54))) -> FALSE | K54: =IF(J54=FALSE,0,IF(G54>H54,1,IF(H54>G54,2,3))) -> 0

Sheet 05
A1: {=MID(CELL("filename",A1),FIND("]",CELL("filename",A1))+1,255)} -> 05
A3: No | B3: Stadium | C3: Date | D3: Stage | E3: T1 | F3: T2 | G3: G1 | H3: G2 | I3: Pkt | J3: Match | K3: Ind
A4: =Schedule!A4 -> 1 | B4: =Schedule!B4 -> Munich | C4: =Schedule!C4 -> 45457 | D4: =Schedule!D4 -> Group | E4: =Schedule!E4 -> Germany | F4: =Schedule!F4 -> Scotland | I4: =IFERROR(IF(OR(J4=FALSE,Schedule!I4=FALSE),0,IF(AND(G4=Schedule!G4,H4=Schedule!H4),3,IF(K4=Schedule!J4,1,0))),0) -> 0 | J4: =NOT(OR(ISBLANK(G4),ISBLANK(H4))) -> FALSE | K4: =IF(J4=FALSE,0,IF(G4>H4,1,IF(H4>G4,2,3))) -> 0
A5: =Schedule!A5 -> 2 | B5: =Schedule!B5 -> Cologne | C5: =Schedule!C5 -> 45458 | D5: =Schedule!D5 -> Group | E5: =Schedule!E5 -> Hungary | F5: =Schedule!F5 -> Switzerland | I5: =IFERROR(IF(OR(J5=FALSE,Schedule!I5=FALSE),0,IF(AND(G5=Schedule!G5,H5=Schedule!H5),3,IF(K5=Schedule!J5,1,0))),0) -> 0 | J5: =NOT(OR(ISBLANK(G5),ISBLANK(H5))) -> FALSE | K5: =IF(J5=FALSE,0,IF(G5>H5,1,IF(H5>G5,2,3))) -> 0
A6: =Schedule!A6 -> 3 | B6: =Schedule!B6 -> Berlin | C6: =Schedule!C6 -> 45458 | D6: =Schedule!D6 -> Group | E6: =Schedule!E6 -> Spain | F6: =Schedule!F6 -> Croatia | I6: =IFERROR(IF(OR(J6=FALSE,Schedule!I6=FALSE),0,IF(AND(G6=Schedule!G6,H6=Schedule!H6),3,IF(K6=Schedule!J6,1,0))),0) -> 0 | J6: =NOT(OR(ISBLANK(G6),ISBLANK(H6))) -> FALSE | K6: =IF(J6=FALSE,0,IF(G6>H6,1,IF(H6>G6,2,3))) -> 0
A7: =Schedule!A7 -> 4 | B7: =Schedule!B7 -> Dortmund | C7: =Schedule!C7 -> 45458 | D7: =Schedule!D7 -> Group | E7: =Schedule!E7 -> Italy | F7: =Schedule!F7 -> Albania | I7: =IFERROR(IF(OR(J7=FALSE,Schedule!I7=FALSE),0,IF(AND(G7=Schedule!G7,H7=Schedule!H7),3,IF(K7=Schedule!J7,1,0))),0) -> 0 | J7: =NOT(OR(ISBLANK(G7),ISBLANK(H7))) -> FALSE | K7: =IF(J7=FALSE,0,IF(G7>H7,1,IF(H7>G7,2,3))) -> 0
A8: =Schedule!A8 -> 5 | B8: =Schedule!B8 -> Hamburg | C8: =Schedule!C8 -> 45459 | D8: =Schedule!D8 -> Group | E8: =Schedule!E8 -> Poland | F8: =Schedule!F8 -> Holland | I8: =IFERROR(IF(OR(J8=FALSE,Schedule!I8=FALSE),0,IF(AND(G8=Schedule!G8,H8=Schedule!H8),3,IF(K8=Schedule!J8,1,0))),0) -> 0 | J8: =NOT(OR(ISBLANK(G8),ISBLANK(H8))) -> FALSE | K8: =IF(J8=FALSE,0,IF(G8>H8,1,IF(H8>G8,2,3))) -> 0
A9: =Schedule!A9 -> 6 | B9: =Schedule!B9 -> Stuttgart | C9: =Schedule!C9 -> 45459 | D9: =Schedule!D9 -> Group | E9: =Schedule!E9 -> Slovenia | F9: =Schedule!F9 -> Denmark | I9: =IFERROR(IF(OR(J9=FALSE,Schedule!I9=FALSE),0,IF(AND(G9=Schedule!G9,H9=Schedule!H9),3,IF(K9=Schedule!J9,1,0))),0) -> 0 | J9: =NOT(OR(ISBLANK(G9),ISBLANK(H9))) -> FALSE | K9: =IF(J9=FALSE,0,IF(G9>H9,1,IF(H9>G9,2,3))) -> 0
A10: =Schedule!A10 -> 7 | B10: =Schedule!B10 -> Gelsenkirchen | C10: =Schedule!C10 -> 45459 | D10: =Schedule!D10 -> Group | E10: =Schedule!E10 -> Serbia | F10: =Schedule!F10 -> England | I10: =IFERROR(IF(OR(J10=FALSE,Schedule!I10=FALSE),0,IF(AND(G10=Schedule!G10,H10=Schedule!H10),3,IF(K10=Schedule!J10,1,0))),0) -> 0 | J10: =NOT(OR(ISBLANK(G10),ISBLANK(H10))) -> FALSE | K10: =IF(J10=FALSE,0,IF(G10>H10,1,IF(H10>G10,2,3))) -> 0
A11: =Schedule!A11 -> 8 | B11: =Schedule!B11 -> Munich | C11: =Schedule!C11 -> 45460 | D11: =Schedule!D11 -> Group | E11: =Schedule!E11 -> Romania | F11: =Schedule!F11 -> Ukraina | I11: =IFERROR(IF(OR(J11=FALSE,Schedule!I11=FALSE),0,IF(AND(G11=Schedule!G11,H11=Schedule!H11),3,IF(K11=Schedule!J11,1,0))),0) -> 0 | J11: =NOT(OR(ISBLANK(G11),ISBLANK(H11))) -> FALSE | K11: =IF(J11=FALSE,0,IF(G11>H11,1,IF(H11>G11,2,3))) -> 0
A12: =Schedule!A12 -> 9 | B12: =Schedule!B12 -> Frankfurt | C12: =Schedule!C12 -> 45460 | D12: =Schedule!D12 -> Group | E12: =Schedule!E12 -> Belgium | F12: =Schedule!F12 -> Slovakia | I12: =IFERROR(IF(OR(J12=FALSE,Schedule!I12=FALSE),0,IF(AND(G12=Schedule!G12,H12=Schedule!H12),3,IF(K12=Schedule!J12,1,0))),0) -> 0 | J12: =NOT(OR(ISBLANK(G12),ISBLANK(H12))) -> FALSE | K12: =IF(J12=FALSE,0,IF(G12>H12,1,IF(H12>G12,2,3))) -> 0
A13: =Schedule!A13 -> 10 | B13: =Schedule!B13 -> Duesseldorf | C13: =Schedule!C13 -> 45460 | D13: =Schedule!D13 -> Group | E13: =Schedule!E13 -> Austria | F13: =Schedule!F13 -> France | I13: =IFERROR(IF(OR(J13=FALSE,Schedule!I13=FALSE),0,IF(AND(G13=Schedule!G13,H13=Schedule!H13),3,IF(K13=Schedule!J13,1,0))),0) -> 0 | J13: =NOT(OR(ISBLANK(G13),ISBLANK(H13))) -> FALSE | K13: =IF(J13=FALSE,0,IF(G13>H13,1,IF(H13>G13,2,3))) -> 0
A14: =Schedule!A14 -> 11 | B14: =Schedule!B14 -> Dortmund | C14: =Schedule!C14 -> 45461 | D14: =Schedule!D14 -> Group | E14: =Schedule!E14 -> Turkey | F14: =Schedule!F14 -> Georgia | I14: =IFERROR(IF(OR(J14=FALSE,Schedule!I14=FALSE),0,IF(AND(G14=Schedule!G14,H14=Schedule!H14),3,IF(K14=Schedule!J14,1,0))),0) -> 0 | J14: =NOT(OR(ISBLANK(G14),ISBLANK(H14))) -> FALSE | K14: =IF(J14=FALSE,0,IF(G14>H14,1,IF(H14>G14,2,3))) -> 0
A15: =Schedule!A15 -> 12 | B15: =Schedule!B15 -> Leipzig | C15: =Schedule!C15 -> 45461 | D15: =Schedule!D15 -> Group | E15: =Schedule!E15 -> Portugal | F15: =Schedule!F15 -> Czech Republic | I15: =IFERROR(IF(OR(J15=FALSE,Schedule!I15=FALSE),0,IF(AND(G15=Schedule!G15,H15=Schedule!H15),3,IF(K15=Schedule!J15,1,0))),0) -> 0 | J15: =NOT(OR(ISBLANK(G15),ISBLANK(H15))) -> FALSE | K15: =IF(J15=FALSE,0,IF(G15>H15,1,IF(H15>G15,2,3))) -> 0
... A54: =Schedule!A54 -> 51 | B54: =Schedule!B54 -> Berlin | C54: =Schedule!C54 -> 45487 | D54: =Schedule!D54 -> Final | E54: =Schedule!E54 -> W49 | F54: =Schedule!F54 -> W50 | I54: =IFERROR(IF(OR(J54=FALSE,Schedule!I54=FALSE),0,IF(AND(G54=Schedule!G54,H54=Schedule!H54),3,IF(K54=Schedule!J54,1,0))),0) -> 0 | J54: =NOT(OR(ISBLANK(G54),ISBLANK(H54))) -> FALSE | K54: =IF(J54=FALSE,0,IF(G54>H54,1,IF(H54>G54,2,3))) -> 0
