Workbook
Name fav: INDEX(PlayersList,Dashboard!$J$4)
Name PlayersList: Dashboard!$D$7:$D$11

Sheet Info
B2: Excel EURO2020 Sweepstake
C3: This is free version 05, Home edition for 5 players
C5: CELLS:
D6: Fill only
C8: WORKSHEETS:
C9: Info | D9: Current Info Sheet
C10: Dashboard | D10: Fully automated. Players selection Combo Box
C11: Schedule | D11: Power Query. Fully automated after refresh data
C12: (Name) | D12: Players Sheet. Type your predictions and name your Sheet
C13: SET | D13: Hidden Sheet Settings. You can declare point for each match or stage
C15: Sweepstake Rules of game
C16: The user fills the sheet in, only using the yellow boxes, players names and types of results of individual players for matches.
C17: The results of matches (Schedule) are taken from the website by Power query
C18: The system formula counts the number of points each player earned in each of the matches based on the following rules.
C19: 1. If the player correctly predicted the exact outcome of the match, (Result and Score) they will receive 3 points.
C20: 2. If the player correctly predicted the winner of the match or a draw, they will earn 1 point
C21: 3. In any other case, the player will receive 0 points.
C22: 4. If multiple players finish on the same number of points, there finishing order in the table will be decided based on whichever of the players predicted an accurate result the most times.
C23: 5. In other cases, players will take the same position.
C24: 6. These rules are automatically implemented; therefore, the table will sum up the results of all the players.
C26: UPGRADE:
D38: Prepared by EEXCEL

Sheet Dashboard
B2: Sweepstake Dashbaord
G4: Select the Player >>> | J4: 3
C6: Rank | D6: Player | E6: Group | F6: 1/8 | G6: 1/4 | H6: 1/2 | I6: Final | J6: Total
C7: =RANK(J7,$J$7:$J$11) -> 3 | D7: ='01'!$A$1 -> 01 | E7: =SUMIF('01'!$C$4:$C$54,Dashboard!E$6,'01'!$J$4:$J$54) -> 16 | F7: =SUMIF('01'!$C$4:$C$54,Dashboard!F$6,'01'!$J$4:$J$54) -> 4 | G7: =SUMIF('01'!$C$4:$C$54,Dashboard!G$6,'01'!$J$4:$J$54) -> 0 | H7: =SUMIF('01'!$C$4:$C$54,Dashboard!H$6,'01'!$J$4:$J$54) -> 0 | I7: =SUMIF('01'!$C$4:$C$54,Dashboard!I$6,'01'!$J$4:$J$54) -> 0 | J7: =SUM(E7:I7) -> 20
C8: =RANK(J8,$J$7:$J$11) -> 1 | D8: ='02'!$A$1 -> 02 | E8: =SUMIF('02'!$C$4:$C$54,Dashboard!E$6,'02'!$J$4:$J$54) -> 20 | F8: =SUMIF('02'!$C$4:$C$54,Dashboard!F$6,'02'!$J$4:$J$54) -> 7 | G8: =SUMIF('02'!$C$4:$C$54,Dashboard!G$6,'02'!$J$4:$J$54) -> 0 | H8: =SUMIF('02'!$C$4:$C$54,Dashboard!H$6,'02'!$J$4:$J$54) -> 0 | I8: =SUMIF('02'!$C$4:$C$54,Dashboard!I$6,'02'!$J$4:$J$54) -> 0 | J8: =SUM(E8:I8) -> 27
C9: =RANK(J9,$J$7:$J$11) -> 4 | D9: ='03'!$A$1 -> 03 | E9: =SUMIF('03'!$C$4:$C$54,Dashboard!E$6,'03'!$J$4:$J$54) -> 16 | F9: =SUMIF('03'!$C$4:$C$54,Dashboard!F$6,'03'!$J$4:$J$54) -> 1 | G9: =SUMIF('03'!$C$4:$C$54,Dashboard!G$6,'03'!$J$4:$J$54) -> 0 | H9: =SUMIF('03'!$C$4:$C$54,Dashboard!H$6,'03'!$J$4:$J$54) -> 0 | I9: =SUMIF('03'!$C$4:$C$54,Dashboard!I$6,'03'!$J$4:$J$54) -> 0 | J9: =SUM(E9:I9) -> 17
C10: =RANK(J10,$J$7:$J$11) -> 1 | D10: ='04'!$A$1 -> 04 | E10: =SUMIF('04'!$C$4:$C$54,Dashboard!E$6,'04'!$J$4:$J$54) -> 20 | F10: =SUMIF('04'!$C$4:$C$54,Dashboard!F$6,'04'!$J$4:$J$54) -> 7 | G10: =SUMIF('04'!$C$4:$C$54,Dashboard!G$6,'04'!$J$4:$J$54) -> 0 | H10: =SUMIF('04'!$C$4:$C$54,Dashboard!H$6,'04'!$J$4:$J$54) -> 0 | I10: =SUMIF('04'!$C$4:$C$54,Dashboard!I$6,'04'!$J$4:$J$54) -> 0 | J10: =SUM(E10:I10) -> 27
C11: =RANK(J11,$J$7:$J$11) -> 5 | D11: ='05'!$A$1 -> 05 | E11: =SUMIF('05'!$C$4:$C$54,Dashboard!E$6,'05'!$J$4:$J$54) -> 14 | F11: =SUMIF('05'!$C$4:$C$54,Dashboard!F$6,'05'!$J$4:$J$54) -> 1 | G11: =SUMIF('05'!$C$4:$C$54,Dashboard!G$6,'05'!$J$4:$J$54) -> 0 | H11: =SUMIF('05'!$C$4:$C$54,Dashboard!H$6,'05'!$J$4:$J$54) -> 0 | I11: =SUMIF('05'!$C$4:$C$54,Dashboard!I$6,'05'!$J$4:$J$54) -> 0 | J11: =SUM(E11:I11) -> 15

Sheet Schedule
A1: You can update data below using option Refresh (Right click in data region and select Refresh)
A2: https://docs.google.com/spreadsheets/d/1kP3uKjyd7B_j-R9TSf-JZ2TCuVAc1PMV-nl4VFUNilg/edit#gid=0
A3: No | B3: Place | C3: Date | D3: Stage | E3: Team1 | F3: Team2 | G3: Goals1 | H3: Goals2 | I3: Match | J3: Ind
A4: 1 | B4: Rome | C4: 44358 | D4: A | E4: Turkey | F4: Italy | G4: 2 | H4: 1 | I4: =NOT(OR(ISBLANK(G4),ISBLANK(H4))) -> TRUE | J4: =IF(I4=FALSE,0,IF(G4>H4,1,IF(H4>G4,2,3))) -> 1
A5: 2 | B5: Baku | C5: 44359 | D5: A | E5: Wales | F5: Switzerland | G5: 4 | H5: 1 | I5: =NOT(OR(ISBLANK(G5),ISBLANK(H5))) -> TRUE | J5: =IF(I5=FALSE,0,IF(G5>H5,1,IF(H5>G5,2,3))) -> 1
A6: 3 | B6: Copenhagen | C6: 44359 | D6: B | E6: Denmark | F6: Finland | G6: 1 | H6: 0 | I6: =NOT(OR(ISBLANK(G6),ISBLANK(H6))) -> TRUE | J6: =IF(I6=FALSE,0,IF(G6>H6,1,IF(H6>G6,2,3))) -> 1
A7: 4 | B7: Saint Petersburg | C7: 44359 | D7: B | E7: Belgium | F7: Russia | G7: 2 | H7: 1 | I7: =NOT(OR(ISBLANK(G7),ISBLANK(H7))) -> TRUE | J7: =IF(I7=FALSE,0,IF(G7>H7,1,IF(H7>G7,2,3))) -> 1
A8: 5 | B8: Amsterdam | C8: 44360 | D8: C | E8: Netherlands | F8: Ukraine | G8: 0 | H8: 2 | I8: =NOT(OR(ISBLANK(G8),ISBLANK(H8))) -> TRUE | J8: =IF(I8=FALSE,0,IF(G8>H8,1,IF(H8>G8,2,3))) -> 2
A9: 6 | B9: Bucharest | C9: 44360 | D9: C | E9: Austria | F9: North Macedonia | G9: 1 | H9: 1 | I9: =NOT(OR(ISBLANK(G9),ISBLANK(H9))) -> TRUE | J9: =IF(I9=FALSE,0,IF(G9>H9,1,IF(H9>G9,2,3))) -> 3
A10: 7 | B10: London | C10: 44360 | D10: D | E10: England | F10: Croatia | G10: 1 | H10: 0 | I10: =NOT(OR(ISBLANK(G10),ISBLANK(H10))) -> TRUE | J10: =IF(I10=FALSE,0,IF(G10>H10,1,IF(H10>G10,2,3))) -> 1
A11: 8 | B11: Glasgow | C11: 44361 | D11: D | E11: Scotland | F11: Czech Republic | G11: 1 | H11: 1 | I11: =NOT(OR(ISBLANK(G11),ISBLANK(H11))) -> TRUE | J11: =IF(I11=FALSE,0,IF(G11>H11,1,IF(H11>G11,2,3))) -> 3
A12: 9 | B12: Seville | C12: 44361 | D12: E | E12: Spain | F12: Sweden | G12: 0 | H12: 2 | I12: =NOT(OR(ISBLANK(G12),ISBLANK(H12))) -> TRUE | J12: =IF(I12=FALSE,0,IF(G12>H12,1,IF(H12>G12,2,3))) -> 2
A13: 10 | B13: Saint Petersburg | C13: 44361 | D13: E | E13: Poland | F13: Slovakia | G13: 1 | H13: 0 | I13: =NOT(OR(ISBLANK(G13),ISBLANK(H13))) -> TRUE | J13: =IF(I13=FALSE,0,IF(G13>H13,1,IF(H13>G13,2,3))) -> 1
A14: 11 | B14: Budapest | C14: 44362 | D14: F | E14: Hungary | F14: Portugal | G14: 2 | H14: 1 | I14: =NOT(OR(ISBLANK(G14),ISBLANK(H14))) -> TRUE | J14: =IF(I14=FALSE,0,IF(G14>H14,1,IF(H14>G14,2,3))) -> 1
A15: 12 | B15: Munich | C15: 44362 | D15: F | E15: France | F15: Germany | G15: 2 | H15: 2 | I15: =NOT(OR(ISBLANK(G15),ISBLANK(H15))) -> TRUE | J15: =IF(I15=FALSE,0,IF(G15>H15,1,IF(H15>G15,2,3))) -> 3
... A47: 44 | B47: London | C47: 44376 | D47: Round of 16 | E47: 1D | F47: 2F | G47: 0 | H47: 0 | I47: =NOT(OR(ISBLANK(G47),ISBLANK(H47))) -> TRUE | J47: =IF(I47=FALSE,0,IF(G47>H47,1,IF(H47>G47,2,3))) -> 3
A48: 45 | B48: Saint Petersburg | C48: 44379 | D48: Quarterfinals | E48: W 41 | F48: W 42 | I48: =NOT(OR(ISBLANK(G48),ISBLANK(H48))) -> FALSE | J48: =IF(I48=FALSE,0,IF(G48>H48,1,IF(H48>G48,2,3))) -> 0
A49: 46 | B49: Munich | C49: 44379 | D49: Quarterfinals | E49: W 39 | F49: W 37 | I49: =NOT(OR(ISBLANK(G49),ISBLANK(H49))) -> FALSE | J49: =IF(I49=FALSE,0,IF(G49>H49,1,IF(H49>G49,2,3))) -> 0
A50: 47 | B50: Baku | C50: 44380 | D50: Quarterfinals | E50: W 40 | F50: W 38 | I50: =NOT(OR(ISBLANK(G50),ISBLANK(H50))) -> FALSE | J50: =IF(I50=FALSE,0,IF(G50>H50,1,IF(H50>G50,2,3))) -> 0
A51: 48 | B51: Rome | C51: 44379 | D51: Quarterfinals | E51: W 43 | F51: W 44 | I51: =NOT(OR(ISBLANK(G51),ISBLANK(H51))) -> FALSE | J51: =IF(I51=FALSE,0,IF(G51>H51,1,IF(H51>G51,2,3))) -> 0
A52: 49 | B52: London | C52: 44383 | D52: Semifinals | E52: W 45 | F52: W 46 | I52: =NOT(OR(ISBLANK(G52),ISBLANK(H52))) -> FALSE | J52: =IF(I52=FALSE,0,IF(G52>H52,1,IF(H52>G52,2,3))) -> 0
A53: 50 | B53: London | C53: 44384 | D53: Semifinals | E53: W 48 | F53: W 47 | I53: =NOT(OR(ISBLANK(G53),ISBLANK(H53))) -> FALSE | J53: =IF(I53=FALSE,0,IF(G53>H53,1,IF(H53>G53,2,3))) -> 0
A54: 51 | B54: London | C54: 44388 | D54: Final | E54: W 49 | F54: W 50 | I54: =NOT(OR(ISBLANK(G54),ISBLANK(H54))) -> FALSE | J54: =IF(I54=FALSE,0,IF(G54>H54,1,IF(H54>G54,2,3))) -> 0

Sheet 01
A1: {=MID(CELL("filename",A1),FIND("]",CELL("filename",A1))+1,255)} -> 01
A3: No | B3: Date | C3: Stage | D3: T1 | E3: T2 | F3: G1 | G3: G2 | H3: Match | I3: Ind | J3: Points
A4: 1 | B4: 44358 | C4: Group | D4: =Table_1[[#This Row],[Team1]] -> Turkey | E4: =Table_1[[#This Row],[Team2]] -> Italy | F4: 2 | G4: 1 | H4: =NOT(OR(ISBLANK(F4),ISBLANK(G4))) -> TRUE | I4: =IF(H4=FALSE,0,IF(F4>G4,1,IF(G4>F4,2,3))) -> 1 | J4: =IFERROR(IF(OR(H4=FALSE,Schedule!I4=FALSE),0,IF(AND(F4=Schedule!G4,G4=Schedule!H4),VLOOKUP(A4,SET!$B$10:$E$60,3,0),IF(I4=Schedule!J4,VLOOKUP(A4,SET!$B$10:$E$60,4,0),0))),0) -> 3
A5: 2 | B5: 44360 | C5: Group | D5: =Table_1[[#This Row],[Team1]] -> Wales | E5: =Table_1[[#This Row],[Team2]] -> Switzerland | F5: 0 | G5: 2 | H5: =NOT(OR(ISBLANK(F5),ISBLANK(G5))) -> TRUE | I5: =IF(H5=FALSE,0,IF(F5>G5,1,IF(G5>F5,2,3))) -> 2 | J5: =IFERROR(IF(OR(H5=FALSE,Schedule!I5=FALSE),0,IF(AND(F5=Schedule!G5,G5=Schedule!H5),VLOOKUP(A5,SET!$B$10:$E$60,3,0),IF(I5=Schedule!J5,VLOOKUP(A5,SET!$B$10:$E$60,4,0),0))),0) -> 0
A6: 3 | B6: 44360 | C6: Group | D6: =Table_1[[#This Row],[Team1]] -> Denmark | E6: =Table_1[[#This Row],[Team2]] -> Finland | F6: 3 | G6: 3 | H6: =NOT(OR(ISBLANK(F6),ISBLANK(G6))) -> TRUE | I6: =IF(H6=FALSE,0,IF(F6>G6,1,IF(G6>F6,2,3))) -> 3 | J6: =IFERROR(IF(OR(H6=FALSE,Schedule!I6=FALSE),0,IF(AND(F6=Schedule!G6,G6=Schedule!H6),VLOOKUP(A6,SET!$B$10:$E$60,3,0),IF(I6=Schedule!J6,VLOOKUP(A6,SET!$B$10:$E$60,4,0),0))),0) -> 0
A7: 4 | B7: 44360 | C7: Group | D7: =Table_1[[#This Row],[Team1]] -> Belgium | E7: =Table_1[[#This Row],[Team2]] -> Russia | F7: 2 | G7: 1 | H7: =NOT(OR(ISBLANK(F7),ISBLANK(G7))) -> TRUE | I7: =IF(H7=FALSE,0,IF(F7>G7,1,IF(G7>F7,2,3))) -> 1 | J7: =IFERROR(IF(OR(H7=FALSE,Schedule!I7=FALSE),0,IF(AND(F7=Schedule!G7,G7=Schedule!H7),VLOOKUP(A7,SET!$B$10:$E$60,3,0),IF(I7=Schedule!J7,VLOOKUP(A7,SET!$B$10:$E$60,4,0),0))),0) -> 3
A8: 5 | B8: 44361 | C8: Group | D8: =Table_1[[#This Row],[Team1]] -> Netherlands | E8: =Table_1[[#This Row],[Team2]] -> Ukraine | F8: 3 | G8: 2 | H8: =NOT(OR(ISBLANK(F8),ISBLANK(G8))) -> TRUE | I8: =IF(H8=FALSE,0,IF(F8>G8,1,IF(G8>F8,2,3))) -> 1 | J8: =IFERROR(IF(OR(H8=FALSE,Schedule!I8=FALSE),0,IF(AND(F8=Schedule!G8,G8=Schedule!H8),VLOOKUP(A8,SET!$B$10:$E$60,3,0),IF(I8=Schedule!J8,VLOOKUP(A8,SET!$B$10:$E$60,4,0),0))),0) -> 0
A9: 6 | B9: 44361 | C9: Group | D9: =Table_1[[#This Row],[Team1]] -> Austria | E9: =Table_1[[#This Row],[Team2]] -> North Macedonia | F9: 0 | G9: 2 | H9: =NOT(OR(ISBLANK(F9),ISBLANK(G9))) -> TRUE | I9: =IF(H9=FALSE,0,IF(F9>G9,1,IF(G9>F9,2,3))) -> 2 | J9: =IFERROR(IF(OR(H9=FALSE,Schedule!I9=FALSE),0,IF(AND(F9=Schedule!G9,G9=Schedule!H9),VLOOKUP(A9,SET!$B$10:$E$60,3,0),IF(I9=Schedule!J9,VLOOKUP(A9,SET!$B$10:$E$60,4,0),0))),0) -> 0
A10: 7 | B10: 44361 | C10: Group | D10: =Table_1[[#This Row],[Team1]] -> England | E10: =Table_1[[#This Row],[Team2]] -> Croatia | F10: 2 | G10: 3 | H10: =NOT(OR(ISBLANK(F10),ISBLANK(G10))) -> TRUE | I10: =IF(H10=FALSE,0,IF(F10>G10,1,IF(G10>F10,2,3))) -> 2 | J10: =IFERROR(IF(OR(H10=FALSE,Schedule!I10=FALSE),0,IF(AND(F10=Schedule!G10,G10=Schedule!H10),VLOOKUP(A10,SET!$B$10:$E$60,3,0),IF(I10=Schedule!J10,VLOOKUP(A10,SET!$B$10:$E$60,4,0),0))),0) -> 0
A11: 8 | B11: 44362 | C11: Group | D11: =Table_1[[#This Row],[Team1]] -> Scotland | E11: =Table_1[[#This Row],[Team2]] -> Czech Republic | F11: 3 | G11: 2 | H11: =NOT(OR(ISBLANK(F11),ISBLANK(G11))) -> TRUE | I11: =IF(H11=FALSE,0,IF(F11>G11,1,IF(G11>F11,2,3))) -> 1 | J11: =IFERROR(IF(OR(H11=FALSE,Schedule!I11=FALSE),0,IF(AND(F11=Schedule!G11,G11=Schedule!H11),VLOOKUP(A11,SET!$B$10:$E$60,3,0),IF(I11=Schedule!J11,VLOOKUP(A11,SET!$B$10:$E$60,4,0),0))),0) -> 0
A12: 9 | B12: 44362 | C12: Group | D12: =Table_1[[#This Row],[Team1]] -> Spain | E12: =Table_1[[#This Row],[Team2]] -> Sweden | F12: 3 | G12: 3 | H12: =NOT(OR(ISBLANK(F12),ISBLANK(G12))) -> TRUE | I12: =IF(H12=FALSE,0,IF(F12>G12,1,IF(G12>F12,2,3))) -> 3 | J12: =IFERROR(IF(OR(H12=FALSE,Schedule!I12=FALSE),0,IF(AND(F12=Schedule!G12,G12=Schedule!H12),VLOOKUP(A12,SET!$B$10:$E$60,3,0),IF(I12=Schedule!J12,VLOOKUP(A12,SET!$B$10:$E$60,4,0),0))),0) -> 0
A13: 10 | B13: 44362 | C13: Group | D13: =Table_1[[#This Row],[Team1]] -> Poland | E13: =Table_1[[#This Row],[Team2]] -> Slovakia | F13: 2 | G13: 2 | H13: =NOT(OR(ISBLANK(F13),ISBLANK(G13))) -> TRUE | I13: =IF(H13=FALSE,0,IF(F13>G13,1,IF(G13>F13,2,3))) -> 3 | J13: =IFERROR(IF(OR(H13=FALSE,Schedule!I13=FALSE),0,IF(AND(F13=Schedule!G13,G13=Schedule!H13),VLOOKUP(A13,SET!$B$10:$E$60,3,0),IF(I13=Schedule!J13,VLOOKUP(A13,SET!$B$10:$E$60,4,0),0))),0) -> 0
A14: 11 | B14: 44363 | C14: Group | D14: =Table_1[[#This Row],[Team1]] -> Hungary | E14: =Table_1[[#This Row],[Team2]] -> Portugal | F14: 1 | G14: 3 | H14: =NOT(OR(ISBLANK(F14),ISBLANK(G14))) -> TRUE | I14: =IF(H14=FALSE,0,IF(F14>G14,1,IF(G14>F14,2,3))) -> 2 | J14: =IFERROR(IF(OR(H14=FALSE,Schedule!I14=FALSE),0,IF(AND(F14=Schedule!G14,G14=Schedule!H14),VLOOKUP(A14,SET!$B$10:$E$60,3,0),IF(I14=Schedule!J14,VLOOKUP(A14,SET!$B$10:$E$60,4,0),0))),0) -> 0
A15: 12 | B15: 44363 | C15: Group | D15: =Table_1[[#This Row],[Team1]] -> France | E15: =Table_1[[#This Row],[Team2]] -> Germany | F15: 1 | G15: 0 | H15: =NOT(OR(ISBLANK(F15),ISBLANK(G15))) -> TRUE | I15: =IF(H15=FALSE,0,IF(F15>G15,1,IF(G15>F15,2,3))) -> 1 | J15: =IFERROR(IF(OR(H15=FALSE,Schedule!I15=FALSE),0,IF(AND(F15=Schedule!G15,G15=Schedule!H15),VLOOKUP(A15,SET!$B$10:$E$60,3,0),IF(I15=Schedule!J15,VLOOKUP(A15,SET!$B$10:$E$60,4,0),0))),0) -> 0
... A54: 51 | B54: 44388 | C54: Final | D54: =Table_1[[#This Row],[Team1]] -> W 49 | E54: =Table_1[[#This Row],[Team2]] -> W 50 | F54: 2 | G54: 3 | H54: =NOT(OR(ISBLANK(F54),ISBLANK(G54))) -> TRUE | I54: =IF(H54=FALSE,0,IF(F54>G54,1,IF(G54>F54,2,3))) -> 2 | J54: =IFERROR(IF(OR(H54=FALSE,Schedule!I54=FALSE),0,IF(AND(F54=Schedule!G54,G54=Schedule!H54),VLOOKUP(A54,SET!$B$10:$E$60,3,0),IF(I54=Schedule!J54,VLOOKUP(A54,SET!$B$10:$E$60,4,0),0))),0) -> 0

Sheet 02
A1: {=MID(CELL("filename",A1),FIND("]",CELL("filename",A1))+1,255)} -> 02
A3: No | B3: Date | C3: Stage | D3: T1 | E3: T2 | F3: G1 | G3: G2 | H3: Match | I3: Ind | J3: Points
A4: 1 | B4: 44358 | C4: Group | D4: =Table_1[[#This Row],[Team1]] -> Turkey | E4: =Table_1[[#This Row],[Team2]] -> Italy | F4: 3 | G4: 2 | H4: =NOT(OR(ISBLANK(F4),ISBLANK(G4))) -> TRUE | I4: =IF(H4=FALSE,0,IF(F4>G4,1,IF(G4>F4,2,3))) -> 1 | J4: =IFERROR(IF(OR(H4=FALSE,Schedule!I4=FALSE),0,IF(AND(F4=Schedule!G4,G4=Schedule!H4),VLOOKUP(A4,SET!$B$10:$E$60,3,0),IF(I4=Schedule!J4,VLOOKUP(A4,SET!$B$10:$E$60,4,0),0))),0) -> 1
A5: 2 | B5: 44360 | C5: Group | D5: =Table_1[[#This Row],[Team1]] -> Wales | E5: =Table_1[[#This Row],[Team2]] -> Switzerland | F5: 3 | G5: 3 | H5: =NOT(OR(ISBLANK(F5),ISBLANK(G5))) -> TRUE | I5: =IF(H5=FALSE,0,IF(F5>G5,1,IF(G5>F5,2,3))) -> 3 | J5: =IFERROR(IF(OR(H5=FALSE,Schedule!I5=FALSE),0,IF(AND(F5=Schedule!G5,G5=Schedule!H5),VLOOKUP(A5,SET!$B$10:$E$60,3,0),IF(I5=Schedule!J5,VLOOKUP(A5,SET!$B$10:$E$60,4,0),0))),0) -> 0
A6: 3 | B6: 44360 | C6: Group | D6: =Table_1[[#This Row],[Team1]] -> Denmark | E6: =Table_1[[#This Row],[Team2]] -> Finland | F6: 0 | G6: 1 | H6: =NOT(OR(ISBLANK(F6),ISBLANK(G6))) -> TRUE | I6: =IF(H6=FALSE,0,IF(F6>G6,1,IF(G6>F6,2,3))) -> 2 | J6: =IFERROR(IF(OR(H6=FALSE,Schedule!I6=FALSE),0,IF(AND(F6=Schedule!G6,G6=Schedule!H6),VLOOKUP(A6,SET!$B$10:$E$60,3,0),IF(I6=Schedule!J6,VLOOKUP(A6,SET!$B$10:$E$60,4,0),0))),0) -> 0
A7: 4 | B7: 44360 | C7: Group | D7: =Table_1[[#This Row],[Team1]] -> Belgium | E7: =Table_1[[#This Row],[Team2]] -> Russia | F7: 1 | G7: 3 | H7: =NOT(OR(ISBLANK(F7),ISBLANK(G7))) -> TRUE | I7: =IF(H7=FALSE,0,IF(F7>G7,1,IF(G7>F7,2,3))) -> 2 | J7: =IFERROR(IF(OR(H7=FALSE,Schedule!I7=FALSE),0,IF(AND(F7=Schedule!G7,G7=Schedule!H7),VLOOKUP(A7,SET!$B$10:$E$60,3,0),IF(I7=Schedule!J7,VLOOKUP(A7,SET!$B$10:$E$60,4,0),0))),0) -> 0
A8: 5 | B8: 44361 | C8: Group | D8: =Table_1[[#This Row],[Team1]] -> Netherlands | E8: =Table_1[[#This Row],[Team2]] -> Ukraine | F8: 1 | G8: 2 | H8: =NOT(OR(ISBLANK(F8),ISBLANK(G8))) -> TRUE | I8: =IF(H8=FALSE,0,IF(F8>G8,1,IF(G8>F8,2,3))) -> 2 | J8: =IFERROR(IF(OR(H8=FALSE,Schedule!I8=FALSE),0,IF(AND(F8=Schedule!G8,G8=Schedule!H8),VLOOKUP(A8,SET!$B$10:$E$60,3,0),IF(I8=Schedule!J8,VLOOKUP(A8,SET!$B$10:$E$60,4,0),0))),0) -> 1
A9: 6 | B9: 44361 | C9: Group | D9: =Table_1[[#This Row],[Team1]] -> Austria | E9: =Table_1[[#This Row],[Team2]] -> North Macedonia | F9: 1 | G9: 1 | H9: =NOT(OR(ISBLANK(F9),ISBLANK(G9))) -> TRUE | I9: =IF(H9=FALSE,0,IF(F9>G9,1,IF(G9>F9,2,3))) -> 3 | J9: =IFERROR(IF(OR(H9=FALSE,Schedule!I9=FALSE),0,IF(AND(F9=Schedule!G9,G9=Schedule!H9),VLOOKUP(A9,SET!$B$10:$E$60,3,0),IF(I9=Schedule!J9,VLOOKUP(A9,SET!$B$10:$E$60,4,0),0))),0) -> 3
A10: 7 | B10: 44361 | C10: Group | D10: =Table_1[[#This Row],[Team1]] -> England | E10: =Table_1[[#This Row],[Team2]] -> Croatia | F10: 0 | G10: 3 | H10: =NOT(OR(ISBLANK(F10),ISBLANK(G10))) -> TRUE | I10: =IF(H10=FALSE,0,IF(F10>G10,1,IF(G10>F10,2,3))) -> 2 | J10: =IFERROR(IF(OR(H10=FALSE,Schedule!I10=FALSE),0,IF(AND(F10=Schedule!G10,G10=Schedule!H10),VLOOKUP(A10,SET!$B$10:$E$60,3,0),IF(I10=Schedule!J10,VLOOKUP(A10,SET!$B$10:$E$60,4,0),0))),0) -> 0
A11: 8 | B11: 44362 | C11: Group | D11: =Table_1[[#This Row],[Team1]] -> Scotland | E11: =Table_1[[#This Row],[Team2]] -> Czech Republic | F11: 2 | G11: 2 | H11: =NOT(OR(ISBLANK(F11),ISBLANK(G11))) -> TRUE | I11: =IF(H11=FALSE,0,IF(F11>G11,1,IF(G11>F11,2,3))) -> 3 | J11: =IFERROR(IF(OR(H11=FALSE,Schedule!I11=FALSE),0,IF(AND(F11=Schedule!G11,G11=Schedule!H11),VLOOKUP(A11,SET!$B$10:$E$60,3,0),IF(I11=Schedule!J11,VLOOKUP(A11,SET!$B$10:$E$60,4,0),0))),0) -> 1
A12: 9 | B12: 44362 | C12: Group | D12: =Table_1[[#This Row],[Team1]] -> Spain | E12: =Table_1[[#This Row],[Team2]] -> Sweden | F12: 0 | G12: 0 | H12: =NOT(OR(ISBLANK(F12),ISBLANK(G12))) -> TRUE | I12: =IF(H12=FALSE,0,IF(F12>G12,1,IF(G12>F12,2,3))) -> 3 | J12: =IFERROR(IF(OR(H12=FALSE,Schedule!I12=FALSE),0,IF(AND(F12=Schedule!G12,G12=Schedule!H12),VLOOKUP(A12,SET!$B$10:$E$60,3,0),IF(I12=Schedule!J12,VLOOKUP(A12,SET!$B$10:$E$60,4,0),0))),0) -> 0
A13: 10 | B13: 44362 | C13: Group | D13: =Table_1[[#This Row],[Team1]] -> Poland | E13: =Table_1[[#This Row],[Team2]] -> Slovakia | F13: 1 | G13: 1 | H13: =NOT(OR(ISBLANK(F13),ISBLANK(G13))) -> TRUE | I13: =IF(H13=FALSE,0,IF(F13>G13,1,IF(G13>F13,2,3))) -> 3 | J13: =IFERROR(IF(OR(H13=FALSE,Schedule!I13=FALSE),0,IF(AND(F13=Schedule!G13,G13=Schedule!H13),VLOOKUP(A13,SET!$B$10:$E$60,3,0),IF(I13=Schedule!J13,VLOOKUP(A13,SET!$B$10:$E$60,4,0),0))),0) -> 0
A14: 11 | B14: 44363 | C14: Group | D14: =Table_1[[#This Row],[Team1]] -> Hungary | E14: =Table_1[[#This Row],[Team2]] -> Portugal | F14: 1 | G14: 1 | H14: =NOT(OR(ISBLANK(F14),ISBLANK(G14))) -> TRUE | I14: =IF(H14=FALSE,0,IF(F14>G14,1,IF(G14>F14,2,3))) -> 3 | J14: =IFERROR(IF(OR(H14=FALSE,Schedule!I14=FALSE),0,IF(AND(F14=Schedule!G14,G14=Schedule!H14),VLOOKUP(A14,SET!$B$10:$E$60,3,0),IF(I14=Schedule!J14,VLOOKUP(A14,SET!$B$10:$E$60,4,0),0))),0) -> 0
A15: 12 | B15: 44363 | C15: Group | D15: =Table_1[[#This Row],[Team1]] -> France | E15: =Table_1[[#This Row],[Team2]] -> Germany | F15: 2 | G15: 2 | H15: =NOT(OR(ISBLANK(F15),ISBLANK(G15))) -> TRUE | I15: =IF(H15=FALSE,0,IF(F15>G15,1,IF(G15>F15,2,3))) -> 3 | J15: =IFERROR(IF(OR(H15=FALSE,Schedule!I15=FALSE),0,IF(AND(F15=Schedule!G15,G15=Schedule!H15),VLOOKUP(A15,SET!$B$10:$E$60,3,0),IF(I15=Schedule!J15,VLOOKUP(A15,SET!$B$10:$E$60,4,0),0))),0) -> 3
... A54: 51 | B54: 44388 | C54: Final | D54: =Table_1[[#This Row],[Team1]] -> W 49 | E54: =Table_1[[#This Row],[Team2]] -> W 50 | F54: 2 | G54: 3 | H54: =NOT(OR(ISBLANK(F54),ISBLANK(G54))) -> TRUE | I54: =IF(H54=FALSE,0,IF(F54>G54,1,IF(G54>F54,2,3))) -> 2 | J54: =IFERROR(IF(OR(H54=FALSE,Schedule!I54=FALSE),0,IF(AND(F54=Schedule!G54,G54=Schedule!H54),VLOOKUP(A54,SET!$B$10:$E$60,3,0),IF(I54=Schedule!J54,VLOOKUP(A54,SET!$B$10:$E$60,4,0),0))),0) -> 0

Sheet 03
A1: {=MID(CELL("filename",A1),FIND("]",CELL("filename",A1))+1,255)} -> 03
A3: No | B3: Date | C3: Stage | D3: T1 | E3: T2 | F3: G1 | G3: G2 | H3: Match | I3: Ind | J3: Points
A4: 1 | B4: 44358 | C4: Group | D4: =Table_1[[#This Row],[Team1]] -> Turkey | E4: =Table_1[[#This Row],[Team2]] -> Italy | F4: 1 | G4: 3 | H4: =NOT(OR(ISBLANK(F4),ISBLANK(G4))) -> TRUE | I4: =IF(H4=FALSE,0,IF(F4>G4,1,IF(G4>F4,2,3))) -> 2 | J4: =IFERROR(IF(OR(H4=FALSE,Schedule!I4=FALSE),0,IF(AND(F4=Schedule!G4,G4=Schedule!H4),VLOOKUP(A4,SET!$B$10:$E$60,3,0),IF(I4=Schedule!J4,VLOOKUP(A4,SET!$B$10:$E$60,4,0),0))),0) -> 0
A5: 2 | B5: 44360 | C5: Group | D5: =Table_1[[#This Row],[Team1]] -> Wales | E5: =Table_1[[#This Row],[Team2]] -> Switzerland | F5: 1 | G5: 1 | H5: =NOT(OR(ISBLANK(F5),ISBLANK(G5))) -> TRUE | I5: =IF(H5=FALSE,0,IF(F5>G5,1,IF(G5>F5,2,3))) -> 3 | J5: =IFERROR(IF(OR(H5=FALSE,Schedule!I5=FALSE),0,IF(AND(F5=Schedule!G5,G5=Schedule!H5),VLOOKUP(A5,SET!$B$10:$E$60,3,0),IF(I5=Schedule!J5,VLOOKUP(A5,SET!$B$10:$E$60,4,0),0))),0) -> 0
A6: 3 | B6: 44360 | C6: Group | D6: =Table_1[[#This Row],[Team1]] -> Denmark | E6: =Table_1[[#This Row],[Team2]] -> Finland | F6: 2 | G6: 3 | H6: =NOT(OR(ISBLANK(F6),ISBLANK(G6))) -> TRUE | I6: =IF(H6=FALSE,0,IF(F6>G6,1,IF(G6>F6,2,3))) -> 2 | J6: =IFERROR(IF(OR(H6=FALSE,Schedule!I6=FALSE),0,IF(AND(F6=Schedule!G6,G6=Schedule!H6),VLOOKUP(A6,SET!$B$10:$E$60,3,0),IF(I6=Schedule!J6,VLOOKUP(A6,SET!$B$10:$E$60,4,0),0))),0) -> 0
A7: 4 | B7: 44360 | C7: Group | D7: =Table_1[[#This Row],[Team1]] -> Belgium | E7: =Table_1[[#This Row],[Team2]] -> Russia | F7: 3 | G7: 1 | H7: =NOT(OR(ISBLANK(F7),ISBLANK(G7))) -> TRUE | I7: =IF(H7=FALSE,0,IF(F7>G7,1,IF(G7>F7,2,3))) -> 1 | J7: =IFERROR(IF(OR(H7=FALSE,Schedule!I7=FALSE),0,IF(AND(F7=Schedule!G7,G7=Schedule!H7),VLOOKUP(A7,SET!$B$10:$E$60,3,0),IF(I7=Schedule!J7,VLOOKUP(A7,SET!$B$10:$E$60,4,0),0))),0) -> 1
A8: 5 | B8: 44361 | C8: Group | D8: =Table_1[[#This Row],[Team1]] -> Netherlands | E8: =Table_1[[#This Row],[Team2]] -> Ukraine | F8: 1 | G8: 2 | H8: =NOT(OR(ISBLANK(F8),ISBLANK(G8))) -> TRUE | I8: =IF(H8=FALSE,0,IF(F8>G8,1,IF(G8>F8,2,3))) -> 2 | J8: =IFERROR(IF(OR(H8=FALSE,Schedule!I8=FALSE),0,IF(AND(F8=Schedule!G8,G8=Schedule!H8),VLOOKUP(A8,SET!$B$10:$E$60,3,0),IF(I8=Schedule!J8,VLOOKUP(A8,SET!$B$10:$E$60,4,0),0))),0) -> 1
A9: 6 | B9: 44361 | C9: Group | D9: =Table_1[[#This Row],[Team1]] -> Austria | E9: =Table_1[[#This Row],[Team2]] -> North Macedonia | F9: 0 | G9: 2 | H9: =NOT(OR(ISBLANK(F9),ISBLANK(G9))) -> TRUE | I9: =IF(H9=FALSE,0,IF(F9>G9,1,IF(G9>F9,2,3))) -> 2 | J9: =IFERROR(IF(OR(H9=FALSE,Schedule!I9=FALSE),0,IF(AND(F9=Schedule!G9,G9=Schedule!H9),VLOOKUP(A9,SET!$B$10:$E$60,3,0),IF(I9=Schedule!J9,VLOOKUP(A9,SET!$B$10:$E$60,4,0),0))),0) -> 0
A10: 7 | B10: 44361 | C10: Group | D10: =Table_1[[#This Row],[Team1]] -> England | E10: =Table_1[[#This Row],[Team2]] -> Croatia | F10: 0 | G10: 1 | H10: =NOT(OR(ISBLANK(F10),ISBLANK(G10))) -> TRUE | I10: =IF(H10=FALSE,0,IF(F10>G10,1,IF(G10>F10,2,3))) -> 2 | J10: =IFERROR(IF(OR(H10=FALSE,Schedule!I10=FALSE),0,IF(AND(F10=Schedule!G10,G10=Schedule!H10),VLOOKUP(A10,SET!$B$10:$E$60,3,0),IF(I10=Schedule!J10,VLOOKUP(A10,SET!$B$10:$E$60,4,0),0))),0) -> 0
A11: 8 | B11: 44362 | C11: Group | D11: =Table_1[[#This Row],[Team1]] -> Scotland | E11: =Table_1[[#This Row],[Team2]] -> Czech Republic | F11: 0 | G11: 2 | H11: =NOT(OR(ISBLANK(F11),ISBLANK(G11))) -> TRUE | I11: =IF(H11=FALSE,0,IF(F11>G11,1,IF(G11>F11,2,3))) -> 2 | J11: =IFERROR(IF(OR(H11=FALSE,Schedule!I11=FALSE),0,IF(AND(F11=Schedule!G11,G11=Schedule!H11),VLOOKUP(A11,SET!$B$10:$E$60,3,0),IF(I11=Schedule!J11,VLOOKUP(A11,SET!$B$10:$E$60,4,0),0))),0) -> 0
A12: 9 | B12: 44362 | C12: Group | D12: =Table_1[[#This Row],[Team1]] -> Spain | E12: =Table_1[[#This Row],[Team2]] -> Sweden | F12: 1 | G12: 0 | H12: =NOT(OR(ISBLANK(F12),ISBLANK(G12))) -> TRUE | I12: =IF(H12=FALSE,0,IF(F12>G12,1,IF(G12>F12,2,3))) -> 1 | J12: =IFERROR(IF(OR(H12=FALSE,Schedule!I12=FALSE),0,IF(AND(F12=Schedule!G12,G12=Schedule!H12),VLOOKUP(A12,SET!$B$10:$E$60,3,0),IF(I12=Schedule!J12,VLOOKUP(A12,SET!$B$10:$E$60,4,0),0))),0) -> 0
A13: 10 | B13: 44362 | C13: Group | D13: =Table_1[[#This Row],[Team1]] -> Poland | E13: =Table_1[[#This Row],[Team2]] -> Slovakia | F13: 1 | G13: 2 | H13: =NOT(OR(ISBLANK(F13),ISBLANK(G13))) -> TRUE | I13: =IF(H13=FALSE,0,IF(F13>G13,1,IF(G13>F13,2,3))) -> 2 | J13: =IFERROR(IF(OR(H13=FALSE,Schedule!I13=FALSE),0,IF(AND(F13=Schedule!G13,G13=Schedule!H13),VLOOKUP(A13,SET!$B$10:$E$60,3,0),IF(I13=Schedule!J13,VLOOKUP(A13,SET!$B$10:$E$60,4,0),0))),0) -> 0
A14: 11 | B14: 44363 | C14: Group | D14: =Table_1[[#This Row],[Team1]] -> Hungary | E14: =Table_1[[#This Row],[Team2]] -> Portugal | F14: 0 | G14: 0 | H14: =NOT(OR(ISBLANK(F14),ISBLANK(G14))) -> TRUE | I14: =IF(H14=FALSE,0,IF(F14>G14,1,IF(G14>F14,2,3))) -> 3 | J14: =IFERROR(IF(OR(H14=FALSE,Schedule!I14=FALSE),0,IF(AND(F14=Schedule!G14,G14=Schedule!H14),VLOOKUP(A14,SET!$B$10:$E$60,3,0),IF(I14=Schedule!J14,VLOOKUP(A14,SET!$B$10:$E$60,4,0),0))),0) -> 0
A15: 12 | B15: 44363 | C15: Group | D15: =Table_1[[#This Row],[Team1]] -> France | E15: =Table_1[[#This Row],[Team2]] -> Germany | F15: 0 | G15: 3 | H15: =NOT(OR(ISBLANK(F15),ISBLANK(G15))) -> TRUE | I15: =IF(H15=FALSE,0,IF(F15>G15,1,IF(G15>F15,2,3))) -> 2 | J15: =IFERROR(IF(OR(H15=FALSE,Schedule!I15=FALSE),0,IF(AND(F15=Schedule!G15,G15=Schedule!H15),VLOOKUP(A15,SET!$B$10:$E$60,3,0),IF(I15=Schedule!J15,VLOOKUP(A15,SET!$B$10:$E$60,4,0),0))),0) -> 0
... A54: 51 | B54: 44388 | C54: Final | D54: =Table_1[[#This Row],[Team1]] -> W 49 | E54: =Table_1[[#This Row],[Team2]] -> W 50 | F54: 1 | G54: 2 | H54: =NOT(OR(ISBLANK(F54),ISBLANK(G54))) -> TRUE | I54: =IF(H54=FALSE,0,IF(F54>G54,1,IF(G54>F54,2,3))) -> 2 | J54: =IFERROR(IF(OR(H54=FALSE,Schedule!I54=FALSE),0,IF(AND(F54=Schedule!G54,G54=Schedule!H54),VLOOKUP(A54,SET!$B$10:$E$60,3,0),IF(I54=Schedule!J54,VLOOKUP(A54,SET!$B$10:$E$60,4,0),0))),0) -> 0

Sheet 04
A1: {=MID(CELL("filename",A1),FIND("]",CELL("filename",A1))+1,255)} -> 04
A3: No | B3: Date | C3: Stage | D3: T1 | E3: T2 | F3: G1 | G3: G2 | H3: Match | I3: Ind | J3: Points
A4: 1 | B4: 44358 | C4: Group | D4: =Table_1[[#This Row],[Team1]] -> Turkey | E4: =Table_1[[#This Row],[Team2]] -> Italy | F4: 3 | G4: 2 | H4: =NOT(OR(ISBLANK(F4),ISBLANK(G4))) -> TRUE | I4: =IF(H4=FALSE,0,IF(F4>G4,1,IF(G4>F4,2,3))) -> 1 | J4: =IFERROR(IF(OR(H4=FALSE,Schedule!I4=FALSE),0,IF(AND(F4=Schedule!G4,G4=Schedule!H4),VLOOKUP(A4,SET!$B$10:$E$60,3,0),IF(I4=Schedule!J4,VLOOKUP(A4,SET!$B$10:$E$60,4,0),0))),0) -> 1
A5: 2 | B5: 44360 | C5: Group | D5: =Table_1[[#This Row],[Team1]] -> Wales | E5: =Table_1[[#This Row],[Team2]] -> Switzerland | F5: 2 | G5: 0 | H5: =NOT(OR(ISBLANK(F5),ISBLANK(G5))) -> TRUE | I5: =IF(H5=FALSE,0,IF(F5>G5,1,IF(G5>F5,2,3))) -> 1 | J5: =IFERROR(IF(OR(H5=FALSE,Schedule!I5=FALSE),0,IF(AND(F5=Schedule!G5,G5=Schedule!H5),VLOOKUP(A5,SET!$B$10:$E$60,3,0),IF(I5=Schedule!J5,VLOOKUP(A5,SET!$B$10:$E$60,4,0),0))),0) -> 1
A6: 3 | B6: 44360 | C6: Group | D6: =Table_1[[#This Row],[Team1]] -> Denmark | E6: =Table_1[[#This Row],[Team2]] -> Finland | F6: 3 | G6: 0 | H6: =NOT(OR(ISBLANK(F6),ISBLANK(G6))) -> TRUE | I6: =IF(H6=FALSE,0,IF(F6>G6,1,IF(G6>F6,2,3))) -> 1 | J6: =IFERROR(IF(OR(H6=FALSE,Schedule!I6=FALSE),0,IF(AND(F6=Schedule!G6,G6=Schedule!H6),VLOOKUP(A6,SET!$B$10:$E$60,3,0),IF(I6=Schedule!J6,VLOOKUP(A6,SET!$B$10:$E$60,4,0),0))),0) -> 1
A7: 4 | B7: 44360 | C7: Group | D7: =Table_1[[#This Row],[Team1]] -> Belgium | E7: =Table_1[[#This Row],[Team2]] -> Russia | F7: 3 | G7: 0 | H7: =NOT(OR(ISBLANK(F7),ISBLANK(G7))) -> TRUE | I7: =IF(H7=FALSE,0,IF(F7>G7,1,IF(G7>F7,2,3))) -> 1 | J7: =IFERROR(IF(OR(H7=FALSE,Schedule!I7=FALSE),0,IF(AND(F7=Schedule!G7,G7=Schedule!H7),VLOOKUP(A7,SET!$B$10:$E$60,3,0),IF(I7=Schedule!J7,VLOOKUP(A7,SET!$B$10:$E$60,4,0),0))),0) -> 1
A8: 5 | B8: 44361 | C8: Group | D8: =Table_1[[#This Row],[Team1]] -> Netherlands | E8: =Table_1[[#This Row],[Team2]] -> Ukraine | F8: 0 | G8: 0 | H8: =NOT(OR(ISBLANK(F8),ISBLANK(G8))) -> TRUE | I8: =IF(H8=FALSE,0,IF(F8>G8,1,IF(G8>F8,2,3))) -> 3 | J8: =IFERROR(IF(OR(H8=FALSE,Schedule!I8=FALSE),0,IF(AND(F8=Schedule!G8,G8=Schedule!H8),VLOOKUP(A8,SET!$B$10:$E$60,3,0),IF(I8=Schedule!J8,VLOOKUP(A8,SET!$B$10:$E$60,4,0),0))),0) -> 0
A9: 6 | B9: 44361 | C9: Group | D9: =Table_1[[#This Row],[Team1]] -> Austria | E9: =Table_1[[#This Row],[Team2]] -> North Macedonia | F9: 1 | G9: 0 | H9: =NOT(OR(ISBLANK(F9),ISBLANK(G9))) -> TRUE | I9: =IF(H9=FALSE,0,IF(F9>G9,1,IF(G9>F9,2,3))) -> 1 | J9: =IFERROR(IF(OR(H9=FALSE,Schedule!I9=FALSE),0,IF(AND(F9=Schedule!G9,G9=Schedule!H9),VLOOKUP(A9,SET!$B$10:$E$60,3,0),IF(I9=Schedule!J9,VLOOKUP(A9,SET!$B$10:$E$60,4,0),0))),0) -> 0
A10: 7 | B10: 44361 | C10: Group | D10: =Table_1[[#This Row],[Team1]] -> England | E10: =Table_1[[#This Row],[Team2]] -> Croatia | F10: 2 | G10: 0 | H10: =NOT(OR(ISBLANK(F10),ISBLANK(G10))) -> TRUE | I10: =IF(H10=FALSE,0,IF(F10>G10,1,IF(G10>F10,2,3))) -> 1 | J10: =IFERROR(IF(OR(H10=FALSE,Schedule!I10=FALSE),0,IF(AND(F10=Schedule!G10,G10=Schedule!H10),VLOOKUP(A10,SET!$B$10:$E$60,3,0),IF(I10=Schedule!J10,VLOOKUP(A10,SET!$B$10:$E$60,4,0),0))),0) -> 1
A11: 8 | B11: 44362 | C11: Group | D11: =Table_1[[#This Row],[Team1]] -> Scotland | E11: =Table_1[[#This Row],[Team2]] -> Czech Republic | F11: 3 | G11: 3 | H11: =NOT(OR(ISBLANK(F11),ISBLANK(G11))) -> TRUE | I11: =IF(H11=FALSE,0,IF(F11>G11,1,IF(G11>F11,2,3))) -> 3 | J11: =IFERROR(IF(OR(H11=FALSE,Schedule!I11=FALSE),0,IF(AND(F11=Schedule!G11,G11=Schedule!H11),VLOOKUP(A11,SET!$B$10:$E$60,3,0),IF(I11=Schedule!J11,VLOOKUP(A11,SET!$B$10:$E$60,4,0),0))),0) -> 1
A12: 9 | B12: 44362 | C12: Group | D12: =Table_1[[#This Row],[Team1]] -> Spain | E12: =Table_1[[#This Row],[Team2]] -> Sweden | F12: 0 | G12: 2 | H12: =NOT(OR(ISBLANK(F12),ISBLANK(G12))) -> TRUE | I12: =IF(H12=FALSE,0,IF(F12>G12,1,IF(G12>F12,2,3))) -> 2 | J12: =IFERROR(IF(OR(H12=FALSE,Schedule!I12=FALSE),0,IF(AND(F12=Schedule!G12,G12=Schedule!H12),VLOOKUP(A12,SET!$B$10:$E$60,3,0),IF(I12=Schedule!J12,VLOOKUP(A12,SET!$B$10:$E$60,4,0),0))),0) -> 3
A13: 10 | B13: 44362 | C13: Group | D13: =Table_1[[#This Row],[Team1]] -> Poland | E13: =Table_1[[#This Row],[Team2]] -> Slovakia | F13: 2 | G13: 2 | H13: =NOT(OR(ISBLANK(F13),ISBLANK(G13))) -> TRUE | I13: =IF(H13=FALSE,0,IF(F13>G13,1,IF(G13>F13,2,3))) -> 3 | J13: =IFERROR(IF(OR(H13=FALSE,Schedule!I13=FALSE),0,IF(AND(F13=Schedule!G13,G13=Schedule!H13),VLOOKUP(A13,SET!$B$10:$E$60,3,0),IF(I13=Schedule!J13,VLOOKUP(A13,SET!$B$10:$E$60,4,0),0))),0) -> 0
A14: 11 | B14: 44363 | C14: Group | D14: =Table_1[[#This Row],[Team1]] -> Hungary | E14: =Table_1[[#This Row],[Team2]] -> Portugal | F14: 2 | G14: 0 | H14: =NOT(OR(ISBLANK(F14),ISBLANK(G14))) -> TRUE | I14: =IF(H14=FALSE,0,IF(F14>G14,1,IF(G14>F14,2,3))) -> 1 | J14: =IFERROR(IF(OR(H14=FALSE,Schedule!I14=FALSE),0,IF(AND(F14=Schedule!G14,G14=Schedule!H14),VLOOKUP(A14,SET!$B$10:$E$60,3,0),IF(I14=Schedule!J14,VLOOKUP(A14,SET!$B$10:$E$60,4,0),0))),0) -> 1
A15: 12 | B15: 44363 | C15: Group | D15: =Table_1[[#This Row],[Team1]] -> France | E15: =Table_1[[#This Row],[Team2]] -> Germany | F15: 0 | G15: 3 | H15: =NOT(OR(ISBLANK(F15),ISBLANK(G15))) -> TRUE | I15: =IF(H15=FALSE,0,IF(F15>G15,1,IF(G15>F15,2,3))) -> 2 | J15: =IFERROR(IF(OR(H15=FALSE,Schedule!I15=FALSE),0,IF(AND(F15=Schedule!G15,G15=Schedule!H15),VLOOKUP(A15,SET!$B$10:$E$60,3,0),IF(I15=Schedule!J15,VLOOKUP(A15,SET!$B$10:$E$60,4,0),0))),0) -> 0
... A54: 51 | B54: 44388 | C54: Final | D54: =Table_1[[#This Row],[Team1]] -> W 49 | E54: =Table_1[[#This Row],[Team2]] -> W 50 | F54: 1 | G54: 3 | H54: =NOT(OR(ISBLANK(F54),ISBLANK(G54))) -> TRUE | I54: =IF(H54=FALSE,0,IF(F54>G54,1,IF(G54>F54,2,3))) -> 2 | J54: =IFERROR(IF(OR(H54=FALSE,Schedule!I54=FALSE),0,IF(AND(F54=Schedule!G54,G54=Schedule!H54),VLOOKUP(A54,SET!$B$10:$E$60,3,0),IF(I54=Schedule!J54,VLOOKUP(A54,SET!$B$10:$E$60,4,0),0))),0) -> 0

Sheet 05
A1: {=MID(CELL("filename",A1),FIND("]",CELL("filename",A1))+1,255)} -> 05
A3: No | B3: Date | C3: Stage | D3: T1 | E3: T2 | F3: G1 | G3: G2 | H3: Match | I3: Ind | J3: Points
A4: 1 | B4: 44358 | C4: Group | D4: =Table_1[[#This Row],[Team1]] -> Turkey | E4: =Table_1[[#This Row],[Team2]] -> Italy | F4: 2 | G4: 1 | H4: =NOT(OR(ISBLANK(F4),ISBLANK(G4))) -> TRUE | I4: =IF(H4=FALSE,0,IF(F4>G4,1,IF(G4>F4,2,3))) -> 1 | J4: =IFERROR(IF(OR(H4=FALSE,Schedule!I4=FALSE),0,IF(AND(F4=Schedule!G4,G4=Schedule!H4),VLOOKUP(A4,SET!$B$10:$E$60,3,0),IF(I4=Schedule!J4,VLOOKUP(A4,SET!$B$10:$E$60,4,0),0))),0) -> 3
A5: 2 | B5: 44360 | C5: Group | D5: =Table_1[[#This Row],[Team1]] -> Wales | E5: =Table_1[[#This Row],[Team2]] -> Switzerland | F5: 1 | G5: 1 | H5: =NOT(OR(ISBLANK(F5),ISBLANK(G5))) -> TRUE | I5: =IF(H5=FALSE,0,IF(F5>G5,1,IF(G5>F5,2,3))) -> 3 | J5: =IFERROR(IF(OR(H5=FALSE,Schedule!I5=FALSE),0,IF(AND(F5=Schedule!G5,G5=Schedule!H5),VLOOKUP(A5,SET!$B$10:$E$60,3,0),IF(I5=Schedule!J5,VLOOKUP(A5,SET!$B$10:$E$60,4,0),0))),0) -> 0
A6: 3 | B6: 44360 | C6: Group | D6: =Table_1[[#This Row],[Team1]] -> Denmark | E6: =Table_1[[#This Row],[Team2]] -> Finland | F6: 3 | G6: 0 | H6: =NOT(OR(ISBLANK(F6),ISBLANK(G6))) -> TRUE | I6: =IF(H6=FALSE,0,IF(F6>G6,1,IF(G6>F6,2,3))) -> 1 | J6: =IFERROR(IF(OR(H6=FALSE,Schedule!I6=FALSE),0,IF(AND(F6=Schedule!G6,G6=Schedule!H6),VLOOKUP(A6,SET!$B$10:$E$60,3,0),IF(I6=Schedule!J6,VLOOKUP(A6,SET!$B$10:$E$60,4,0),0))),0) -> 1
A7: 4 | B7: 44360 | C7: Group | D7: =Table_1[[#This Row],[Team1]] -> Belgium | E7: =Table_1[[#This Row],[Team2]] -> Russia | F7: 3 | G7: 2 | H7: =NOT(OR(ISBLANK(F7),ISBLANK(G7))) -> TRUE | I7: =IF(H7=FALSE,0,IF(F7>G7,1,IF(G7>F7,2,3))) -> 1 | J7: =IFERROR(IF(OR(H7=FALSE,Schedule!I7=FALSE),0,IF(AND(F7=Schedule!G7,G7=Schedule!H7),VLOOKUP(A7,SET!$B$10:$E$60,3,0),IF(I7=Schedule!J7,VLOOKUP(A7,SET!$B$10:$E$60,4,0),0))),0) -> 1
A8: 5 | B8: 44361 | C8: Group | D8: =Table_1[[#This Row],[Team1]] -> Netherlands | E8: =Table_1[[#This Row],[Team2]] -> Ukraine | F8: 1 | G8: 3 | H8: =NOT(OR(ISBLANK(F8),ISBLANK(G8))) -> TRUE | I8: =IF(H8=FALSE,0,IF(F8>G8,1,IF(G8>F8,2,3))) -> 2 | J8: =IFERROR(IF(OR(H8=FALSE,Schedule!I8=FALSE),0,IF(AND(F8=Schedule!G8,G8=Schedule!H8),VLOOKUP(A8,SET!$B$10:$E$60,3,0),IF(I8=Schedule!J8,VLOOKUP(A8,SET!$B$10:$E$60,4,0),0))),0) -> 1
A9: 6 | B9: 44361 | C9: Group | D9: =Table_1[[#This Row],[Team1]] -> Austria | E9: =Table_1[[#This Row],[Team2]] -> North Macedonia | F9: 1 | G9: 0 | H9: =NOT(OR(ISBLANK(F9),ISBLANK(G9))) -> TRUE | I9: =IF(H9=FALSE,0,IF(F9>G9,1,IF(G9>F9,2,3))) -> 1 | J9: =IFERROR(IF(OR(H9=FALSE,Schedule!I9=FALSE),0,IF(AND(F9=Schedule!G9,G9=Schedule!H9),VLOOKUP(A9,SET!$B$10:$E$60,3,0),IF(I9=Schedule!J9,VLOOKUP(A9,SET!$B$10:$E$60,4,0),0))),0) -> 0
A10: 7 | B10: 44361 | C10: Group | D10: =Table_1[[#This Row],[Team1]] -> England | E10: =Table_1[[#This Row],[Team2]] -> Croatia | F10: 2 | G10: 0 | H10: =NOT(OR(ISBLANK(F10),ISBLANK(G10))) -> TRUE | I10: =IF(H10=FALSE,0,IF(F10>G10,1,IF(G10>F10,2,3))) -> 1 | J10: =IFERROR(IF(OR(H10=FALSE,Schedule!I10=FALSE),0,IF(AND(F10=Schedule!G10,G10=Schedule!H10),VLOOKUP(A10,SET!$B$10:$E$60,3,0),IF(I10=Schedule!J10,VLOOKUP(A10,SET!$B$10:$E$60,4,0),0))),0) -> 1
A11: 8 | B11: 44362 | C11: Group | D11: =Table_1[[#This Row],[Team1]] -> Scotland | E11: =Table_1[[#This Row],[Team2]] -> Czech Republic | F11: 0 | G11: 1 | H11: =NOT(OR(ISBLANK(F11),ISBLANK(G11))) -> TRUE | I11: =IF(H11=FALSE,0,IF(F11>G11,1,IF(G11>F11,2,3))) -> 2 | J11: =IFERROR(IF(OR(H11=FALSE,Schedule!I11=FALSE),0,IF(AND(F11=Schedule!G11,G11=Schedule!H11),VLOOKUP(A11,SET!$B$10:$E$60,3,0),IF(I11=Schedule!J11,VLOOKUP(A11,SET!$B$10:$E$60,4,0),0))),0) -> 0
A12: 9 | B12: 44362 | C12: Group | D12: =Table_1[[#This Row],[Team1]] -> Spain | E12: =Table_1[[#This Row],[Team2]] -> Sweden | F12: 2 | G12: 2 | H12: =NOT(OR(ISBLANK(F12),ISBLANK(G12))) -> TRUE | I12: =IF(H12=FALSE,0,IF(F12>G12,1,IF(G12>F12,2,3))) -> 3 | J12: =IFERROR(IF(OR(H12=FALSE,Schedule!I12=FALSE),0,IF(AND(F12=Schedule!G12,G12=Schedule!H12),VLOOKUP(A12,SET!$B$10:$E$60,3,0),IF(I12=Schedule!J12,VLOOKUP(A12,SET!$B$10:$E$60,4,0),0))),0) -> 0
A13: 10 | B13: 44362 | C13: Group | D13: =Table_1[[#This Row],[Team1]] -> Poland | E13: =Table_1[[#This Row],[Team2]] -> Slovakia | F13: 1 | G13: 2 | H13: =NOT(OR(ISBLANK(F13),ISBLANK(G13))) -> TRUE | I13: =IF(H13=FALSE,0,IF(F13>G13,1,IF(G13>F13,2,3))) -> 2 | J13: =IFERROR(IF(OR(H13=FALSE,Schedule!I13=FALSE),0,IF(AND(F13=Schedule!G13,G13=Schedule!H13),VLOOKUP(A13,SET!$B$10:$E$60,3,0),IF(I13=Schedule!J13,VLOOKUP(A13,SET!$B$10:$E$60,4,0),0))),0) -> 0
A14: 11 | B14: 44363 | C14: Group | D14: =Table_1[[#This Row],[Team1]] -> Hungary | E14: =Table_1[[#This Row],[Team2]] -> Portugal | F14: 0 | G14: 1 | H14: =NOT(OR(ISBLANK(F14),ISBLANK(G14))) -> TRUE | I14: =IF(H14=FALSE,0,IF(F14>G14,1,IF(G14>F14,2,3))) -> 2 | J14: =IFERROR(IF(OR(H14=FALSE,Schedule!I14=FALSE),0,IF(AND(F14=Schedule!G14,G14=Schedule!H14),VLOOKUP(A14,SET!$B$10:$E$60,3,0),IF(I14=Schedule!J14,VLOOKUP(A14,SET!$B$10:$E$60,4,0),0))),0) -> 0
A15: 12 | B15: 44363 | C15: Group | D15: =Table_1[[#This Row],[Team1]] -> France | E15: =Table_1[[#This Row],[Team2]] -> Germany | F15: 2 | G15: 3 | H15: =NOT(OR(ISBLANK(F15),ISBLANK(G15))) -> TRUE | I15: =IF(H15=FALSE,0,IF(F15>G15,1,IF(G15>F15,2,3))) -> 2 | J15: =IFERROR(IF(OR(H15=FALSE,Schedule!I15=FALSE),0,IF(AND(F15=Schedule!G15,G15=Schedule!H15),VLOOKUP(A15,SET!$B$10:$E$60,3,0),IF(I15=Schedule!J15,VLOOKUP(A15,SET!$B$10:$E$60,4,0),0))),0) -> 0
... A54: 51 | B54: 44388 | C54: Final | D54: =Table_1[[#This Row],[Team1]] -> W 49 | E54: =Table_1[[#This Row],[Team2]] -> W 50 | F54: 1 | G54: 0 | H54: =NOT(OR(ISBLANK(F54),ISBLANK(G54))) -> TRUE | I54: =IF(H54=FALSE,0,IF(F54>G54,1,IF(G54>F54,2,3))) -> 1 | J54: =IFERROR(IF(OR(H54=FALSE,Schedule!I54=FALSE),0,IF(AND(F54=Schedule!G54,G54=Schedule!H54),VLOOKUP(A54,SET!$B$10:$E$60,3,0),IF(I54=Schedule!J54,VLOOKUP(A54,SET!$B$10:$E$60,4,0),0))),0) -> 0

Sheet SET
B2: points | H2: Ind
C3: group | D3: 3 | E3: 1 | H3: 0 | I3: no match
C4: 1/8 | D4: 3 | E4: 1 | H4: 1 | I4: winner 1st
C5: 1/4 | D5: 3 | E5: 1 | H5: 2 | I5: winner 2nd
C6: 1/2 | D6: 3 | E6: 1 | H6: 3 | I6: draw
C7: Final | D7: 3 | E7: 1
B9: Match | C9: Stage | D9: exact | E9: porcial
B10: 1 | C10: group | D10: =INDEX($D$3:$E$7,MATCH(C10,$C$3:$C$7,0),1) -> 3 | E10: =INDEX($D$3:$E$7,MATCH(C10,$C$3:$C$7,0),2) -> 1
B11: 2 | C11: group | D11: =INDEX($D$3:$E$7,MATCH(C11,$C$3:$C$7,0),1) -> 3 | E11: =INDEX($D$3:$E$7,MATCH(C11,$C$3:$C$7,0),2) -> 1
B12: 3 | C12: group | D12: =INDEX($D$3:$E$7,MATCH(C12,$C$3:$C$7,0),1) -> 3 | E12: =INDEX($D$3:$E$7,MATCH(C12,$C$3:$C$7,0),2) -> 1
B13: 4 | C13: group | D13: =INDEX($D$3:$E$7,MATCH(C13,$C$3:$C$7,0),1) -> 3 | E13: =INDEX($D$3:$E$7,MATCH(C13,$C$3:$C$7,0),2) -> 1
B14: 5 | C14: group | D14: =INDEX($D$3:$E$7,MATCH(C14,$C$3:$C$7,0),1) -> 3 | E14: =INDEX($D$3:$E$7,MATCH(C14,$C$3:$C$7,0),2) -> 1
B15: 6 | C15: group | D15: =INDEX($D$3:$E$7,MATCH(C15,$C$3:$C$7,0),1) -> 3 | E15: =INDEX($D$3:$E$7,MATCH(C15,$C$3:$C$7,0),2) -> 1
B16: 7 | C16: group | D16: =INDEX($D$3:$E$7,MATCH(C16,$C$3:$C$7,0),1) -> 3 | E16: =INDEX($D$3:$E$7,MATCH(C16,$C$3:$C$7,0),2) -> 1
B17: 8 | C17: group | D17: =INDEX($D$3:$E$7,MATCH(C17,$C$3:$C$7,0),1) -> 3 | E17: =INDEX($D$3:$E$7,MATCH(C17,$C$3:$C$7,0),2) -> 1
B18: 9 | C18: group | D18: =INDEX($D$3:$E$7,MATCH(C18,$C$3:$C$7,0),1) -> 3 | E18: =INDEX($D$3:$E$7,MATCH(C18,$C$3:$C$7,0),2) -> 1
B19: 10 | C19: group | D19: =INDEX($D$3:$E$7,MATCH(C19,$C$3:$C$7,0),1) -> 3 | E19: =INDEX($D$3:$E$7,MATCH(C19,$C$3:$C$7,0),2) -> 1
B20: 11 | C20: group | D20: =INDEX($D$3:$E$7,MATCH(C20,$C$3:$C$7,0),1) -> 3 | E20: =INDEX($D$3:$E$7,MATCH(C20,$C$3:$C$7,0),2) -> 1
B21: 12 | C21: group | D21: =INDEX($D$3:$E$7,MATCH(C21,$C$3:$C$7,0),1) -> 3 | E21: =INDEX($D$3:$E$7,MATCH(C21,$C$3:$C$7,0),2) -> 1
... B60: 51 | C60: Final | D60: =INDEX($D$3:$E$7,MATCH(C60,$C$3:$C$7,0),1) -> 3 | E60: =INDEX($D$3:$E$7,MATCH(C60,$C$3:$C$7,0),2) -> 1
