Workbook
Name Deductions_ENG: Calculator!$D$15:$D$16
Name extraNic: SET!$K$3
Name Full_Table: SET!$B$2:$J$16
Name hours: Calculator!$G$4
Name hours_list: SET!$B$21:$B$31
Name hours_rng: SET!$A$17:$B$19
Name NIC: Calculator!$D$16
Name offset_ENG: OFFSET(Calculator!$C$15,0,SET!$C$19,3,1)
Name PA_ENG: Calculator!$D$10
Name period: SET!$C$21:$C$25
Name Rest_of_the_table: SET!$B$4:$K$17
Name salary_ENG: Calculator!$C$4
Name selected_year: Calculator!$E$4
Name table_part: SET!$B$4:$J$17
Name tax: Calculator!$D$15
Name taxable: Calculator!$D$11
Name years: SET!$B$4:$B$17

Sheet Calculator
A1: 44348
C3: Gross Annual Income | E3: Select Tax Year | G3: Hours a Day
C4: 45000 | E4: =INDEX(years,SET!B1,1) -> 2022 - 23 | G4: =INDEX(hours_list,SET!B19,1) -> 8
C6: ="England & NI Salary Calculator "&selected_year -> England & NI Salary Calculator 2022 - 23
C8: Earnings Summary | D8: Yearly | E8: Monthly | F8: Weekly | G8: Daily | H8: Hourly
C9: Gross Income | D9: =salary_ENG -> 45000 | E9: =D9/12 -> 3750 | F9: =D9/365*7 -> 863.0137 | G9: =F9/5 -> 172.60274 | H9: =G9/hours -> 21.575342
C10: Personal Allowance | D10: =IF(salary_ENG>125000,0,IF(salary_ENG>100000,(SET!C3)-(salary_ENG-100000)/2,IF(salary_ENG>SET!C3,SET!C3,salary_ENG))) -> 12570 | E10: =D10/12 -> 1047.5 | F10: =D10/365*7 -> 241.06849 | G10: =F10/5 -> 48.213699 | H10: =G10/hours -> 6.0267123
C11: Taxable Income | D11: =D9-D10 -> 32430 | E11: =E9-E10 -> 2702.5 | F11: =F9-F10 -> 621.94521 | G11: =G9-G10 -> 124.38904 | H11: =G11/hours -> 15.54863
C12: Tax on 20% | D12: =IF(salary_ENG>SET!D3,(SET!D3-SET!C3)*20%,IF(salary_ENG>SET!C3,(salary_ENG-SET!C3)*20%,0)) -> 6486 | E12: =D12/12 -> 540.5 | F12: =D12/365*7 -> 124.38904 | G12: =F12/5 -> 24.877808 | H12: =G12/hours -> 3.109726
C13: Tax on 40% | D13: =IF(salary_ENG>SET!E3,(SET!E3-SET!D3+SET!C3)*40%,IF(salary_ENG>SET!D3,(salary_ENG-SET!D3-PA_ENG+SET!C3)*40%,0)) -> 0 | E13: =D13/12 -> 0 | F13: =D13/365*7 -> 0 | G13: =F13/5 -> 0 | H13: =G13/hours -> 0
C14: ="Tax on "&SET!F3*100&"%" -> Tax on 45% | D14: =IF(salary_ENG>SET!E3,(salary_ENG-SET!E3)*SET!F3,0) -> 0 | E14: =D14/12 -> 0 | F14: =D14/365*7 -> 0 | G14: =F14/5 -> 0 | H14: =G14/hours -> 0
C15: Income Tax Due | D15: =D12+D13+D14 -> 6486 | E15: =E12+E13+E14 -> 540.5 | F15: =F12+F13+F14 -> 124.38904 | G15: =G12+G13+G14 -> 24.877808 | H15: =H12+H13+H14 -> 3.109726
C16: National Insurance Contribution | D16: =IF(salary_ENG<=VLOOKUP(selected_year,Rest_of_the_table,8,FALSE),0,IF(salary_ENG<=VLOOKUP(selected_year,Rest_of_the_table,9,FALSE),(salary_ENG-VLOOKUP(selected_year,Rest_of_the_table,8,FALSE))*(12%+extraNic),(VLOOKUP(selected_year,Rest_of_the_table,9,FALSE)-VLOOKUP(selected_year,Rest_of_the_table,8,FALSE))*(12%+extraNic)+(salary_ENG-VLOOKUP(selected_year,Rest_of_the_table,9,FALSE))*(2%+extraNic))) -> 4653.4 | E16: =D16/12 -> 387.78333 | F16: =D16/365*7 -> 89.243288 | G16: =F16/5 -> 17.848658 | H16: =G16/hours -> 2.2310822
C17: Net Income | D17: =salary_ENG-SUM(Deductions_ENG) -> 33860.6 | E17: =D17/12 -> 2821.7167 | F17: =D17/365*7 -> 649.38137 | G17: =F17/5 -> 129.87627 | H17: =G17/hours -> 16.234534
H37: www.eexcel.co.uk
C39: The contents do not constitute legal advice, are not intended to be a substitute for legal advice and should not be relied upon as such.
C40: You should seek legal advice or other professional advice in relation to any particular matters you or your organisation may have.

Sheet SET
A1: 44077 | B1: 1
B2: Tax year | C2: Personal Allowance | D2: Basic rate tax limit | E2: Higher rate tax limit | F2: Additional rate | G2: max basic tax | H2: max higher tax | I2: Primary Thresholt | J2: Upper Accrual Point | K2: additional rate of NIC
B3: =selected_year -> 2022 - 23 | C3: =VLOOKUP(selected_year,Rest_of_the_table,COLUMN()-1,FALSE) -> 12570 | D3: =VLOOKUP(selected_year,Rest_of_the_table,COLUMN()-1,FALSE) -> 50270 | E3: =VLOOKUP(selected_year,Rest_of_the_table,COLUMN()-1,FALSE) -> 150000 | F3: =VLOOKUP(selected_year,Rest_of_the_table,COLUMN()-1,FALSE) -> 0.45 | G3: =VLOOKUP(selected_year,Rest_of_the_table,COLUMN()-1,FALSE) -> 10054 | H3: =VLOOKUP(selected_year,Rest_of_the_table,COLUMN()-1,FALSE) -> 49946 | I3: =VLOOKUP(selected_year,Rest_of_the_table,COLUMN()-1,FALSE) -> 9880 | J3: =VLOOKUP(selected_year,Rest_of_the_table,COLUMN()-1,FALSE) -> 50270 | K3: =VLOOKUP(selected_year,Rest_of_the_table,COLUMN()-1,FALSE) -> 0.0125
B4: 2022 - 23 | C4: 12570 | D4: 50270 | E4: 150000 | F4: 0.45 | G4: =(D4)*0.2 -> 10054 | H4: =(E4-D4)*0.4+G4+IF(Calculator!salary_ENG>150000,0.45*(Calculator!salary_ENG-150000),0) -> 49946 | I4: =52*190 -> 9880 | J4: =50270 -> 50270 | K4: 0.0125
B5: 2021 - 22 | C5: 12570 | D5: 50270 | E5: 150000 | F5: 0.45 | G5: =(D5)*0.2 -> 10054 | H5: =(E5-D5)*0.4+G5 -> 49946 | I5: =52*184 -> 9568 | J5: =967*52 -> 50284 | K5: 0
B6: 2020 - 21 | C6: 12500 | D6: 50000 | E6: 150000 | F6: 0.45 | G6: =(D6)*0.2 -> 10000 | H6: =(E6-D6)*0.4+G6 -> 50000 | I6: =52*183 -> 9516 | J6: =962*52 -> 50024 | K6: 0
B7: 2019 - 20 | C7: 12500 | D7: 50000 | E7: 150000 | F7: 0.45 | G7: =(D7)*0.2 -> 10000 | H7: =(E7-D7)*0.4+G7 -> 50000 | I7: =52*166 -> 8632 | J7: =962*52 -> 50024 | K7: 0
B8: 2018 - 19 | C8: 11850 | D8: 34500 | E8: 150000 | F8: 0.45 | G8: =(D8)*0.2 -> 6900 | H8: =(E8-D8)*0.4+G8 -> 53100 | I8: =52*162 -> 8424 | J8: =892*52 -> 46384 | K8: 0
B9: 2017 - 18 | C9: 11500 | D9: 33500 | E9: 150000 | F9: 0.45 | G9: =(D9)*0.2 -> 6700 | H9: =(E9-D9)*0.4+G9 -> 53300 | I9: =52*157 -> 8164 | J9: =866*52 -> 45032 | K9: 0
B10: 2016 - 17 | C10: 11000 | D10: 32000 | E10: 150000 | F10: 0.45 | G10: =(D10)*0.2 -> 6400 | H10: =(E10-D10)*0.4+G10 -> 53600 | I10: =52*155 -> 8060 | J10: =827*52 -> 43004 | K10: 0
B11: 2015 - 16 | C11: 10600 | D11: 31785 | E11: 150000 | F11: 0.45 | G11: =(D11)*0.2 -> 6357 | H11: =(E11-D11)*0.4+G11 -> 53643 | I11: =52*155 -> 8060 | J11: =815*52 -> 42380 | K11: 0
B12: 2014 - 15 | C12: 10000 | D12: 31865 | E12: 150000 | F12: 0.45 | G12: =(D12)*0.2 -> 6373 | H12: =(E12-D12)*0.4+G12 -> 53627 | I12: =52*153 -> 7956 | J12: 41865 | K12: 0
B13: 2013 - 14 | C13: 9440 | D13: 32010 | E13: 150000 | F13: 0.45 | G13: =(D13)*0.2 -> 6402 | H13: =(E13-D13)*0.4+G13 -> 53598 | I13: 7755 | J13: 40040 | K13: 0
B14: 2012 - 13 | C14: 8105 | D14: =34370 -> 34370 | E14: 150000 | F14: 0.5 | G14: =(D14)*0.2 -> 6874 | H14: =(E14-D14)*0.4+G14 -> 53126 | I14: 7605 | J14: 40040 | K14: 0
B15: 2011 - 12 | C15: 7475 | D15: 35000 | E15: 150000 | F15: 0.5 | G15: =(D15)*0.2 -> 7000 | H15: =(E15-D15)*0.4+G15 -> 53000 | I15: 6500 | J15: 40040 | K15: 0
B16: 2010 - 11 | C16: 6475 | D16: 37400 | E16: 150000 | F16: 0.5 | G16: =(D16)*0.2 -> 7480 | H16: =(E16-D16)*0.4+G16 -> 52520 | I16: 5715 | J16: 40040 | K16: 0
B17: 2009 - 10 | C17: 6475 | D17: 37400 | E17: 150000 | F17: 0.4 | G17: =(D17)*0.2 -> 7480 | H17: =(E17-D17)*0.4+G17 -> 52520 | I17: 5500 | J17: 40040 | K17: 0
B19: 9 | C19: 4
B20: Hours | C20: Period
B21: 4 | C21: {=TRANSPOSE(Calculator!D8:H8)} -> Yearly
B22: 4.5 | C22: Monthly
B23: 5 | C23: Weekly
B24: 5.5 | C24: Daily
B25: 6 | C25: Hourly
B26: 6.5
B27: 7
B28: 7.5
B29: 8
B30: 8.5
B31: 9
